Workbook
Name _30_Ülekantavad_vahendid: #REF!
Name Aadress: #REF!
Name Aadress: #REF!
Name aadress_asukoha_analüüs: #REF!
Name aadress_asukoha_analüüs: #REF!
Name aadress_asukohahinnang: #REF!
Name aadress_asukohahinnang: #REF!
Name aasta: #REF!
Name aeg: OFFSET('[1]Graafiku jaoks'!$B$1,0,'[1]Graafiku jaoks'!$D$17,1,'[1]Graafiku jaoks'!$D$20)
Name alge: OFFSET('[1]Graafiku jaoks'!$B$3,0,'[1]Graafiku jaoks'!$D$17,1,'[1]Graafiku jaoks'!$D$20)
Name ALL: #REF!
Name andmed: [2]hinnad!$F$3:$BQ$32
Name andmed: [3]hinnad!$F$3:$BQ$32
Name andmed_kogemus: [2]arendaja_haldaja_kogemus!$B$2:$P$16
Name andmed_kogemus: [3]arendaja_haldaja_kogemus!$B$2:$P$16
Name andmed_ruumide_sobivus: [2]üürniku_hinnangud!$F$2:$L$31
Name andmed_ruumide_sobivus: [3]üürniku_hinnangud!$F$2:$L$31
Name bilanss: #REF!
Name brutopind: #REF!
Name brutopind: [4]eelarve!$F$9
Name disk.määr: [2]algandmed!$B$1
Name disk.määr: [3]algandmed!$B$1
Name eel_1: OFFSET(#REF!,1,0,1,#REF!)
Name eel_2: OFFSET(#REF!,30,0,1,#REF!)
Name eel_3: OFFSET(#REF!,60,0,1,#REF!)
Name eel_4: OFFSET(#REF!,88,0,1,#REF!)
Name eelarve: #REF!
Name eelarve_kokku: #REF!
Name eelarve_kokku: [4]eelarve!$F$7
Name erikülgsednurkterased: #REF!
Name erikülgsednurkterased140: #REF!
Name erikülgsednurkterased70: #REF!
Name Etapp: #REF!
Name Etapp: #REF!
Name fi: #REF!
Name fiboseinad: #REF!
Name haldur: #REF!
Name HEA: #REF!
Name HEB: #REF!
Name hind: [5]platsikulud!$C$2
Name hinnang_asukoha_analüüs: #REF!
Name hüvitamine: #REF!
Name IPE: #REF!
Name Jum_osa: #REF!
Name karkass: #REF!
Name karkassilisa: #REF!
Name katus: #REF!
Name kehtiv_IRR: [6]MUDEL!$BA$1
Name kestvus: [5]platsikulud!$C$3
Name kestvus2: [5]platsikulud!$G$7
Name Kinnistu: #REF!
Name Kinnistud: #REF!
Name kipsilisa: #REF!
Name kipsvaheseinad: #REF!
Name kogu_eelarve_ületamine: #REF!
Name kood: #REF!
Name kor_1: OFFSET('[1]Graafiku jaoks'!$B$4,0,'[1]Graafiku jaoks'!$D$17,1,'[1]Graafiku jaoks'!$D$20)
Name kor_2: OFFSET('[1]Graafiku jaoks'!$B$5,0,'[1]Graafiku jaoks'!$D$17,1,'[1]Graafiku jaoks'!$D$20)
Name kor_3: OFFSET('[1]Graafiku jaoks'!$B$6,0,'[1]Graafiku jaoks'!$D$17,1,'[1]Graafiku jaoks'!$D$20)
Name kor_4: OFFSET('[1]Graafiku jaoks'!$B$7,0,'[1]Graafiku jaoks'!$D$17,1,'[1]Graafiku jaoks'!$D$20)

Sheet Lisa 6.1 Lisa 1 Parendustööd
D1: Lisa nr 1 | N1: Jaotus
D2: Üürilepingu nr KPJ-4/2026-70 lisale nr 6.1
B4: Tööde loetelu ja eeldatav maksumus - "Haapsalu kohtumaja (Sadama tn 21, Haapsalu) rekonstrueerimine" | F4: =IF(INDEX('Lisa 6.1 Lisa 2 Sisustus'!$A:$CE,7,MATCH("Osakaal",'Lisa 6.1 Lisa 2 Sisustus'!$6:$6,0))=0,"",INDEX('Lisa 6.1 Lisa 2 Sisustus'!$A:$CE,7,MATCH("Osakaal",'Lisa 6.1 Lisa 2 Sisustus'!$6:$6,0))) -> 0.0092228362 | G4: =IF(INDEX('Lisa 6.1 Lisa 2 Sisustus'!$A:$CE,8,MATCH("Osakaal",'Lisa 6.1 Lisa 2 Sisustus'!$6:$6,0))=0,"",INDEX('Lisa 6.1 Lisa 2 Sisustus'!$A:$CE,8,MATCH("Osakaal",'Lisa 6.1 Lisa 2 Sisustus'!$6:$6,0))) -> 0.087641876 | H4: =IF(INDEX('Lisa 6.1 Lisa 2 Sisustus'!$A:$CE,9,MATCH("Osakaal",'Lisa 6.1 Lisa 2 Sisustus'!$6:$6,0))=0,"",INDEX('Lisa 6.1 Lisa 2 Sisustus'!$A:$CE,9,MATCH("Osakaal",'Lisa 6.1 Lisa 2 Sisustus'!$6:$6,0))) -> 0.057562318 | I4: =IF(INDEX('Lisa 6.1 Lisa 2 Sisustus'!$A:$CE,10,MATCH("Osakaal",'Lisa 6.1 Lisa 2 Sisustus'!$6:$6,0))=0,"",INDEX('Lisa 6.1 Lisa 2 Sisustus'!$A:$CE,10,MATCH("Osakaal",'Lisa 6.1 Lisa 2 Sisustus'!$6:$6,0))) -> 0.080717085 | J4: =IF(INDEX('Lisa 6.1 Lisa 2 Sisustus'!$A:$CE,11,MATCH("Osakaal",'Lisa 6.1 Lisa 2 Sisustus'!$6:$6,0))=0,"",INDEX('Lisa 6.1 Lisa 2 Sisustus'!$A:$CE,11,MATCH("Osakaal",'Lisa 6.1 Lisa 2 Sisustus'!$6:$6,0))) -> 0.042015143 | K4: =IF(INDEX('Lisa 6.1 Lisa 2 Sisustus'!$A:$CE,12,MATCH("Osakaal",'Lisa 6.1 Lisa 2 Sisustus'!$6:$6,0))=0,"",INDEX('Lisa 6.1 Lisa 2 Sisustus'!$A:$CE,12,MATCH("Osakaal",'Lisa 6.1 Lisa 2 Sisustus'!$6:$6,0))) -> 0.065604523 | L4: =IF(INDEX('Lisa 6.1 Lisa 2 Sisustus'!$A:$CE,13,MATCH("Osakaal",'Lisa 6.1 Lisa 2 Sisustus'!$6:$6,0))=0,"",INDEX('Lisa 6.1 Lisa 2 Sisustus'!$A:$CE,13,MATCH("Osakaal",'Lisa 6.1 Lisa 2 Sisustus'!$6:$6,0))) -> 0.65723622 | M4: =IF(INDEX('Lisa 6.1 Lisa 2 Sisustus'!$A:$CE,14,MATCH("Osakaal",'Lisa 6.1 Lisa 2 Sisustus'!$6:$6,0))=0,"",INDEX('Lisa 6.1 Lisa 2 Sisustus'!$A:$CE,14,MATCH("Osakaal",'Lisa 6.1 Lisa 2 Sisustus'!$6:$6,0)))
B6: Jrk nr | C6: Töö nimetus | D6: Eeldatav maksumus, EUR, km-ta | E6: Kontroll | F6: =INDEX('Lisa 6.1 Lisa 2 Sisustus'!$A:$CE,7,MATCH("Üürnik",'Lisa 6.1 Lisa 2 Sisustus'!$6:$6,0)) -> Tööinspektsioon | G6: =INDEX('Lisa 6.1 Lisa 2 Sisustus'!$A:$CE,8,MATCH("Üürnik",'Lisa 6.1 Lisa 2 Sisustus'!$6:$6,0)) -> Maksu- ja Tolliamet | H6: =INDEX('Lisa 6.1 Lisa 2 Sisustus'!$A:$CE,9,MATCH("Üürnik",'Lisa 6.1 Lisa 2 Sisustus'!$6:$6,0)) -> Sotsiaalkindlustusamet | I6: =INDEX('Lisa 6.1 Lisa 2 Sisustus'!$A:$CE,10,MATCH("Üürnik",'Lisa 6.1 Lisa 2 Sisustus'!$6:$6,0)) -> Haridus- ja Noorteamet | J6: =INDEX('Lisa 6.1 Lisa 2 Sisustus'!$A:$CE,11,MATCH("Üürnik",'Lisa 6.1 Lisa 2 Sisustus'!$6:$6,0)) -> Tallinna Vangla | K6: =INDEX('Lisa 6.1 Lisa 2 Sisustus'!$A:$CE,12,MATCH("Üürnik",'Lisa 6.1 Lisa 2 Sisustus'!$6:$6,0)) -> PROKURATUUR | L6: =INDEX('Lisa 6.1 Lisa 2 Sisustus'!$A:$CE,13,MATCH("Üürnik",'Lisa 6.1 Lisa 2 Sisustus'!$6:$6,0)) -> PÄRNU MAAKOHUS | M6: =INDEX('Lisa 6.1 Lisa 2 Sisustus'!$A:$CE,14,MATCH("Üürnik",'Lisa 6.1 Lisa 2 Sisustus'!$6:$6,0)) -> Aktiivne vakantsus
B7: ARENDUSTEGEVUS | D7: =SUM(D8+D10+D19+D21) -> 356505 | E7: =IFERROR(SUM(D7)-SUM(F7:M7),"") -> -1.1641532e-10 | F7: =SUM(F8+F10+F19+F21) -> 3287.9872 | G7: =SUM(G8+G10+G19+G21) -> 31244.767 | H7: =SUM(H8+H10+H19+H21) -> 20521.254 | I7: =SUM(I8+I10+I19+I21) -> 28776.045 | J7: =SUM(J8+J10+J19+J21) -> 14978.608 | K7: =SUM(K8+K10+K19+K21) -> 23388.341 | L7: =SUM(L8+L10+L19+L21) -> 234308 | M7: =SUM(M8+M10+M19+M21) -> 0
B8: 1 | C8: Kinnisvara omandamise ja väärtustamise kulud | D8: =SUM(D9:D9) -> 0 | E8: =IFERROR(SUM(D8)-SUM(F8:M8),"") -> 0 | F8: =SUM(F9:F9) -> 0 | G8: =SUM(G9:G9) -> 0 | H8: =SUM(H9:H9) -> 0 | I8: =SUM(I9:I9) -> 0 | J8: =SUM(J9:J9) -> 0 | K8: =SUM(K9:K9) -> 0 | L8: =SUM(L9:L9) -> 0 | M8: =SUM(M9:M9) -> 0
B9: 1.1. | D9: - | E9: =IFERROR(SUM(D9)-SUM(F9:M9),"") -> 0 | F9: =IFERROR($D9*F$4,0) -> 0 | G9: =IFERROR($D9*G$4,0) -> 0 | H9: =IFERROR($D9*H$4,0) -> 0 | I9: =IFERROR($D9*I$4,0) -> 0 | J9: =IFERROR($D9*J$4,0) -> 0 | K9: =IFERROR($D9*K$4,0) -> 0 | L9: =IFERROR($D9*L$4,0) -> 0 | M9: =IFERROR($D9*M$4,0) -> 0
B10: 2 | C10: Tellija muud arendusaegsed kulud; va intress | D10: =SUM(D11:D18) -> 97505 | E10: =IFERROR(SUM(D10)-SUM(F10:M10),"") -> -2.910383e-11 | F10: =SUM(F11:F18) -> 899.27264 | G10: =SUM(G11:G18) -> 8545.5211 | H10: =SUM(H11:H18) -> 5612.6138 | I10: =SUM(I11:I18) -> 7870.3194 | J10: =SUM(J11:J18) -> 4096.6865 | K10: =SUM(K11:K18) -> 6396.7691 | L10: =SUM(L11:L18) -> 64083.818 | M10: =SUM(M11:M18) -> 0
B11: 2.1. | C11: Omanikujärelevalve | D11: 67500 | E11: =IFERROR(SUM(D11)-SUM(F11:M11),"") -> -2.910383e-11 | F11: =IFERROR($D11*F$4,0) -> 622.54144 | G11: =IFERROR($D11*G$4,0) -> 5915.8266 | H11: =IFERROR($D11*H$4,0) -> 3885.4565 | I11: =IFERROR($D11*I$4,0) -> 5448.4033 | J11: =IFERROR($D11*J$4,0) -> 2836.0221 | K11: =IFERROR($D11*K$4,0) -> 4428.3053 | L11: =IFERROR($D11*L$4,0) -> 44363.445 | M11: =IFERROR($D11*M$4,0) -> 0
B12: 2.2. | C12: Lubade taotlemisega seotud kulud | D12: - | E12: =IFERROR(SUM(D12)-SUM(F12:M12),"") -> 0 | F12: =IFERROR($D12*F$4,0) -> 0 | G12: =IFERROR($D12*G$4,0) -> 0 | H12: =IFERROR($D12*H$4,0) -> 0 | I12: =IFERROR($D12*I$4,0) -> 0 | J12: =IFERROR($D12*J$4,0) -> 0 | K12: =IFERROR($D12*K$4,0) -> 0 | L12: =IFERROR($D12*L$4,0) -> 0 | M12: =IFERROR($D12*M$4,0) -> 0
B13: 2.3. | C13: Muud kontrorikulud | D13: - | E13: =IFERROR(SUM(D13)-SUM(F13:M13),"") -> 0 | F13: =IFERROR($D13*F$4,0) -> 0 | G13: =IFERROR($D13*G$4,0) -> 0 | H13: =IFERROR($D13*H$4,0) -> 0 | I13: =IFERROR($D13*I$4,0) -> 0 | J13: =IFERROR($D13*J$4,0) -> 0 | K13: =IFERROR($D13*K$4,0) -> 0 | L13: =IFERROR($D13*L$4,0) -> 0 | M13: =IFERROR($D13*M$4,0) -> 0
B14: 2.4. | C14: Ekspertiisid, konsultatsioonid, mõõtmised jne | D14: 30005 | E14: =IFERROR(SUM(D14)-SUM(F14:M14),"") -> -7.2759576e-12 | F14: =IFERROR($D14*F$4,0) -> 276.7312 | G14: =IFERROR($D14*G$4,0) -> 2629.6945 | H14: =IFERROR($D14*H$4,0) -> 1727.1574 | I14: =IFERROR($D14*I$4,0) -> 2421.9161 | J14: =IFERROR($D14*J$4,0) -> 1260.6644 | K14: =IFERROR($D14*K$4,0) -> 1968.4637 | L14: =IFERROR($D14*L$4,0) -> 19720.373 | M14: =IFERROR($D14*M$4,0) -> 0
B15: 2.5. | C15: Ehitusaegne kindlustus | D15: - | E15: =IFERROR(SUM(D15)-SUM(F15:M15),"") -> 0 | F15: =IFERROR($D15*F$4,0) -> 0 | G15: =IFERROR($D15*G$4,0) -> 0 | H15: =IFERROR($D15*H$4,0) -> 0 | I15: =IFERROR($D15*I$4,0) -> 0 | J15: =IFERROR($D15*J$4,0) -> 0 | K15: =IFERROR($D15*K$4,0) -> 0 | L15: =IFERROR($D15*L$4,0) -> 0 | M15: =IFERROR($D15*M$4,0) -> 0
B16: 2.6. | C16: Kulud seoses ehitustööde katkemisega | D16: - | E16: =IFERROR(SUM(D16)-SUM(F16:M16),"") -> 0 | F16: =IFERROR($D16*F$4,0) -> 0 | G16: =IFERROR($D16*G$4,0) -> 0 | H16: =IFERROR($D16*H$4,0) -> 0 | I16: =IFERROR($D16*I$4,0) -> 0 | J16: =IFERROR($D16*J$4,0) -> 0 | K16: =IFERROR($D16*K$4,0) -> 0 | L16: =IFERROR($D16*L$4,0) -> 0 | M16: =IFERROR($D16*M$4,0) -> 0
B17: 2.7. | C17: Juriidiline nõustamine | D17: - | E17: =IFERROR(SUM(D17)-SUM(F17:M17),"") -> 0 | F17: =IFERROR($D17*F$4,0) -> 0 | G17: =IFERROR($D17*G$4,0) -> 0 | H17: =IFERROR($D17*H$4,0) -> 0 | I17: =IFERROR($D17*I$4,0) -> 0 | J17: =IFERROR($D17*J$4,0) -> 0 | K17: =IFERROR($D17*K$4,0) -> 0 | L17: =IFERROR($D17*L$4,0) -> 0 | M17: =IFERROR($D17*M$4,0) -> 0
B18: 2.8. | C18: Muud tellija ehitusaegsed kulud | D18: - | E18: =IFERROR(SUM(D18)-SUM(F18:M18),"") -> 0 | F18: =IFERROR($D18*F$4,0) -> 0 | G18: =IFERROR($D18*G$4,0) -> 0 | H18: =IFERROR($D18*H$4,0) -> 0 | I18: =IFERROR($D18*I$4,0) -> 0 | J18: =IFERROR($D18*J$4,0) -> 0 | K18: =IFERROR($D18*K$4,0) -> 0 | L18: =IFERROR($D18*L$4,0) -> 0 | M18: =IFERROR($D18*M$4,0) -> 0
B19: 3 | C19: Liitumised | D19: =SUM(D20:D20) -> 130000 | E19: =IFERROR(SUM(D19)-SUM(F19:M19),"") -> -4.3655746e-11 | F19: =SUM(F20:F20) -> 1198.9687 | G19: =SUM(G20:G20) -> 11393.444 | H19: =SUM(H20:H20) -> 7483.1014 | I19: =SUM(I20:I20) -> 10493.221 | J19: =SUM(J20:J20) -> 5461.9685 | K19: =SUM(K20:K20) -> 8528.5881 | L19: =SUM(L20:L20) -> 85440.708 | M19: =SUM(M20:M20) -> 0
B20: 3.3. | C20: Kütte liitumine | D20: 130000 | E20: =IFERROR(SUM(D20)-SUM(F20:M20),"") -> -4.3655746e-11 | F20: =IFERROR($D20*F$4,0) -> 1198.9687 | G20: =IFERROR($D20*G$4,0) -> 11393.444 | H20: =IFERROR($D20*H$4,0) -> 7483.1014 | I20: =IFERROR($D20*I$4,0) -> 10493.221 | J20: =IFERROR($D20*J$4,0) -> 5461.9685 | K20: =IFERROR($D20*K$4,0) -> 8528.5881 | L20: =IFERROR($D20*L$4,0) -> 85440.708 | M20: =IFERROR($D20*M$4,0) -> 0
B21: 4 | C21: Projektijuhtimise otsesed kulud | D21: =SUM(D22) -> 129000 | E21: =IFERROR(SUM(D21)-SUM(F21:M21),"") -> -4.3655746e-11 | F21: =SUM(F22) -> 1189.7459 | G21: =SUM(G22) -> 11305.802 | H21: =SUM(H22) -> 7425.5391 | I21: =SUM(I22) -> 10412.504 | J21: =SUM(J22) -> 5419.9534 | K21: =SUM(K22) -> 8462.9835 | L21: =SUM(L22) -> 84783.472 | M21: =SUM(M22) -> 0
B22: 4.1. | C22: Projektmeeskonna ehitusaegne kulu | D22: 129000 | E22: =IFERROR(SUM(D22)-SUM(F22:M22),"") -> -4.3655746e-11 | F22: =IFERROR($D22*F$4,0) -> 1189.7459 | G22: =IFERROR($D22*G$4,0) -> 11305.802 | H22: =IFERROR($D22*H$4,0) -> 7425.5391 | I22: =IFERROR($D22*I$4,0) -> 10412.504 | J22: =IFERROR($D22*J$4,0) -> 5419.9534 | K22: =IFERROR($D22*K$4,0) -> 8462.9835 | L22: =IFERROR($D22*L$4,0) -> 84783.472 | M22: =IFERROR($D22*M$4,0) -> 0
B23: EHITAMINE | D23: =SUM(D24,D30) -> 4584350 | E23: =IFERROR(SUM(D23)-SUM(F23:M23),"") -> -1.8626451e-09 | F23: =SUM(F24+F30) -> 42280.709 | G23: =SUM(G24+G30) -> 401781.03 | H23: =SUM(H24+H30) -> 263885.81 | I23: =SUM(I24+I30) -> 370035.37 | J23: =SUM(J24+J30) -> 192612.12 | K23: =SUM(K24+K30) -> 300754.1 | L23: =SUM(L24+L30) -> 3013000.9 | M23: =SUM(M24+M30) -> 0
B24: 5 | C24: Projekteerimine ja uuringud | D24: =SUM(D25:D29) -> 281350 | E24: =IFERROR(SUM(D24)-SUM(F24:M24),"") -> -1.1641532e-10 | F24: =SUM(F25:F29) -> 2594.845 | G24: =SUM(G25:G29) -> 24658.042 | H24: =SUM(H25:H29) -> 16195.158 | I24: =SUM(I25:I29) -> 22709.752 | J24: =SUM(J25:J29) -> 11820.96 | K24: =SUM(K25:K29) -> 18457.833 | L24: =SUM(L25:L29) -> 184913.41 | M24: =SUM(M25:M29) -> 0
B25: 5.1. | C25: Eskiisi koostamine | D25: 45000 | E25: =IFERROR(SUM(D25)-SUM(F25:M25),"") -> -1.4551915e-11 | F25: =IFERROR($D25*F$4,0) -> 415.02763 | G25: =IFERROR($D25*G$4,0) -> 3943.8844 | H25: =IFERROR($D25*H$4,0) -> 2590.3043 | I25: =IFERROR($D25*I$4,0) -> 3632.2688 | J25: =IFERROR($D25*J$4,0) -> 1890.6814 | K25: =IFERROR($D25*K$4,0) -> 2952.2036 | L25: =IFERROR($D25*L$4,0) -> 29575.63 | M25: =IFERROR($D25*M$4,0) -> 0
B26: 5.2. | C26: Eelprojekti koostamine | D26: 60000 | E26: =IFERROR(SUM(D26)-SUM(F26:M26),"") -> -1.4551915e-11 | F26: =IFERROR($D26*F$4,0) -> 553.37017 | G26: =IFERROR($D26*G$4,0) -> 5258.5125 | H26: =IFERROR($D26*H$4,0) -> 3453.7391 | I26: =IFERROR($D26*I$4,0) -> 4843.0251 | J26: =IFERROR($D26*J$4,0) -> 2520.9086 | K26: =IFERROR($D26*K$4,0) -> 3936.2714 | L26: =IFERROR($D26*L$4,0) -> 39434.173 | M26: =IFERROR($D26*M$4,0) -> 0
B27: 5.3. | C27: Põhiprojekti koostamine | D27: 95000 | E27: =IFERROR(SUM(D27)-SUM(F27:M27),"") -> -2.910383e-11 | F27: =IFERROR($D27*F$4,0) -> 876.16944 | G27: =IFERROR($D27*G$4,0) -> 8325.9782 | H27: =IFERROR($D27*H$4,0) -> 5468.4202 | I27: =IFERROR($D27*I$4,0) -> 7668.1231 | J27: =IFERROR($D27*J$4,0) -> 3991.4385 | K27: =IFERROR($D27*K$4,0) -> 6232.4297 | L27: =IFERROR($D27*L$4,0) -> 62437.441 | M27: =IFERROR($D27*M$4,0) -> 0
B28: 5.4. | C28: Tööprojekti koostamine | D28: 51350 | E28: =IFERROR(SUM(D28)-SUM(F28:M28),"") -> -1.4551915e-11 | F28: =IFERROR($D28*F$4,0) -> 473.59264 | G28: =IFERROR($D28*G$4,0) -> 4500.4103 | H28: =IFERROR($D28*H$4,0) -> 2955.825 | I28: =IFERROR($D28*I$4,0) -> 4144.8223 | J28: =IFERROR($D28*J$4,0) -> 2157.4776 | K28: =IFERROR($D28*K$4,0) -> 3368.7923 | L28: =IFERROR($D28*L$4,0) -> 33749.08 | M28: =IFERROR($D28*M$4,0) -> 0
B29: 5.5. | C29: BIM mudeli koostamine | D29: 30000 | E29: =IFERROR(SUM(D29)-SUM(F29:M29),"") -> -7.2759576e-12 | F29: =IFERROR($D29*F$4,0) -> 276.68508 | G29: =IFERROR($D29*G$4,0) -> 2629.2563 | H29: =IFERROR($D29*H$4,0) -> 1726.8695 | I29: =IFERROR($D29*I$4,0) -> 2421.5126 | J29: =IFERROR($D29*J$4,0) -> 1260.4543 | K29: =IFERROR($D29*K$4,0) -> 1968.1357 | L29: =IFERROR($D29*L$4,0) -> 19717.087 | M29: =IFERROR($D29*M$4,0) -> 0
B30: 6 | C30: Ehituslepingud | D30: =SUM(D31,D40,D45,D50,D58,D67,D77) -> 4303000 | E30: =IFERROR(SUM(D30)-SUM(F30:M30),"") -> -1.8626451e-09 | F30: =SUM(F31+F40+F45+F50+F58+F67+F77) -> 39685.864 | G30: =SUM(G31+G40+G45+G50+G58+G67+G77) -> 377122.99 | H30: =SUM(H31+H40+H45+H50+H58+H67+H77) -> 247690.66 | I30: =SUM(I31+I40+I45+I50+I58+I67+I77) -> 347325.62 | J30: =SUM(J31+J40+J45+J50+J58+J67+J77) -> 180791.16 | K30: =SUM(K31+K40+K45+K50+K58+K67+K77) -> 282296.26 | L30: =SUM(L31+L40+L45+L50+L58+L67+L77) -> 2828087.4 | M30: =SUM(M31+M40+M45+M50+M58+M67+M77) -> 0
B31: 6.1. | C31: Välisrajatised | D31: =SUM(D32:D39) -> 350000 | E31: =IFERROR(SUM(D31)-SUM(F31:M31),"") -> -1.1641532e-10 | F31: =SUM(F32:F39) -> 3227.9927 | G31: =SUM(G32:G39) -> 30674.656 | H31: =SUM(H32:H39) -> 20146.811 | I31: =SUM(I32:I39) -> 28250.98 | J31: =SUM(J32:J39) -> 14705.3 | K31: =SUM(K32:K39) -> 22961.583 | L31: =SUM(L32:L39) -> 230032.68 | M31: =SUM(M32:M39) -> 0
B32: 6.1.1. | C32: Ettevalmistus ja lammutus | D32: 100000 | E32: =IFERROR(SUM(D32)-SUM(F32:M32),"") -> -2.910383e-11 | F32: =IFERROR($D32*F$4,0) -> 922.28362 | G32: =IFERROR($D32*G$4,0) -> 8764.1876 | H32: =IFERROR($D32*H$4,0) -> 5756.2318 | I32: =IFERROR($D32*I$4,0) -> 8071.7085 | J32: =IFERROR($D32*J$4,0) -> 4201.5143 | K32: =IFERROR($D32*K$4,0) -> 6560.4523 | L32: =IFERROR($D32*L$4,0) -> 65723.622 | M32: =IFERROR($D32*M$4,0) -> 0
B33: 6.1.2. | C33: Hoonealune süvend | D33: - | E33: =IFERROR(SUM(D33)-SUM(F33:M33),"") -> 0 | F33: =IFERROR($D33*F$4,0) -> 0 | G33: =IFERROR($D33*G$4,0) -> 0 | H33: =IFERROR($D33*H$4,0) -> 0 | I33: =IFERROR($D33*I$4,0) -> 0 | J33: =IFERROR($D33*J$4,0) -> 0 | K33: =IFERROR($D33*K$4,0) -> 0 | L33: =IFERROR($D33*L$4,0) -> 0 | M33: =IFERROR($D33*M$4,0) -> 0
B34: 6.1.3. | C34: Hoonevälised ehitised | D34: - | E34: =IFERROR(SUM(D34)-SUM(F34:M34),"") -> 0 | F34: =IFERROR($D34*F$4,0) -> 0 | G34: =IFERROR($D34*G$4,0) -> 0 | H34: =IFERROR($D34*H$4,0) -> 0 | I34: =IFERROR($D34*I$4,0) -> 0 | J34: =IFERROR($D34*J$4,0) -> 0 | K34: =IFERROR($D34*K$4,0) -> 0 | L34: =IFERROR($D34*L$4,0) -> 0 | M34: =IFERROR($D34*M$4,0) -> 0
B35: 6.1.4. | C35: Välisvõrgud | D35: 150000 | E35: =IFERROR(SUM(D35)-SUM(F35:M35),"") -> -5.8207661e-11 | F35: =IFERROR($D35*F$4,0) -> 1383.4254 | G35: =IFERROR($D35*G$4,0) -> 13146.281 | H35: =IFERROR($D35*H$4,0) -> 8634.3477 | I35: =IFERROR($D35*I$4,0) -> 12107.563 | J35: =IFERROR($D35*J$4,0) -> 6302.2714 | K35: =IFERROR($D35*K$4,0) -> 9840.6785 | L35: =IFERROR($D35*L$4,0) -> 98585.433 | M35: =IFERROR($D35*M$4,0) -> 0
B36: 6.1.5. | C36: Kaeved maa-alal | D36: 40000 | E36: =IFERROR(SUM(D36)-SUM(F36:M36),"") -> -1.4551915e-11 | F36: =IFERROR($D36*F$4,0) -> 368.91345 | G36: =IFERROR($D36*G$4,0) -> 3505.675 | H36: =IFERROR($D36*H$4,0) -> 2302.4927 | I36: =IFERROR($D36*I$4,0) -> 3228.6834 | J36: =IFERROR($D36*J$4,0) -> 1680.6057 | K36: =IFERROR($D36*K$4,0) -> 2624.1809 | L36: =IFERROR($D36*L$4,0) -> 26289.449 | M36: =IFERROR($D36*M$4,0) -> 0
B37: 6.1.6. | C37: Maa-ala pinnakatted | D37: 60000 | E37: =IFERROR(SUM(D37)-SUM(F37:M37),"") -> -1.4551915e-11 | F37: =IFERROR($D37*F$4,0) -> 553.37017 | G37: =IFERROR($D37*G$4,0) -> 5258.5125 | H37: =IFERROR($D37*H$4,0) -> 3453.7391 | I37: =IFERROR($D37*I$4,0) -> 4843.0251 | J37: =IFERROR($D37*J$4,0) -> 2520.9086 | K37: =IFERROR($D37*K$4,0) -> 3936.2714 | L37: =IFERROR($D37*L$4,0) -> 39434.173 | M37: =IFERROR($D37*M$4,0) -> 0
B38: 6.1.7. | C38: Väikeehitised maa-alal | D38: - | E38: =IFERROR(SUM(D38)-SUM(F38:M38),"") -> 0 | F38: =IFERROR($D38*F$4,0) -> 0 | G38: =IFERROR($D38*G$4,0) -> 0 | H38: =IFERROR($D38*H$4,0) -> 0 | I38: =IFERROR($D38*I$4,0) -> 0 | J38: =IFERROR($D38*J$4,0) -> 0 | K38: =IFERROR($D38*K$4,0) -> 0 | L38: =IFERROR($D38*L$4,0) -> 0 | M38: =IFERROR($D38*M$4,0) -> 0
B39: 6.1.8. | C39: - | D39: - | E39: =IFERROR(SUM(D39)-SUM(F39:M39),"") -> 0 | F39: =IFERROR($D39*F$4,0) -> 0 | G39: =IFERROR($D39*G$4,0) -> 0 | H39: =IFERROR($D39*H$4,0) -> 0 | I39: =IFERROR($D39*I$4,0) -> 0 | J39: =IFERROR($D39*J$4,0) -> 0 | K39: =IFERROR($D39*K$4,0) -> 0 | L39: =IFERROR($D39*L$4,0) -> 0 | M39: =IFERROR($D39*M$4,0) -> 0
B40: 6.2. | C40: Alused ja vundamendid | D40: =SUM(D41:D44) -> 400000 | E40: =IFERROR(SUM(D40)-SUM(F40:M40),"") -> -1.1641532e-10 | F40: =SUM(F41:F44) -> 3689.1345 | G40: =SUM(G41:G44) -> 35056.75 | H40: =SUM(H41:H44) -> 23024.927 | I40: =SUM(I41:I44) -> 32286.834 | J40: =SUM(J41:J44) -> 16806.057 | K40: =SUM(K41:K44) -> 26241.809 | L40: =SUM(L41:L44) -> 262894.49 | M40: =SUM(M41:M44) -> 0
B41: 6.2.1. | C41: Rostvärgid ja taldmikud | D41: 50000 | E41: =IFERROR(SUM(D41)-SUM(F41:M41),"") -> -1.4551915e-11 | F41: =IFERROR($D41*F$4,0) -> 461.14181 | G41: =IFERROR($D41*G$4,0) -> 4382.0938 | H41: =IFERROR($D41*H$4,0) -> 2878.1159 | I41: =IFERROR($D41*I$4,0) -> 4035.8543 | J41: =IFERROR($D41*J$4,0) -> 2100.7571 | K41: =IFERROR($D41*K$4,0) -> 3280.2262 | L41: =IFERROR($D41*L$4,0) -> 32861.811 | M41: =IFERROR($D41*M$4,0) -> 0
B42: 6.2.2. | C42: Aluspõrandad | D42: 350000 | E42: =IFERROR(SUM(D42)-SUM(F42:M42),"") -> -1.1641532e-10 | F42: =IFERROR($D42*F$4,0) -> 3227.9927 | G42: =IFERROR($D42*G$4,0) -> 30674.656 | H42: =IFERROR($D42*H$4,0) -> 20146.811 | I42: =IFERROR($D42*I$4,0) -> 28250.98 | J42: =IFERROR($D42*J$4,0) -> 14705.3 | K42: =IFERROR($D42*K$4,0) -> 22961.583 | L42: =IFERROR($D42*L$4,0) -> 230032.68 | M42: =IFERROR($D42*M$4,0) -> 0
...

Sheet Lisa 6.1 Lisa 2 Sisustus
I1: Lisa nr 2 | AZ1: Jaotus
I2: Üürilepingu nr KPJ-4/2026-70 lisale nr 6.1
C4: Sisustuse nimekiri ja eeldatav maksumus | K4: Sisustuse jagunemine (ainukasutuses pinnal) | AA4: Sisustuse jagunemine (ühiskasutuses pinnal) | AH4: Ühiskasutuses sisustuse jaotus (ühiskasutuses pinnal) | AQ4: Kokku (ainu- ja ühiskasutuses sisustuse jagunemine)
B6: Tähis | C6: Nimetus | D6: Kogus, tk | E6: Hind, EUR, km-ta | F6: Eeldatav maksumus, EUR, km-ta | G6: Tavasisustus | H6: Erisisustus | I6: Kohtkindel | K6: =$BA7& " kogus" -> Tööinspektsioon kogus | L6: =$BA7& " maksumus" -> Tööinspektsioon maksumus | M6: =$BA8& " kogus" -> Maksu- ja Tolliamet kogus | N6: =$BA8& " maksumus" -> Maksu- ja Tolliamet maksumus | O6: =$BA9& " kogus" -> Sotsiaalkindlustusamet kogus | P6: =$BA9& " maksumus" -> Sotsiaalkindlustusamet maksumus | Q6: =$BA10& " kogus" -> Haridus- ja Noorteamet kogus | R6: =$BA10& " maksumus" -> Haridus- ja Noorteamet maksumus | S6: =$BA11& " kogus" -> Tallinna Vangla kogus | T6: =$BA11& " maksumus" -> Tallinna Vangla maksumus | U6: =$BA12& " kogus" -> PROKURATUUR kogus | V6: =$BA12& " maksumus" -> PROKURATUUR maksumus | W6: =$BA13& " kogus" -> PÄRNU MAAKOHUS kogus | X6: =$BA13& " maksumus" -> PÄRNU MAAKOHUS maksumus | Y6: =$BA14& " kogus" -> Aktiivne vakantsus kogus | Z6: =$BA14& " maksumus" -> Aktiivne vakantsus maksumus | AA6: Ühiskasutus 1 kogus | AB6: Ühiskasutus 1 maksumus | AC6: Ühiskasutus 2 kogus | AD6: Ühiskasutus 2 kogus | AE6: Ühiskasutus 3 kogus | AF6: Ühiskasutus 3 kogus | AH6: =$BA7& " maksumus" -> Tööinspektsioon maksumus | AI6: =$BA8& " maksumus" -> Maksu- ja Tolliamet maksumus | AJ6: =$BA9& " maksumus" -> Sotsiaalkindlustusamet maksumus | AK6: =$BA10& " maksumus" -> Haridus- ja Noorteamet maksumus | AL6: =$BA11& " maksumus" -> Tallinna Vangla maksumus | AM6: =$BA12& " maksumus" -> PROKURATUUR maksumus | AN6: =$BA13& " maksumus" -> PÄRNU MAAKOHUS maksumus | AO6: Aktiivne vakantsus maksumus | AQ6: =$BA7& " maksumus" -> Tööinspektsioon maksumus | AR6: =$BA8& " maksumus" -> Maksu- ja Tolliamet maksumus | AS6: =$BA9& " maksumus" -> Sotsiaalkindlustusamet maksumus | AT6: =$BA10& " maksumus" -> Haridus- ja Noorteamet maksumus | AU6: =$BA11& " maksumus" -> Tallinna Vangla maksumus | AV6: =$BA12& " maksumus" -> PROKURATUUR maksumus | AW6: =$BA13& " maksumus" -> PÄRNU MAAKOHUS maksumus | AX6: Aktiivne vakants maksumus | BA6: Üürnik | BB6: Ainukasutuses pind | BC6: Ühiskasutuses korruste pind | BD6: Ühiskasutuses hoone pind | BE6: Ühiskasutuses muu pind | BF6: Kokku | BG6: Osakaal
C7: Tavasisustus | D7: 1 | E7: 479562 | F7: =IF(OR(SUM(D7)=0,SUM(E7)=0),"",SUM(D7*E7)) -> 479562 | G7: x | J7: =IF(SUM(K7,M7,O7,Q7,S7,U7,W7,Y7,AA7,AC7,AE7)-SUM(D7)=0,"","K") -> K | L7: =IF(ISBLANK(K7),"",SUM(K7*$E7)) | N7: =IF(ISBLANK(M7),"",SUM(M7*$E7)) | P7: =IF(ISBLANK(O7),"",SUM(O7*$E7)) | R7: =IF(ISBLANK(Q7),"",SUM(Q7*$E7)) | T7: =IF(ISBLANK(S7),"",SUM(S7*$E7)) | V7: =IF(ISBLANK(U7),"",SUM(U7*$E7)) | X7: =IF(ISBLANK(W7),"",SUM(W7*$E7)) | Z7: =IF(ISBLANK(Y7),"",SUM(Y7*$E7)) | AB7: =IF(ISBLANK(AA7),"",SUM(AA7*$E7)) | AD7: =IF(ISBLANK(AC7),"",SUM(AC7*$E7)) | AF7: =IF(ISBLANK(AE7),"",SUM(AE7*$E7)) | AH7: =IF(IF(ISBLANK($AA7),0,SUM($AB7*$BB$21))+IF(ISBLANK($AC7),0,SUM($AD7*$BC$21))+IF(ISBLANK($AE7),0,SUM($AF7*$BD$21))=0,"",IF(ISBLANK($AA7),0,SUM($AB7*$BB$21))+IF(ISBLANK($AC7),0,SUM($AD7*$BC$21))+IF(ISBLANK($AE7),0,SUM($AF7*$BD$21))) | AI7: =IF(IF(ISBLANK($AA7),0,SUM($AB7*$BB$22))+IF(ISBLANK($AC7),0,SUM($AD7*$BC$22))+IF(ISBLANK($AE7),0,SUM($AF7*$BD$22))=0,"",IF(ISBLANK($AA7),0,SUM($AB7*$BB$22))+IF(ISBLANK($AC7),0,SUM($AD7*$BC$22))+IF(ISBLANK($AE7),0,SUM($AF7*$BD$22))) | AJ7: =IF(IF(ISBLANK($AA7),0,SUM($AB7*$BB$23))+IF(ISBLANK($AC7),0,SUM($AD7*$BC$23))+IF(ISBLANK($AE7),0,SUM($AF7*$BD$23))=0,"",IF(ISBLANK($AA7),0,SUM($AB7*$BB$23))+IF(ISBLANK($AC7),0,SUM($AD7*$BC$23))+IF(ISBLANK($AE7),0,SUM($AF7*$BD$23))) | AK7: =IF(IF(ISBLANK($AA7),0,SUM($AB7*$BB$24))+IF(ISBLANK($AC7),0,SUM($AD7*$BC$24))+IF(ISBLANK($AE7),0,SUM($AF7*$BD$24))=0,"",IF(ISBLANK($AA7),0,SUM($AB7*$BB$24))+IF(ISBLANK($AC7),0,SUM($AD7*$BC$24))+IF(ISBLANK($AE7),0,SUM($AF7*$BD$24))) | AL7: =IF(IF(ISBLANK($AA7),0,SUM($AB7*$BB$25))+IF(ISBLANK($AC7),0,SUM($AD7*$BC$25))+IF(ISBLANK($AE7),0,SUM($AF7*$BD$25))=0,"",IF(ISBLANK($AA7),0,SUM($AB7*$BB$25))+IF(ISBLANK($AC7),0,SUM($AD7*$BC$25))+IF(ISBLANK($AE7),0,SUM($AF7*$BD$25))) | AM7: =IF(IF(ISBLANK($AA7),0,SUM($AB7*$BB$26))+IF(ISBLANK($AC7),0,SUM($AD7*$BC$26))+IF(ISBLANK($AE7),0,SUM($AF7*$BD$26))=0,"",IF(ISBLANK($AA7),0,SUM($AB7*$BB$26))+IF(ISBLANK($AC7),0,SUM($AD7*$BC$26))+IF(ISBLANK($AE7),0,SUM($AF7*$BD$26))) | AN7: =IF(IF(ISBLANK($AA7),0,SUM($AB7*$BB$27))+IF(ISBLANK($AC7),0,SUM($AD7*$BC$27))+IF(ISBLANK($AE7),0,SUM($AF7*$BD$27))=0,"",IF(ISBLANK($AA7),0,SUM($AB7*$BB$27))+IF(ISBLANK($AC7),0,SUM($AD7*$BC$27))+IF(ISBLANK($AE7),0,SUM($AF7*$BD$27))) | AO7: =IF(IF(ISBLANK($AA7),0,SUM($AB7*$BB$28))+IF(ISBLANK($AC7),0,SUM($AD7*$BC$28))+IF(ISBLANK($AE7),0,SUM($AF7*$BD$28))=0,"",IF(ISBLANK($AA7),0,SUM($AB7*$BB$28))+IF(ISBLANK($AC7),0,SUM($AD7*$BC$28))+IF(ISBLANK($AE7),0,SUM($AF7*$BD$28))) | AP7: =IF(SUM(AB7,AD7,AF7)=SUM(AH7:AO7),"","K") | AQ7: =IF(SUM(L7,AH7)=0,"",SUM(L7,AH7)) | AR7: =IF(SUM(N7,AI7)=0,"",SUM(N7,AI7)) | AS7: =IF(SUM(P7,AJ7)=0,"",SUM(P7,AJ7)) | AT7: =IF(SUM(R7,AK7)=0,"",SUM(R7,AK7)) | AU7: =IF(SUM(T7,AL7)=0,"",SUM(T7,AL7)) | AV7: =IF(SUM(V7,AM7)=0,"",SUM(V7,AM7)) | AW7: =IF(SUM(X7,AN7)=0,"",SUM(X7,AN7)) | AX7: =IF(SUM(Z7,AO7)=0,"",SUM(Z7,AO7)) | AY7: =SUM(AQ7:AX7)-SUM(F7) -> -479562 | BA7: Tööinspektsioon | BB7: 9 | BC7: 0 | BD7: 3.3606789 | BE7: 0.42124971 | BF7: 12.781929 | BG7: 0.0092228362
C8: Erisisustus | D8: 1 | E8: 100000 | F8: =IF(OR(SUM(D8)=0,SUM(E8)=0),"",SUM(D8*E8)) -> 100000 | H8: x | J8: =IF(SUM(K8,M8,O8,Q8,S8,U8,W8,Y8,AA8,AC8,AE8)-SUM(D8)=0,"","K") -> K | L8: =IF(ISBLANK(K8),"",SUM(K8*$E8)) | N8: =IF(ISBLANK(M8),"",SUM(M8*$E8)) | P8: =IF(ISBLANK(O8),"",SUM(O8*$E8)) | R8: =IF(ISBLANK(Q8),"",SUM(Q8*$E8)) | T8: =IF(ISBLANK(S8),"",SUM(S8*$E8)) | V8: =IF(ISBLANK(U8),"",SUM(U8*$E8)) | X8: =IF(ISBLANK(W8),"",SUM(W8*$E8)) | Z8: =IF(ISBLANK(Y8),"",SUM(Y8*$E8)) | AB8: =IF(ISBLANK(AA8),"",SUM(AA8*$E8)) | AD8: =IF(ISBLANK(AC8),"",SUM(AC8*$E8)) | AF8: =IF(ISBLANK(AE8),"",SUM(AE8*$E8)) | AH8: =IF(IF(ISBLANK($AA8),0,SUM($AB8*$BB$21))+IF(ISBLANK($AC8),0,SUM($AD8*$BC$21))+IF(ISBLANK($AE8),0,SUM($AF8*$BD$21))=0,"",IF(ISBLANK($AA8),0,SUM($AB8*$BB$21))+IF(ISBLANK($AC8),0,SUM($AD8*$BC$21))+IF(ISBLANK($AE8),0,SUM($AF8*$BD$21))) | AI8: =IF(IF(ISBLANK($AA8),0,SUM($AB8*$BB$22))+IF(ISBLANK($AC8),0,SUM($AD8*$BC$22))+IF(ISBLANK($AE8),0,SUM($AF8*$BD$22))=0,"",IF(ISBLANK($AA8),0,SUM($AB8*$BB$22))+IF(ISBLANK($AC8),0,SUM($AD8*$BC$22))+IF(ISBLANK($AE8),0,SUM($AF8*$BD$22))) | AJ8: =IF(IF(ISBLANK($AA8),0,SUM($AB8*$BB$23))+IF(ISBLANK($AC8),0,SUM($AD8*$BC$23))+IF(ISBLANK($AE8),0,SUM($AF8*$BD$23))=0,"",IF(ISBLANK($AA8),0,SUM($AB8*$BB$23))+IF(ISBLANK($AC8),0,SUM($AD8*$BC$23))+IF(ISBLANK($AE8),0,SUM($AF8*$BD$23))) | AK8: =IF(IF(ISBLANK($AA8),0,SUM($AB8*$BB$24))+IF(ISBLANK($AC8),0,SUM($AD8*$BC$24))+IF(ISBLANK($AE8),0,SUM($AF8*$BD$24))=0,"",IF(ISBLANK($AA8),0,SUM($AB8*$BB$24))+IF(ISBLANK($AC8),0,SUM($AD8*$BC$24))+IF(ISBLANK($AE8),0,SUM($AF8*$BD$24))) | AL8: =IF(IF(ISBLANK($AA8),0,SUM($AB8*$BB$25))+IF(ISBLANK($AC8),0,SUM($AD8*$BC$25))+IF(ISBLANK($AE8),0,SUM($AF8*$BD$25))=0,"",IF(ISBLANK($AA8),0,SUM($AB8*$BB$25))+IF(ISBLANK($AC8),0,SUM($AD8*$BC$25))+IF(ISBLANK($AE8),0,SUM($AF8*$BD$25))) | AM8: =IF(IF(ISBLANK($AA8),0,SUM($AB8*$BB$26))+IF(ISBLANK($AC8),0,SUM($AD8*$BC$26))+IF(ISBLANK($AE8),0,SUM($AF8*$BD$26))=0,"",IF(ISBLANK($AA8),0,SUM($AB8*$BB$26))+IF(ISBLANK($AC8),0,SUM($AD8*$BC$26))+IF(ISBLANK($AE8),0,SUM($AF8*$BD$26))) | AN8: =IF(IF(ISBLANK($AA8),0,SUM($AB8*$BB$27))+IF(ISBLANK($AC8),0,SUM($AD8*$BC$27))+IF(ISBLANK($AE8),0,SUM($AF8*$BD$27))=0,"",IF(ISBLANK($AA8),0,SUM($AB8*$BB$27))+IF(ISBLANK($AC8),0,SUM($AD8*$BC$27))+IF(ISBLANK($AE8),0,SUM($AF8*$BD$27))) | AO8: =IF(IF(ISBLANK($AA8),0,SUM($AB8*$BB$28))+IF(ISBLANK($AC8),0,SUM($AD8*$BC$28))+IF(ISBLANK($AE8),0,SUM($AF8*$BD$28))=0,"",IF(ISBLANK($AA8),0,SUM($AB8*$BB$28))+IF(ISBLANK($AC8),0,SUM($AD8*$BC$28))+IF(ISBLANK($AE8),0,SUM($AF8*$BD$28))) | AP8: =IF(SUM(AB8,AD8,AF8)=SUM(AH8:AO8),"","K") | AQ8: =IF(SUM(L8,AH8)=0,"",SUM(L8,AH8)) | AR8: =IF(SUM(N8,AI8)=0,"",SUM(N8,AI8)) | AS8: =IF(SUM(P8,AJ8)=0,"",SUM(P8,AJ8)) | AT8: =IF(SUM(R8,AK8)=0,"",SUM(R8,AK8)) | AU8: =IF(SUM(T8,AL8)=0,"",SUM(T8,AL8)) | AV8: =IF(SUM(V8,AM8)=0,"",SUM(V8,AM8)) | AW8: =IF(SUM(X8,AN8)=0,"",SUM(X8,AN8)) | AX8: =IF(SUM(Z8,AO8)=0,"",SUM(Z8,AO8)) | AY8: =SUM(AQ8:AX8)-SUM(F8) -> -100000 | BA8: Maksu- ja Tolliamet | BB8: 81 | BC8: 0 | BD8: 30.24611 | BE8: 10.216765 | BF8: 121.46288 | BG8: 0.087641876
D9: =IF(SUM(K9,M9,O9,Q9,S9,U9,W9,Y9,AA9,AC9,AE9)=0,"",SUM(K9,M9,O9,Q9,S9,U9,W9,Y9,AA9,AC9,AE9)) | F9: =IF(OR(SUM(D9)=0,SUM(E9)=0),"",SUM(D9*E9)) | J9: =IF(SUM(K9,M9,O9,Q9,S9,U9,W9,Y9,AA9,AC9,AE9)-SUM(D9)=0,"","K") | L9: =IF(ISBLANK(K9),"",SUM(K9*$E9)) | N9: =IF(ISBLANK(M9),"",SUM(M9*$E9)) | P9: =IF(ISBLANK(O9),"",SUM(O9*$E9)) | R9: =IF(ISBLANK(Q9),"",SUM(Q9*$E9)) | T9: =IF(ISBLANK(S9),"",SUM(S9*$E9)) | V9: =IF(ISBLANK(U9),"",SUM(U9*$E9)) | X9: =IF(ISBLANK(W9),"",SUM(W9*$E9)) | Z9: =IF(ISBLANK(Y9),"",SUM(Y9*$E9)) | AB9: =IF(ISBLANK(AA9),"",SUM(AA9*$E9)) | AD9: =IF(ISBLANK(AC9),"",SUM(AC9*$E9)) | AF9: =IF(ISBLANK(AE9),"",SUM(AE9*$E9)) | AH9: =IF(IF(ISBLANK($AA9),0,SUM($AB9*$BB$21))+IF(ISBLANK($AC9),0,SUM($AD9*$BC$21))+IF(ISBLANK($AE9),0,SUM($AF9*$BD$21))=0,"",IF(ISBLANK($AA9),0,SUM($AB9*$BB$21))+IF(ISBLANK($AC9),0,SUM($AD9*$BC$21))+IF(ISBLANK($AE9),0,SUM($AF9*$BD$21))) | AI9: =IF(IF(ISBLANK($AA9),0,SUM($AB9*$BB$22))+IF(ISBLANK($AC9),0,SUM($AD9*$BC$22))+IF(ISBLANK($AE9),0,SUM($AF9*$BD$22))=0,"",IF(ISBLANK($AA9),0,SUM($AB9*$BB$22))+IF(ISBLANK($AC9),0,SUM($AD9*$BC$22))+IF(ISBLANK($AE9),0,SUM($AF9*$BD$22))) | AJ9: =IF(IF(ISBLANK($AA9),0,SUM($AB9*$BB$23))+IF(ISBLANK($AC9),0,SUM($AD9*$BC$23))+IF(ISBLANK($AE9),0,SUM($AF9*$BD$23))=0,"",IF(ISBLANK($AA9),0,SUM($AB9*$BB$23))+IF(ISBLANK($AC9),0,SUM($AD9*$BC$23))+IF(ISBLANK($AE9),0,SUM($AF9*$BD$23))) | AK9: =IF(IF(ISBLANK($AA9),0,SUM($AB9*$BB$24))+IF(ISBLANK($AC9),0,SUM($AD9*$BC$24))+IF(ISBLANK($AE9),0,SUM($AF9*$BD$24))=0,"",IF(ISBLANK($AA9),0,SUM($AB9*$BB$24))+IF(ISBLANK($AC9),0,SUM($AD9*$BC$24))+IF(ISBLANK($AE9),0,SUM($AF9*$BD$24))) | AL9: =IF(IF(ISBLANK($AA9),0,SUM($AB9*$BB$25))+IF(ISBLANK($AC9),0,SUM($AD9*$BC$25))+IF(ISBLANK($AE9),0,SUM($AF9*$BD$25))=0,"",IF(ISBLANK($AA9),0,SUM($AB9*$BB$25))+IF(ISBLANK($AC9),0,SUM($AD9*$BC$25))+IF(ISBLANK($AE9),0,SUM($AF9*$BD$25))) | AM9: =IF(IF(ISBLANK($AA9),0,SUM($AB9*$BB$26))+IF(ISBLANK($AC9),0,SUM($AD9*$BC$26))+IF(ISBLANK($AE9),0,SUM($AF9*$BD$26))=0,"",IF(ISBLANK($AA9),0,SUM($AB9*$BB$26))+IF(ISBLANK($AC9),0,SUM($AD9*$BC$26))+IF(ISBLANK($AE9),0,SUM($AF9*$BD$26))) | AN9: =IF(IF(ISBLANK($AA9),0,SUM($AB9*$BB$27))+IF(ISBLANK($AC9),0,SUM($AD9*$BC$27))+IF(ISBLANK($AE9),0,SUM($AF9*$BD$27))=0,"",IF(ISBLANK($AA9),0,SUM($AB9*$BB$27))+IF(ISBLANK($AC9),0,SUM($AD9*$BC$27))+IF(ISBLANK($AE9),0,SUM($AF9*$BD$27))) | AO9: =IF(IF(ISBLANK($AA9),0,SUM($AB9*$BB$28))+IF(ISBLANK($AC9),0,SUM($AD9*$BC$28))+IF(ISBLANK($AE9),0,SUM($AF9*$BD$28))=0,"",IF(ISBLANK($AA9),0,SUM($AB9*$BB$28))+IF(ISBLANK($AC9),0,SUM($AD9*$BC$28))+IF(ISBLANK($AE9),0,SUM($AF9*$BD$28))) | AP9: =IF(SUM(AB9,AD9,AF9)=SUM(AH9:AO9),"","K") | AQ9: =IF(SUM(L9,AH9)=0,"",SUM(L9,AH9)) | AR9: =IF(SUM(N9,AI9)=0,"",SUM(N9,AI9)) | AS9: =IF(SUM(P9,AJ9)=0,"",SUM(P9,AJ9)) | AT9: =IF(SUM(R9,AK9)=0,"",SUM(R9,AK9)) | AU9: =IF(SUM(T9,AL9)=0,"",SUM(T9,AL9)) | AV9: =IF(SUM(V9,AM9)=0,"",SUM(V9,AM9)) | AW9: =IF(SUM(X9,AN9)=0,"",SUM(X9,AN9)) | AX9: =IF(SUM(Z9,AO9)=0,"",SUM(Z9,AO9)) | AY9: =SUM(AQ9:AX9)-SUM(F9) -> 0 | BA9: Sotsiaalkindlustusamet | BB9: 53.2 | BC9: 0 | BD9: 19.865347 | BE9: 6.7102703 | BF9: 79.775617 | BG9: 0.057562318
D10: =IF(SUM(K10,M10,O10,Q10,S10,U10,W10,Y10,AA10,AC10,AE10)=0,"",SUM(K10,M10,O10,Q10,S10,U10,W10,Y10,AA10,AC10,AE10)) | F10: =IF(OR(SUM(D10)=0,SUM(E10)=0),"",SUM(D10*E10)) | J10: =IF(SUM(K10,M10,O10,Q10,S10,U10,W10,Y10,AA10,AC10,AE10)-SUM(D10)=0,"","K") | L10: =IF(ISBLANK(K10),"",SUM(K10*$E10)) | N10: =IF(ISBLANK(M10),"",SUM(M10*$E10)) | P10: =IF(ISBLANK(O10),"",SUM(O10*$E10)) | R10: =IF(ISBLANK(Q10),"",SUM(Q10*$E10)) | T10: =IF(ISBLANK(S10),"",SUM(S10*$E10)) | V10: =IF(ISBLANK(U10),"",SUM(U10*$E10)) | X10: =IF(ISBLANK(W10),"",SUM(W10*$E10)) | Z10: =IF(ISBLANK(Y10),"",SUM(Y10*$E10)) | AB10: =IF(ISBLANK(AA10),"",SUM(AA10*$E10)) | AD10: =IF(ISBLANK(AC10),"",SUM(AC10*$E10)) | AF10: =IF(ISBLANK(AE10),"",SUM(AE10*$E10)) | AH10: =IF(IF(ISBLANK($AA10),0,SUM($AB10*$BB$21))+IF(ISBLANK($AC10),0,SUM($AD10*$BC$21))+IF(ISBLANK($AE10),0,SUM($AF10*$BD$21))=0,"",IF(ISBLANK($AA10),0,SUM($AB10*$BB$21))+IF(ISBLANK($AC10),0,SUM($AD10*$BC$21))+IF(ISBLANK($AE10),0,SUM($AF10*$BD$21))) | AI10: =IF(IF(ISBLANK($AA10),0,SUM($AB10*$BB$22))+IF(ISBLANK($AC10),0,SUM($AD10*$BC$22))+IF(ISBLANK($AE10),0,SUM($AF10*$BD$22))=0,"",IF(ISBLANK($AA10),0,SUM($AB10*$BB$22))+IF(ISBLANK($AC10),0,SUM($AD10*$BC$22))+IF(ISBLANK($AE10),0,SUM($AF10*$BD$22))) | AJ10: =IF(IF(ISBLANK($AA10),0,SUM($AB10*$BB$23))+IF(ISBLANK($AC10),0,SUM($AD10*$BC$23))+IF(ISBLANK($AE10),0,SUM($AF10*$BD$23))=0,"",IF(ISBLANK($AA10),0,SUM($AB10*$BB$23))+IF(ISBLANK($AC10),0,SUM($AD10*$BC$23))+IF(ISBLANK($AE10),0,SUM($AF10*$BD$23))) | AK10: =IF(IF(ISBLANK($AA10),0,SUM($AB10*$BB$24))+IF(ISBLANK($AC10),0,SUM($AD10*$BC$24))+IF(ISBLANK($AE10),0,SUM($AF10*$BD$24))=0,"",IF(ISBLANK($AA10),0,SUM($AB10*$BB$24))+IF(ISBLANK($AC10),0,SUM($AD10*$BC$24))+IF(ISBLANK($AE10),0,SUM($AF10*$BD$24))) | AL10: =IF(IF(ISBLANK($AA10),0,SUM($AB10*$BB$25))+IF(ISBLANK($AC10),0,SUM($AD10*$BC$25))+IF(ISBLANK($AE10),0,SUM($AF10*$BD$25))=0,"",IF(ISBLANK($AA10),0,SUM($AB10*$BB$25))+IF(ISBLANK($AC10),0,SUM($AD10*$BC$25))+IF(ISBLANK($AE10),0,SUM($AF10*$BD$25))) | AM10: =IF(IF(ISBLANK($AA10),0,SUM($AB10*$BB$26))+IF(ISBLANK($AC10),0,SUM($AD10*$BC$26))+IF(ISBLANK($AE10),0,SUM($AF10*$BD$26))=0,"",IF(ISBLANK($AA10),0,SUM($AB10*$BB$26))+IF(ISBLANK($AC10),0,SUM($AD10*$BC$26))+IF(ISBLANK($AE10),0,SUM($AF10*$BD$26))) | AN10: =IF(IF(ISBLANK($AA10),0,SUM($AB10*$BB$27))+IF(ISBLANK($AC10),0,SUM($AD10*$BC$27))+IF(ISBLANK($AE10),0,SUM($AF10*$BD$27))=0,"",IF(ISBLANK($AA10),0,SUM($AB10*$BB$27))+IF(ISBLANK($AC10),0,SUM($AD10*$BC$27))+IF(ISBLANK($AE10),0,SUM($AF10*$BD$27))) | AO10: =IF(IF(ISBLANK($AA10),0,SUM($AB10*$BB$28))+IF(ISBLANK($AC10),0,SUM($AD10*$BC$28))+IF(ISBLANK($AE10),0,SUM($AF10*$BD$28))=0,"",IF(ISBLANK($AA10),0,SUM($AB10*$BB$28))+IF(ISBLANK($AC10),0,SUM($AD10*$BC$28))+IF(ISBLANK($AE10),0,SUM($AF10*$BD$28))) | AP10: =IF(SUM(AB10,AD10,AF10)=SUM(AH10:AO10),"","K") | AQ10: =IF(SUM(L10,AH10)=0,"",SUM(L10,AH10)) | AR10: =IF(SUM(N10,AI10)=0,"",SUM(N10,AI10)) | AS10: =IF(SUM(P10,AJ10)=0,"",SUM(P10,AJ10)) | AT10: =IF(SUM(R10,AK10)=0,"",SUM(R10,AK10)) | AU10: =IF(SUM(T10,AL10)=0,"",SUM(T10,AL10)) | AV10: =IF(SUM(V10,AM10)=0,"",SUM(V10,AM10)) | AW10: =IF(SUM(X10,AN10)=0,"",SUM(X10,AN10)) | AX10: =IF(SUM(Z10,AO10)=0,"",SUM(Z10,AO10)) | AY10: =SUM(AQ10:AX10)-SUM(F10) -> 0 | BA10: Haridus- ja Noorteamet | BB10: 74.6 | BC10: 0 | BD10: 27.856294 | BE10: 9.4095144 | BF10: 111.86581 | BG10: 0.080717085
D11: =IF(SUM(K11,M11,O11,Q11,S11,U11,W11,Y11,AA11,AC11,AE11)=0,"",SUM(K11,M11,O11,Q11,S11,U11,W11,Y11,AA11,AC11,AE11)) | F11: =IF(OR(SUM(D11)=0,SUM(E11)=0),"",SUM(D11*E11)) | J11: =IF(SUM(K11,M11,O11,Q11,S11,U11,W11,Y11,AA11,AC11,AE11)-SUM(D11)=0,"","K") | L11: =IF(ISBLANK(K11),"",SUM(K11*$E11)) | N11: =IF(ISBLANK(M11),"",SUM(M11*$E11)) | P11: =IF(ISBLANK(O11),"",SUM(O11*$E11)) | R11: =IF(ISBLANK(Q11),"",SUM(Q11*$E11)) | T11: =IF(ISBLANK(S11),"",SUM(S11*$E11)) | V11: =IF(ISBLANK(U11),"",SUM(U11*$E11)) | X11: =IF(ISBLANK(W11),"",SUM(W11*$E11)) | Z11: =IF(ISBLANK(Y11),"",SUM(Y11*$E11)) | AB11: =IF(ISBLANK(AA11),"",SUM(AA11*$E11)) | AD11: =IF(ISBLANK(AC11),"",SUM(AC11*$E11)) | AF11: =IF(ISBLANK(AE11),"",SUM(AE11*$E11)) | AH11: =IF(IF(ISBLANK($AA11),0,SUM($AB11*$BB$21))+IF(ISBLANK($AC11),0,SUM($AD11*$BC$21))+IF(ISBLANK($AE11),0,SUM($AF11*$BD$21))=0,"",IF(ISBLANK($AA11),0,SUM($AB11*$BB$21))+IF(ISBLANK($AC11),0,SUM($AD11*$BC$21))+IF(ISBLANK($AE11),0,SUM($AF11*$BD$21))) | AI11: =IF(IF(ISBLANK($AA11),0,SUM($AB11*$BB$22))+IF(ISBLANK($AC11),0,SUM($AD11*$BC$22))+IF(ISBLANK($AE11),0,SUM($AF11*$BD$22))=0,"",IF(ISBLANK($AA11),0,SUM($AB11*$BB$22))+IF(ISBLANK($AC11),0,SUM($AD11*$BC$22))+IF(ISBLANK($AE11),0,SUM($AF11*$BD$22))) | AJ11: =IF(IF(ISBLANK($AA11),0,SUM($AB11*$BB$23))+IF(ISBLANK($AC11),0,SUM($AD11*$BC$23))+IF(ISBLANK($AE11),0,SUM($AF11*$BD$23))=0,"",IF(ISBLANK($AA11),0,SUM($AB11*$BB$23))+IF(ISBLANK($AC11),0,SUM($AD11*$BC$23))+IF(ISBLANK($AE11),0,SUM($AF11*$BD$23))) | AK11: =IF(IF(ISBLANK($AA11),0,SUM($AB11*$BB$24))+IF(ISBLANK($AC11),0,SUM($AD11*$BC$24))+IF(ISBLANK($AE11),0,SUM($AF11*$BD$24))=0,"",IF(ISBLANK($AA11),0,SUM($AB11*$BB$24))+IF(ISBLANK($AC11),0,SUM($AD11*$BC$24))+IF(ISBLANK($AE11),0,SUM($AF11*$BD$24))) | AL11: =IF(IF(ISBLANK($AA11),0,SUM($AB11*$BB$25))+IF(ISBLANK($AC11),0,SUM($AD11*$BC$25))+IF(ISBLANK($AE11),0,SUM($AF11*$BD$25))=0,"",IF(ISBLANK($AA11),0,SUM($AB11*$BB$25))+IF(ISBLANK($AC11),0,SUM($AD11*$BC$25))+IF(ISBLANK($AE11),0,SUM($AF11*$BD$25))) | AM11: =IF(IF(ISBLANK($AA11),0,SUM($AB11*$BB$26))+IF(ISBLANK($AC11),0,SUM($AD11*$BC$26))+IF(ISBLANK($AE11),0,SUM($AF11*$BD$26))=0,"",IF(ISBLANK($AA11),0,SUM($AB11*$BB$26))+IF(ISBLANK($AC11),0,SUM($AD11*$BC$26))+IF(ISBLANK($AE11),0,SUM($AF11*$BD$26))) | AN11: =IF(IF(ISBLANK($AA11),0,SUM($AB11*$BB$27))+IF(ISBLANK($AC11),0,SUM($AD11*$BC$27))+IF(ISBLANK($AE11),0,SUM($AF11*$BD$27))=0,"",IF(ISBLANK($AA11),0,SUM($AB11*$BB$27))+IF(ISBLANK($AC11),0,SUM($AD11*$BC$27))+IF(ISBLANK($AE11),0,SUM($AF11*$BD$27))) | AO11: =IF(IF(ISBLANK($AA11),0,SUM($AB11*$BB$28))+IF(ISBLANK($AC11),0,SUM($AD11*$BC$28))+IF(ISBLANK($AE11),0,SUM($AF11*$BD$28))=0,"",IF(ISBLANK($AA11),0,SUM($AB11*$BB$28))+IF(ISBLANK($AC11),0,SUM($AD11*$BC$28))+IF(ISBLANK($AE11),0,SUM($AF11*$BD$28))) | AP11: =IF(SUM(AB11,AD11,AF11)=SUM(AH11:AO11),"","K") | AQ11: =IF(SUM(L11,AH11)=0,"",SUM(L11,AH11)) | AR11: =IF(SUM(N11,AI11)=0,"",SUM(N11,AI11)) | AS11: =IF(SUM(P11,AJ11)=0,"",SUM(P11,AJ11)) | AT11: =IF(SUM(R11,AK11)=0,"",SUM(R11,AK11)) | AU11: =IF(SUM(T11,AL11)=0,"",SUM(T11,AL11)) | AV11: =IF(SUM(V11,AM11)=0,"",SUM(V11,AM11)) | AW11: =IF(SUM(X11,AN11)=0,"",SUM(X11,AN11)) | AX11: =IF(SUM(Z11,AO11)=0,"",SUM(Z11,AO11)) | AY11: =SUM(AQ11:AX11)-SUM(F11) -> 0 | BA11: Tallinna Vangla | BB11: 41 | BC11: 0 | BD11: 15.30976 | BE11: 1.9190264 | BF11: 58.228786 | BG11: 0.042015143
D12: =IF(SUM(K12,M12,O12,Q12,S12,U12,W12,Y12,AA12,AC12,AE12)=0,"",SUM(K12,M12,O12,Q12,S12,U12,W12,Y12,AA12,AC12,AE12)) | F12: =IF(OR(SUM(D12)=0,SUM(E12)=0),"",SUM(D12*E12)) | J12: =IF(SUM(K12,M12,O12,Q12,S12,U12,W12,Y12,AA12,AC12,AE12)-SUM(D12)=0,"","K") | L12: =IF(ISBLANK(K12),"",SUM(K12*$E12)) | N12: =IF(ISBLANK(M12),"",SUM(M12*$E12)) | P12: =IF(ISBLANK(O12),"",SUM(O12*$E12)) | R12: =IF(ISBLANK(Q12),"",SUM(Q12*$E12)) | T12: =IF(ISBLANK(S12),"",SUM(S12*$E12)) | V12: =IF(ISBLANK(U12),"",SUM(U12*$E12)) | X12: =IF(ISBLANK(W12),"",SUM(W12*$E12)) | Z12: =IF(ISBLANK(Y12),"",SUM(Y12*$E12)) | AB12: =IF(ISBLANK(AA12),"",SUM(AA12*$E12)) | AD12: =IF(ISBLANK(AC12),"",SUM(AC12*$E12)) | AF12: =IF(ISBLANK(AE12),"",SUM(AE12*$E12)) | AH12: =IF(IF(ISBLANK($AA12),0,SUM($AB12*$BB$21))+IF(ISBLANK($AC12),0,SUM($AD12*$BC$21))+IF(ISBLANK($AE12),0,SUM($AF12*$BD$21))=0,"",IF(ISBLANK($AA12),0,SUM($AB12*$BB$21))+IF(ISBLANK($AC12),0,SUM($AD12*$BC$21))+IF(ISBLANK($AE12),0,SUM($AF12*$BD$21))) | AI12: =IF(IF(ISBLANK($AA12),0,SUM($AB12*$BB$22))+IF(ISBLANK($AC12),0,SUM($AD12*$BC$22))+IF(ISBLANK($AE12),0,SUM($AF12*$BD$22))=0,"",IF(ISBLANK($AA12),0,SUM($AB12*$BB$22))+IF(ISBLANK($AC12),0,SUM($AD12*$BC$22))+IF(ISBLANK($AE12),0,SUM($AF12*$BD$22))) | AJ12: =IF(IF(ISBLANK($AA12),0,SUM($AB12*$BB$23))+IF(ISBLANK($AC12),0,SUM($AD12*$BC$23))+IF(ISBLANK($AE12),0,SUM($AF12*$BD$23))=0,"",IF(ISBLANK($AA12),0,SUM($AB12*$BB$23))+IF(ISBLANK($AC12),0,SUM($AD12*$BC$23))+IF(ISBLANK($AE12),0,SUM($AF12*$BD$23))) | AK12: =IF(IF(ISBLANK($AA12),0,SUM($AB12*$BB$24))+IF(ISBLANK($AC12),0,SUM($AD12*$BC$24))+IF(ISBLANK($AE12),0,SUM($AF12*$BD$24))=0,"",IF(ISBLANK($AA12),0,SUM($AB12*$BB$24))+IF(ISBLANK($AC12),0,SUM($AD12*$BC$24))+IF(ISBLANK($AE12),0,SUM($AF12*$BD$24))) | AL12: =IF(IF(ISBLANK($AA12),0,SUM($AB12*$BB$25))+IF(ISBLANK($AC12),0,SUM($AD12*$BC$25))+IF(ISBLANK($AE12),0,SUM($AF12*$BD$25))=0,"",IF(ISBLANK($AA12),0,SUM($AB12*$BB$25))+IF(ISBLANK($AC12),0,SUM($AD12*$BC$25))+IF(ISBLANK($AE12),0,SUM($AF12*$BD$25))) | AM12: =IF(IF(ISBLANK($AA12),0,SUM($AB12*$BB$26))+IF(ISBLANK($AC12),0,SUM($AD12*$BC$26))+IF(ISBLANK($AE12),0,SUM($AF12*$BD$26))=0,"",IF(ISBLANK($AA12),0,SUM($AB12*$BB$26))+IF(ISBLANK($AC12),0,SUM($AD12*$BC$26))+IF(ISBLANK($AE12),0,SUM($AF12*$BD$26))) | AN12: =IF(IF(ISBLANK($AA12),0,SUM($AB12*$BB$27))+IF(ISBLANK($AC12),0,SUM($AD12*$BC$27))+IF(ISBLANK($AE12),0,SUM($AF12*$BD$27))=0,"",IF(ISBLANK($AA12),0,SUM($AB12*$BB$27))+IF(ISBLANK($AC12),0,SUM($AD12*$BC$27))+IF(ISBLANK($AE12),0,SUM($AF12*$BD$27))) | AO12: =IF(IF(ISBLANK($AA12),0,SUM($AB12*$BB$28))+IF(ISBLANK($AC12),0,SUM($AD12*$BC$28))+IF(ISBLANK($AE12),0,SUM($AF12*$BD$28))=0,"",IF(ISBLANK($AA12),0,SUM($AB12*$BB$28))+IF(ISBLANK($AC12),0,SUM($AD12*$BC$28))+IF(ISBLANK($AE12),0,SUM($AF12*$BD$28))) | AP12: =IF(SUM(AB12,AD12,AF12)=SUM(AH12:AO12),"","K") | AQ12: =IF(SUM(L12,AH12)=0,"",SUM(L12,AH12)) | AR12: =IF(SUM(N12,AI12)=0,"",SUM(N12,AI12)) | AS12: =IF(SUM(P12,AJ12)=0,"",SUM(P12,AJ12)) | AT12: =IF(SUM(R12,AK12)=0,"",SUM(R12,AK12)) | AU12: =IF(SUM(T12,AL12)=0,"",SUM(T12,AL12)) | AV12: =IF(SUM(V12,AM12)=0,"",SUM(V12,AM12)) | AW12: =IF(SUM(X12,AN12)=0,"",SUM(X12,AN12)) | AX12: =IF(SUM(Z12,AO12)=0,"",SUM(Z12,AO12)) | AY12: =SUM(AQ12:AX12)-SUM(F12) -> 0 | BA12: PROKURATUUR | BB12: 64.5 | BC12: 0 | BD12: 24.084866 | BE12: 2.3364435 | BF12: 90.921309 | BG12: 0.065604523
D13: =IF(SUM(K13,M13,O13,Q13,S13,U13,W13,Y13,AA13,AC13,AE13)=0,"",SUM(K13,M13,O13,Q13,S13,U13,W13,Y13,AA13,AC13,AE13)) | F13: =IF(OR(SUM(D13)=0,SUM(E13)=0),"",SUM(D13*E13)) | J13: =IF(SUM(K13,M13,O13,Q13,S13,U13,W13,Y13,AA13,AC13,AE13)-SUM(D13)=0,"","K") | L13: =IF(ISBLANK(K13),"",SUM(K13*$E13)) | N13: =IF(ISBLANK(M13),"",SUM(M13*$E13)) | P13: =IF(ISBLANK(O13),"",SUM(O13*$E13)) | R13: =IF(ISBLANK(Q13),"",SUM(Q13*$E13)) | T13: =IF(ISBLANK(S13),"",SUM(S13*$E13)) | V13: =IF(ISBLANK(U13),"",SUM(U13*$E13)) | X13: =IF(ISBLANK(W13),"",SUM(W13*$E13)) | Z13: =IF(ISBLANK(Y13),"",SUM(Y13*$E13)) | AB13: =IF(ISBLANK(AA13),"",SUM(AA13*$E13)) | AD13: =IF(ISBLANK(AC13),"",SUM(AC13*$E13)) | AF13: =IF(ISBLANK(AE13),"",SUM(AE13*$E13)) | AH13: =IF(IF(ISBLANK($AA13),0,SUM($AB13*$BB$21))+IF(ISBLANK($AC13),0,SUM($AD13*$BC$21))+IF(ISBLANK($AE13),0,SUM($AF13*$BD$21))=0,"",IF(ISBLANK($AA13),0,SUM($AB13*$BB$21))+IF(ISBLANK($AC13),0,SUM($AD13*$BC$21))+IF(ISBLANK($AE13),0,SUM($AF13*$BD$21))) | AI13: =IF(IF(ISBLANK($AA13),0,SUM($AB13*$BB$22))+IF(ISBLANK($AC13),0,SUM($AD13*$BC$22))+IF(ISBLANK($AE13),0,SUM($AF13*$BD$22))=0,"",IF(ISBLANK($AA13),0,SUM($AB13*$BB$22))+IF(ISBLANK($AC13),0,SUM($AD13*$BC$22))+IF(ISBLANK($AE13),0,SUM($AF13*$BD$22))) | AJ13: =IF(IF(ISBLANK($AA13),0,SUM($AB13*$BB$23))+IF(ISBLANK($AC13),0,SUM($AD13*$BC$23))+IF(ISBLANK($AE13),0,SUM($AF13*$BD$23))=0,"",IF(ISBLANK($AA13),0,SUM($AB13*$BB$23))+IF(ISBLANK($AC13),0,SUM($AD13*$BC$23))+IF(ISBLANK($AE13),0,SUM($AF13*$BD$23))) | AK13: =IF(IF(ISBLANK($AA13),0,SUM($AB13*$BB$24))+IF(ISBLANK($AC13),0,SUM($AD13*$BC$24))+IF(ISBLANK($AE13),0,SUM($AF13*$BD$24))=0,"",IF(ISBLANK($AA13),0,SUM($AB13*$BB$24))+IF(ISBLANK($AC13),0,SUM($AD13*$BC$24))+IF(ISBLANK($AE13),0,SUM($AF13*$BD$24))) | AL13: =IF(IF(ISBLANK($AA13),0,SUM($AB13*$BB$25))+IF(ISBLANK($AC13),0,SUM($AD13*$BC$25))+IF(ISBLANK($AE13),0,SUM($AF13*$BD$25))=0,"",IF(ISBLANK($AA13),0,SUM($AB13*$BB$25))+IF(ISBLANK($AC13),0,SUM($AD13*$BC$25))+IF(ISBLANK($AE13),0,SUM($AF13*$BD$25))) | AM13: =IF(IF(ISBLANK($AA13),0,SUM($AB13*$BB$26))+IF(ISBLANK($AC13),0,SUM($AD13*$BC$26))+IF(ISBLANK($AE13),0,SUM($AF13*$BD$26))=0,"",IF(ISBLANK($AA13),0,SUM($AB13*$BB$26))+IF(ISBLANK($AC13),0,SUM($AD13*$BC$26))+IF(ISBLANK($AE13),0,SUM($AF13*$BD$26))) | AN13: =IF(IF(ISBLANK($AA13),0,SUM($AB13*$BB$27))+IF(ISBLANK($AC13),0,SUM($AD13*$BC$27))+IF(ISBLANK($AE13),0,SUM($AF13*$BD$27))=0,"",IF(ISBLANK($AA13),0,SUM($AB13*$BB$27))+IF(ISBLANK($AC13),0,SUM($AD13*$BC$27))+IF(ISBLANK($AE13),0,SUM($AF13*$BD$27))) | AO13: =IF(IF(ISBLANK($AA13),0,SUM($AB13*$BB$28))+IF(ISBLANK($AC13),0,SUM($AD13*$BC$28))+IF(ISBLANK($AE13),0,SUM($AF13*$BD$28))=0,"",IF(ISBLANK($AA13),0,SUM($AB13*$BB$28))+IF(ISBLANK($AC13),0,SUM($AD13*$BC$28))+IF(ISBLANK($AE13),0,SUM($AF13*$BD$28))) | AP13: =IF(SUM(AB13,AD13,AF13)=SUM(AH13:AO13),"","K") | AQ13: =IF(SUM(L13,AH13)=0,"",SUM(L13,AH13)) | AR13: =IF(SUM(N13,AI13)=0,"",SUM(N13,AI13)) | AS13: =IF(SUM(P13,AJ13)=0,"",SUM(P13,AJ13)) | AT13: =IF(SUM(R13,AK13)=0,"",SUM(R13,AK13)) | AU13: =IF(SUM(T13,AL13)=0,"",SUM(T13,AL13)) | AV13: =IF(SUM(V13,AM13)=0,"",SUM(V13,AM13)) | AW13: =IF(SUM(X13,AN13)=0,"",SUM(X13,AN13)) | AX13: =IF(SUM(Z13,AO13)=0,"",SUM(Z13,AO13)) | AY13: =SUM(AQ13:AX13)-SUM(F13) -> 0 | BA13: PÄRNU MAAKOHUS | BB13: 595.8 | BC13: 64.7 | BD13: 222.47694 | BE13: 27.886731 | BF13: 910.86368 | BG13: 0.65723622
D14: =IF(SUM(K14,M14,O14,Q14,S14,U14,W14,Y14,AA14,AC14,AE14)=0,"",SUM(K14,M14,O14,Q14,S14,U14,W14,Y14,AA14,AC14,AE14)) | F14: =IF(OR(SUM(D14)=0,SUM(E14)=0),"",SUM(D14*E14)) | J14: =IF(SUM(K14,M14,O14,Q14,S14,U14,W14,Y14,AA14,AC14,AE14)-SUM(D14)=0,"","K") | L14: =IF(ISBLANK(K14),"",SUM(K14*$E14)) | N14: =IF(ISBLANK(M14),"",SUM(M14*$E14)) | P14: =IF(ISBLANK(O14),"",SUM(O14*$E14)) | R14: =IF(ISBLANK(Q14),"",SUM(Q14*$E14)) | T14: =IF(ISBLANK(S14),"",SUM(S14*$E14)) | V14: =IF(ISBLANK(U14),"",SUM(U14*$E14)) | X14: =IF(ISBLANK(W14),"",SUM(W14*$E14)) | Z14: =IF(ISBLANK(Y14),"",SUM(Y14*$E14)) | AB14: =IF(ISBLANK(AA14),"",SUM(AA14*$E14)) | AD14: =IF(ISBLANK(AC14),"",SUM(AC14*$E14)) | AF14: =IF(ISBLANK(AE14),"",SUM(AE14*$E14)) | AH14: =IF(IF(ISBLANK($AA14),0,SUM($AB14*$BB$21))+IF(ISBLANK($AC14),0,SUM($AD14*$BC$21))+IF(ISBLANK($AE14),0,SUM($AF14*$BD$21))=0,"",IF(ISBLANK($AA14),0,SUM($AB14*$BB$21))+IF(ISBLANK($AC14),0,SUM($AD14*$BC$21))+IF(ISBLANK($AE14),0,SUM($AF14*$BD$21))) | AI14: =IF(IF(ISBLANK($AA14),0,SUM($AB14*$BB$22))+IF(ISBLANK($AC14),0,SUM($AD14*$BC$22))+IF(ISBLANK($AE14),0,SUM($AF14*$BD$22))=0,"",IF(ISBLANK($AA14),0,SUM($AB14*$BB$22))+IF(ISBLANK($AC14),0,SUM($AD14*$BC$22))+IF(ISBLANK($AE14),0,SUM($AF14*$BD$22))) | AJ14: =IF(IF(ISBLANK($AA14),0,SUM($AB14*$BB$23))+IF(ISBLANK($AC14),0,SUM($AD14*$BC$23))+IF(ISBLANK($AE14),0,SUM($AF14*$BD$23))=0,"",IF(ISBLANK($AA14),0,SUM($AB14*$BB$23))+IF(ISBLANK($AC14),0,SUM($AD14*$BC$23))+IF(ISBLANK($AE14),0,SUM($AF14*$BD$23))) | AK14: =IF(IF(ISBLANK($AA14),0,SUM($AB14*$BB$24))+IF(ISBLANK($AC14),0,SUM($AD14*$BC$24))+IF(ISBLANK($AE14),0,SUM($AF14*$BD$24))=0,"",IF(ISBLANK($AA14),0,SUM($AB14*$BB$24))+IF(ISBLANK($AC14),0,SUM($AD14*$BC$24))+IF(ISBLANK($AE14),0,SUM($AF14*$BD$24))) | AL14: =IF(IF(ISBLANK($AA14),0,SUM($AB14*$BB$25))+IF(ISBLANK($AC14),0,SUM($AD14*$BC$25))+IF(ISBLANK($AE14),0,SUM($AF14*$BD$25))=0,"",IF(ISBLANK($AA14),0,SUM($AB14*$BB$25))+IF(ISBLANK($AC14),0,SUM($AD14*$BC$25))+IF(ISBLANK($AE14),0,SUM($AF14*$BD$25))) | AM14: =IF(IF(ISBLANK($AA14),0,SUM($AB14*$BB$26))+IF(ISBLANK($AC14),0,SUM($AD14*$BC$26))+IF(ISBLANK($AE14),0,SUM($AF14*$BD$26))=0,"",IF(ISBLANK($AA14),0,SUM($AB14*$BB$26))+IF(ISBLANK($AC14),0,SUM($AD14*$BC$26))+IF(ISBLANK($AE14),0,SUM($AF14*$BD$26))) | AN14: =IF(IF(ISBLANK($AA14),0,SUM($AB14*$BB$27))+IF(ISBLANK($AC14),0,SUM($AD14*$BC$27))+IF(ISBLANK($AE14),0,SUM($AF14*$BD$27))=0,"",IF(ISBLANK($AA14),0,SUM($AB14*$BB$27))+IF(ISBLANK($AC14),0,SUM($AD14*$BC$27))+IF(ISBLANK($AE14),0,SUM($AF14*$BD$27))) | AO14: =IF(IF(ISBLANK($AA14),0,SUM($AB14*$BB$28))+IF(ISBLANK($AC14),0,SUM($AD14*$BC$28))+IF(ISBLANK($AE14),0,SUM($AF14*$BD$28))=0,"",IF(ISBLANK($AA14),0,SUM($AB14*$BB$28))+IF(ISBLANK($AC14),0,SUM($AD14*$BC$28))+IF(ISBLANK($AE14),0,SUM($AF14*$BD$28))) | AP14: =IF(SUM(AB14,AD14,AF14)=SUM(AH14:AO14),"","K") | AQ14: =IF(SUM(L14,AH14)=0,"",SUM(L14,AH14)) | AR14: =IF(SUM(N14,AI14)=0,"",SUM(N14,AI14)) | AS14: =IF(SUM(P14,AJ14)=0,"",SUM(P14,AJ14)) | AT14: =IF(SUM(R14,AK14)=0,"",SUM(R14,AK14)) | AU14: =IF(SUM(T14,AL14)=0,"",SUM(T14,AL14)) | AV14: =IF(SUM(V14,AM14)=0,"",SUM(V14,AM14)) | AW14: =IF(SUM(X14,AN14)=0,"",SUM(X14,AN14)) | AX14: =IF(SUM(Z14,AO14)=0,"",SUM(Z14,AO14)) | AY14: =SUM(AQ14:AX14)-SUM(F14) -> 0 | BA14: Aktiivne vakantsus | BB14: 0 | BC14: 0 | BD14: 0 | BE14: 0 | BF14: 0 | BG14: 0
D15: =IF(SUM(K15,M15,O15,Q15,S15,U15,W15,Y15,AA15,AC15,AE15)=0,"",SUM(K15,M15,O15,Q15,S15,U15,W15,Y15,AA15,AC15,AE15)) | F15: =IF(OR(SUM(D15)=0,SUM(E15)=0),"",SUM(D15*E15)) | J15: =IF(SUM(K15,M15,O15,Q15,S15,U15,W15,Y15,AA15,AC15,AE15)-SUM(D15)=0,"","K") | L15: =IF(ISBLANK(K15),"",SUM(K15*$E15)) | N15: =IF(ISBLANK(M15),"",SUM(M15*$E15)) | P15: =IF(ISBLANK(O15),"",SUM(O15*$E15)) | R15: =IF(ISBLANK(Q15),"",SUM(Q15*$E15)) | T15: =IF(ISBLANK(S15),"",SUM(S15*$E15)) | V15: =IF(ISBLANK(U15),"",SUM(U15*$E15)) | X15: =IF(ISBLANK(W15),"",SUM(W15*$E15)) | Z15: =IF(ISBLANK(Y15),"",SUM(Y15*$E15)) | AB15: =IF(ISBLANK(AA15),"",SUM(AA15*$E15)) | AD15: =IF(ISBLANK(AC15),"",SUM(AC15*$E15)) | AF15: =IF(ISBLANK(AE15),"",SUM(AE15*$E15)) | AH15: =IF(IF(ISBLANK($AA15),0,SUM($AB15*$BB$21))+IF(ISBLANK($AC15),0,SUM($AD15*$BC$21))+IF(ISBLANK($AE15),0,SUM($AF15*$BD$21))=0,"",IF(ISBLANK($AA15),0,SUM($AB15*$BB$21))+IF(ISBLANK($AC15),0,SUM($AD15*$BC$21))+IF(ISBLANK($AE15),0,SUM($AF15*$BD$21))) | AI15: =IF(IF(ISBLANK($AA15),0,SUM($AB15*$BB$22))+IF(ISBLANK($AC15),0,SUM($AD15*$BC$22))+IF(ISBLANK($AE15),0,SUM($AF15*$BD$22))=0,"",IF(ISBLANK($AA15),0,SUM($AB15*$BB$22))+IF(ISBLANK($AC15),0,SUM($AD15*$BC$22))+IF(ISBLANK($AE15),0,SUM($AF15*$BD$22))) | AJ15: =IF(IF(ISBLANK($AA15),0,SUM($AB15*$BB$23))+IF(ISBLANK($AC15),0,SUM($AD15*$BC$23))+IF(ISBLANK($AE15),0,SUM($AF15*$BD$23))=0,"",IF(ISBLANK($AA15),0,SUM($AB15*$BB$23))+IF(ISBLANK($AC15),0,SUM($AD15*$BC$23))+IF(ISBLANK($AE15),0,SUM($AF15*$BD$23))) | AK15: =IF(IF(ISBLANK($AA15),0,SUM($AB15*$BB$24))+IF(ISBLANK($AC15),0,SUM($AD15*$BC$24))+IF(ISBLANK($AE15),0,SUM($AF15*$BD$24))=0,"",IF(ISBLANK($AA15),0,SUM($AB15*$BB$24))+IF(ISBLANK($AC15),0,SUM($AD15*$BC$24))+IF(ISBLANK($AE15),0,SUM($AF15*$BD$24))) | AL15: =IF(IF(ISBLANK($AA15),0,SUM($AB15*$BB$25))+IF(ISBLANK($AC15),0,SUM($AD15*$BC$25))+IF(ISBLANK($AE15),0,SUM($AF15*$BD$25))=0,"",IF(ISBLANK($AA15),0,SUM($AB15*$BB$25))+IF(ISBLANK($AC15),0,SUM($AD15*$BC$25))+IF(ISBLANK($AE15),0,SUM($AF15*$BD$25))) | AM15: =IF(IF(ISBLANK($AA15),0,SUM($AB15*$BB$26))+IF(ISBLANK($AC15),0,SUM($AD15*$BC$26))+IF(ISBLANK($AE15),0,SUM($AF15*$BD$26))=0,"",IF(ISBLANK($AA15),0,SUM($AB15*$BB$26))+IF(ISBLANK($AC15),0,SUM($AD15*$BC$26))+IF(ISBLANK($AE15),0,SUM($AF15*$BD$26))) | AN15: =IF(IF(ISBLANK($AA15),0,SUM($AB15*$BB$27))+IF(ISBLANK($AC15),0,SUM($AD15*$BC$27))+IF(ISBLANK($AE15),0,SUM($AF15*$BD$27))=0,"",IF(ISBLANK($AA15),0,SUM($AB15*$BB$27))+IF(ISBLANK($AC15),0,SUM($AD15*$BC$27))+IF(ISBLANK($AE15),0,SUM($AF15*$BD$27))) | AO15: =IF(IF(ISBLANK($AA15),0,SUM($AB15*$BB$28))+IF(ISBLANK($AC15),0,SUM($AD15*$BC$28))+IF(ISBLANK($AE15),0,SUM($AF15*$BD$28))=0,"",IF(ISBLANK($AA15),0,SUM($AB15*$BB$28))+IF(ISBLANK($AC15),0,SUM($AD15*$BC$28))+IF(ISBLANK($AE15),0,SUM($AF15*$BD$28))) | AP15: =IF(SUM(AB15,AD15,AF15)=SUM(AH15:AO15),"","K") | AQ15: =IF(SUM(L15,AH15)=0,"",SUM(L15,AH15)) | AR15: =IF(SUM(N15,AI15)=0,"",SUM(N15,AI15)) | AS15: =IF(SUM(P15,AJ15)=0,"",SUM(P15,AJ15)) | AT15: =IF(SUM(R15,AK15)=0,"",SUM(R15,AK15)) | AU15: =IF(SUM(T15,AL15)=0,"",SUM(T15,AL15)) | AV15: =IF(SUM(V15,AM15)=0,"",SUM(V15,AM15)) | AW15: =IF(SUM(X15,AN15)=0,"",SUM(X15,AN15)) | AX15: =IF(SUM(Z15,AO15)=0,"",SUM(Z15,AO15)) | AY15: =SUM(AQ15:AX15)-SUM(F15) -> 0 | BA15: Üüritav pind kokku | BB15: 919.1 | BC15: 64.7 | BD15: 343.2 | BE15: 58.9 | BF15: 1385.9 | BG15: 1
D16: =IF(SUM(K16,M16,O16,Q16,S16,U16,W16,Y16,AA16,AC16,AE16)=0,"",SUM(K16,M16,O16,Q16,S16,U16,W16,Y16,AA16,AC16,AE16)) | F16: =IF(OR(SUM(D16)=0,SUM(E16)=0),"",SUM(D16*E16)) | J16: =IF(SUM(K16,M16,O16,Q16,S16,U16,W16,Y16,AA16,AC16,AE16)-SUM(D16)=0,"","K") | L16: =IF(ISBLANK(K16),"",SUM(K16*$E16)) | N16: =IF(ISBLANK(M16),"",SUM(M16*$E16)) | P16: =IF(ISBLANK(O16),"",SUM(O16*$E16)) | R16: =IF(ISBLANK(Q16),"",SUM(Q16*$E16)) | T16: =IF(ISBLANK(S16),"",SUM(S16*$E16)) | V16: =IF(ISBLANK(U16),"",SUM(U16*$E16)) | X16: =IF(ISBLANK(W16),"",SUM(W16*$E16)) | Z16: =IF(ISBLANK(Y16),"",SUM(Y16*$E16)) | AB16: =IF(ISBLANK(AA16),"",SUM(AA16*$E16)) | AD16: =IF(ISBLANK(AC16),"",SUM(AC16*$E16)) | AF16: =IF(ISBLANK(AE16),"",SUM(AE16*$E16)) | AH16: =IF(IF(ISBLANK($AA16),0,SUM($AB16*$BB$21))+IF(ISBLANK($AC16),0,SUM($AD16*$BC$21))+IF(ISBLANK($AE16),0,SUM($AF16*$BD$21))=0,"",IF(ISBLANK($AA16),0,SUM($AB16*$BB$21))+IF(ISBLANK($AC16),0,SUM($AD16*$BC$21))+IF(ISBLANK($AE16),0,SUM($AF16*$BD$21))) | AI16: =IF(IF(ISBLANK($AA16),0,SUM($AB16*$BB$22))+IF(ISBLANK($AC16),0,SUM($AD16*$BC$22))+IF(ISBLANK($AE16),0,SUM($AF16*$BD$22))=0,"",IF(ISBLANK($AA16),0,SUM($AB16*$BB$22))+IF(ISBLANK($AC16),0,SUM($AD16*$BC$22))+IF(ISBLANK($AE16),0,SUM($AF16*$BD$22))) | AJ16: =IF(IF(ISBLANK($AA16),0,SUM($AB16*$BB$23))+IF(ISBLANK($AC16),0,SUM($AD16*$BC$23))+IF(ISBLANK($AE16),0,SUM($AF16*$BD$23))=0,"",IF(ISBLANK($AA16),0,SUM($AB16*$BB$23))+IF(ISBLANK($AC16),0,SUM($AD16*$BC$23))+IF(ISBLANK($AE16),0,SUM($AF16*$BD$23))) | AK16: =IF(IF(ISBLANK($AA16),0,SUM($AB16*$BB$24))+IF(ISBLANK($AC16),0,SUM($AD16*$BC$24))+IF(ISBLANK($AE16),0,SUM($AF16*$BD$24))=0,"",IF(ISBLANK($AA16),0,SUM($AB16*$BB$24))+IF(ISBLANK($AC16),0,SUM($AD16*$BC$24))+IF(ISBLANK($AE16),0,SUM($AF16*$BD$24))) | AL16: =IF(IF(ISBLANK($AA16),0,SUM($AB16*$BB$25))+IF(ISBLANK($AC16),0,SUM($AD16*$BC$25))+IF(ISBLANK($AE16),0,SUM($AF16*$BD$25))=0,"",IF(ISBLANK($AA16),0,SUM($AB16*$BB$25))+IF(ISBLANK($AC16),0,SUM($AD16*$BC$25))+IF(ISBLANK($AE16),0,SUM($AF16*$BD$25))) | AM16: =IF(IF(ISBLANK($AA16),0,SUM($AB16*$BB$26))+IF(ISBLANK($AC16),0,SUM($AD16*$BC$26))+IF(ISBLANK($AE16),0,SUM($AF16*$BD$26))=0,"",IF(ISBLANK($AA16),0,SUM($AB16*$BB$26))+IF(ISBLANK($AC16),0,SUM($AD16*$BC$26))+IF(ISBLANK($AE16),0,SUM($AF16*$BD$26))) | AN16: =IF(IF(ISBLANK($AA16),0,SUM($AB16*$BB$27))+IF(ISBLANK($AC16),0,SUM($AD16*$BC$27))+IF(ISBLANK($AE16),0,SUM($AF16*$BD$27))=0,"",IF(ISBLANK($AA16),0,SUM($AB16*$BB$27))+IF(ISBLANK($AC16),0,SUM($AD16*$BC$27))+IF(ISBLANK($AE16),0,SUM($AF16*$BD$27))) | AO16: =IF(IF(ISBLANK($AA16),0,SUM($AB16*$BB$28))+IF(ISBLANK($AC16),0,SUM($AD16*$BC$28))+IF(ISBLANK($AE16),0,SUM($AF16*$BD$28))=0,"",IF(ISBLANK($AA16),0,SUM($AB16*$BB$28))+IF(ISBLANK($AC16),0,SUM($AD16*$BC$28))+IF(ISBLANK($AE16),0,SUM($AF16*$BD$28))) | AP16: =IF(SUM(AB16,AD16,AF16)=SUM(AH16:AO16),"","K") | AQ16: =IF(SUM(L16,AH16)=0,"",SUM(L16,AH16)) | AR16: =IF(SUM(N16,AI16)=0,"",SUM(N16,AI16)) | AS16: =IF(SUM(P16,AJ16)=0,"",SUM(P16,AJ16)) | AT16: =IF(SUM(R16,AK16)=0,"",SUM(R16,AK16)) | AU16: =IF(SUM(T16,AL16)=0,"",SUM(T16,AL16)) | AV16: =IF(SUM(V16,AM16)=0,"",SUM(V16,AM16)) | AW16: =IF(SUM(X16,AN16)=0,"",SUM(X16,AN16)) | AX16: =IF(SUM(Z16,AO16)=0,"",SUM(Z16,AO16)) | AY16: =SUM(AQ16:AX16)-SUM(F16) -> 0 | BA16: Passiivne vakantsus | BF16: 0
D17: =IF(SUM(K17,M17,O17,Q17,S17,U17,W17,Y17,AA17,AC17,AE17)=0,"",SUM(K17,M17,O17,Q17,S17,U17,W17,Y17,AA17,AC17,AE17)) | F17: =IF(OR(SUM(D17)=0,SUM(E17)=0),"",SUM(D17*E17)) | J17: =IF(SUM(K17,M17,O17,Q17,S17,U17,W17,Y17,AA17,AC17,AE17)-SUM(D17)=0,"","K") | L17: =IF(ISBLANK(K17),"",SUM(K17*$E17)) | N17: =IF(ISBLANK(M17),"",SUM(M17*$E17)) | P17: =IF(ISBLANK(O17),"",SUM(O17*$E17)) | R17: =IF(ISBLANK(Q17),"",SUM(Q17*$E17)) | T17: =IF(ISBLANK(S17),"",SUM(S17*$E17)) | V17: =IF(ISBLANK(U17),"",SUM(U17*$E17)) | X17: =IF(ISBLANK(W17),"",SUM(W17*$E17)) | Z17: =IF(ISBLANK(Y17),"",SUM(Y17*$E17)) | AB17: =IF(ISBLANK(AA17),"",SUM(AA17*$E17)) | AD17: =IF(ISBLANK(AC17),"",SUM(AC17*$E17)) | AF17: =IF(ISBLANK(AE17),"",SUM(AE17*$E17)) | AH17: =IF(IF(ISBLANK($AA17),0,SUM($AB17*$BB$21))+IF(ISBLANK($AC17),0,SUM($AD17*$BC$21))+IF(ISBLANK($AE17),0,SUM($AF17*$BD$21))=0,"",IF(ISBLANK($AA17),0,SUM($AB17*$BB$21))+IF(ISBLANK($AC17),0,SUM($AD17*$BC$21))+IF(ISBLANK($AE17),0,SUM($AF17*$BD$21))) | AI17: =IF(IF(ISBLANK($AA17),0,SUM($AB17*$BB$22))+IF(ISBLANK($AC17),0,SUM($AD17*$BC$22))+IF(ISBLANK($AE17),0,SUM($AF17*$BD$22))=0,"",IF(ISBLANK($AA17),0,SUM($AB17*$BB$22))+IF(ISBLANK($AC17),0,SUM($AD17*$BC$22))+IF(ISBLANK($AE17),0,SUM($AF17*$BD$22))) | AJ17: =IF(IF(ISBLANK($AA17),0,SUM($AB17*$BB$23))+IF(ISBLANK($AC17),0,SUM($AD17*$BC$23))+IF(ISBLANK($AE17),0,SUM($AF17*$BD$23))=0,"",IF(ISBLANK($AA17),0,SUM($AB17*$BB$23))+IF(ISBLANK($AC17),0,SUM($AD17*$BC$23))+IF(ISBLANK($AE17),0,SUM($AF17*$BD$23))) | AK17: =IF(IF(ISBLANK($AA17),0,SUM($AB17*$BB$24))+IF(ISBLANK($AC17),0,SUM($AD17*$BC$24))+IF(ISBLANK($AE17),0,SUM($AF17*$BD$24))=0,"",IF(ISBLANK($AA17),0,SUM($AB17*$BB$24))+IF(ISBLANK($AC17),0,SUM($AD17*$BC$24))+IF(ISBLANK($AE17),0,SUM($AF17*$BD$24))) | AL17: =IF(IF(ISBLANK($AA17),0,SUM($AB17*$BB$25))+IF(ISBLANK($AC17),0,SUM($AD17*$BC$25))+IF(ISBLANK($AE17),0,SUM($AF17*$BD$25))=0,"",IF(ISBLANK($AA17),0,SUM($AB17*$BB$25))+IF(ISBLANK($AC17),0,SUM($AD17*$BC$25))+IF(ISBLANK($AE17),0,SUM($AF17*$BD$25))) | AM17: =IF(IF(ISBLANK($AA17),0,SUM($AB17*$BB$26))+IF(ISBLANK($AC17),0,SUM($AD17*$BC$26))+IF(ISBLANK($AE17),0,SUM($AF17*$BD$26))=0,"",IF(ISBLANK($AA17),0,SUM($AB17*$BB$26))+IF(ISBLANK($AC17),0,SUM($AD17*$BC$26))+IF(ISBLANK($AE17),0,SUM($AF17*$BD$26))) | AN17: =IF(IF(ISBLANK($AA17),0,SUM($AB17*$BB$27))+IF(ISBLANK($AC17),0,SUM($AD17*$BC$27))+IF(ISBLANK($AE17),0,SUM($AF17*$BD$27))=0,"",IF(ISBLANK($AA17),0,SUM($AB17*$BB$27))+IF(ISBLANK($AC17),0,SUM($AD17*$BC$27))+IF(ISBLANK($AE17),0,SUM($AF17*$BD$27))) | AO17: =IF(IF(ISBLANK($AA17),0,SUM($AB17*$BB$28))+IF(ISBLANK($AC17),0,SUM($AD17*$BC$28))+IF(ISBLANK($AE17),0,SUM($AF17*$BD$28))=0,"",IF(ISBLANK($AA17),0,SUM($AB17*$BB$28))+IF(ISBLANK($AC17),0,SUM($AD17*$BC$28))+IF(ISBLANK($AE17),0,SUM($AF17*$BD$28))) | AP17: =IF(SUM(AB17,AD17,AF17)=SUM(AH17:AO17),"","K") | AQ17: =IF(SUM(L17,AH17)=0,"",SUM(L17,AH17)) | AR17: =IF(SUM(N17,AI17)=0,"",SUM(N17,AI17)) | AS17: =IF(SUM(P17,AJ17)=0,"",SUM(P17,AJ17)) | AT17: =IF(SUM(R17,AK17)=0,"",SUM(R17,AK17)) | AU17: =IF(SUM(T17,AL17)=0,"",SUM(T17,AL17)) | AV17: =IF(SUM(V17,AM17)=0,"",SUM(V17,AM17)) | AW17: =IF(SUM(X17,AN17)=0,"",SUM(X17,AN17)) | AX17: =IF(SUM(Z17,AO17)=0,"",SUM(Z17,AO17)) | AY17: =SUM(AQ17:AX17)-SUM(F17) -> 0
