Workbook
Name _30_Ülekantavad_vahendid: #REF!
Name Aadress: #REF!
Name Aadress: #REF!
Name aadress_asukoha_analüüs: #REF!
Name aadress_asukoha_analüüs: #REF!
Name aadress_asukohahinnang: #REF!
Name aadress_asukohahinnang: #REF!
Name aasta: #REF!
Name aeg: OFFSET('[1]Graafiku jaoks'!$B$1,0,'[1]Graafiku jaoks'!$D$17,1,'[1]Graafiku jaoks'!$D$20)
Name alge: OFFSET('[1]Graafiku jaoks'!$B$3,0,'[1]Graafiku jaoks'!$D$17,1,'[1]Graafiku jaoks'!$D$20)
Name ALL: #REF!
Name andmed: [2]hinnad!$F$3:$BQ$32
Name andmed: [3]hinnad!$F$3:$BQ$32
Name andmed_kogemus: [2]arendaja_haldaja_kogemus!$B$2:$P$16
Name andmed_kogemus: [3]arendaja_haldaja_kogemus!$B$2:$P$16
Name andmed_ruumide_sobivus: [2]üürniku_hinnangud!$F$2:$L$31
Name andmed_ruumide_sobivus: [3]üürniku_hinnangud!$F$2:$L$31
Name bilanss: #REF!
Name brutopind: #REF!
Name brutopind: [4]eelarve!$F$9
Name disk.määr: [2]algandmed!$B$1
Name disk.määr: [3]algandmed!$B$1
Name eel_1: OFFSET(#REF!,1,0,1,#REF!)
Name eel_2: OFFSET(#REF!,30,0,1,#REF!)
Name eel_3: OFFSET(#REF!,60,0,1,#REF!)
Name eel_4: OFFSET(#REF!,88,0,1,#REF!)
Name eelarve: #REF!
Name eelarve_kokku: #REF!
Name eelarve_kokku: [4]eelarve!$F$7
Name erikülgsednurkterased: #REF!
Name erikülgsednurkterased140: #REF!
Name erikülgsednurkterased70: #REF!
Name Etapp: #REF!
Name Etapp: #REF!
Name fi: #REF!
Name fiboseinad: #REF!
Name haldur: #REF!
Name HEA: #REF!
Name HEB: #REF!
Name hind: [5]platsikulud!$C$2
Name hinnang_asukoha_analüüs: #REF!
Name hüvitamine: #REF!
Name IPE: #REF!
Name Jum_osa: #REF!
Name karkass: #REF!
Name karkassilisa: #REF!
Name katus: #REF!
Name kehtiv_IRR: [6]MUDEL!$BA$1
Name kestvus: [5]platsikulud!$C$3
Name kestvus2: [5]platsikulud!$G$7
Name Kinnistu: #REF!
Name Kinnistud: #REF!
Name kipsilisa: #REF!
Name kipsvaheseinad: #REF!
Name kogu_eelarve_ületamine: #REF!
Name kood: #REF!
Name kor_1: OFFSET('[1]Graafiku jaoks'!$B$4,0,'[1]Graafiku jaoks'!$D$17,1,'[1]Graafiku jaoks'!$D$20)
Name kor_2: OFFSET('[1]Graafiku jaoks'!$B$5,0,'[1]Graafiku jaoks'!$D$17,1,'[1]Graafiku jaoks'!$D$20)
Name kor_3: OFFSET('[1]Graafiku jaoks'!$B$6,0,'[1]Graafiku jaoks'!$D$17,1,'[1]Graafiku jaoks'!$D$20)
Name kor_4: OFFSET('[1]Graafiku jaoks'!$B$7,0,'[1]Graafiku jaoks'!$D$17,1,'[1]Graafiku jaoks'!$D$20)

Sheet Lisa 6.1 Lisa 1 Parendustööd
D1: Lisa nr 1 | N1: Jaotus
D2: Üürilepingu nr KPJ-4/2026-70 lisale nr 6.1
B4: Tööde loetelu ja eeldatav maksumus - "Haapsalu kohtumaja (Sadama tn 21, Haapsalu) rekonstrueerimine" | F4: =IF(INDEX('Lisa 6.1 Lisa 2 Sisustus'!$A:$CE,7,MATCH("Osakaal",'Lisa 6.1 Lisa 2 Sisustus'!$6:$6,0))=0,"",INDEX('Lisa 6.1 Lisa 2 Sisustus'!$A:$CE,7,MATCH("Osakaal",'Lisa 6.1 Lisa 2 Sisustus'!$6:$6,0))) -> 0.0092228362 | G4: =IF(INDEX('Lisa 6.1 Lisa 2 Sisustus'!$A:$CE,8,MATCH("Osakaal",'Lisa 6.1 Lisa 2 Sisustus'!$6:$6,0))=0,"",INDEX('Lisa 6.1 Lisa 2 Sisustus'!$A:$CE,8,MATCH("Osakaal",'Lisa 6.1 Lisa 2 Sisustus'!$6:$6,0))) -> 0.087641876 | H4: =IF(INDEX('Lisa 6.1 Lisa 2 Sisustus'!$A:$CE,9,MATCH("Osakaal",'Lisa 6.1 Lisa 2 Sisustus'!$6:$6,0))=0,"",INDEX('Lisa 6.1 Lisa 2 Sisustus'!$A:$CE,9,MATCH("Osakaal",'Lisa 6.1 Lisa 2 Sisustus'!$6:$6,0))) -> 0.057562318 | I4: =IF(INDEX('Lisa 6.1 Lisa 2 Sisustus'!$A:$CE,10,MATCH("Osakaal",'Lisa 6.1 Lisa 2 Sisustus'!$6:$6,0))=0,"",INDEX('Lisa 6.1 Lisa 2 Sisustus'!$A:$CE,10,MATCH("Osakaal",'Lisa 6.1 Lisa 2 Sisustus'!$6:$6,0))) -> 0.080717085 | J4: =IF(INDEX('Lisa 6.1 Lisa 2 Sisustus'!$A:$CE,11,MATCH("Osakaal",'Lisa 6.1 Lisa 2 Sisustus'!$6:$6,0))=0,"",INDEX('Lisa 6.1 Lisa 2 Sisustus'!$A:$CE,11,MATCH("Osakaal",'Lisa 6.1 Lisa 2 Sisustus'!$6:$6,0))) -> 0.042015143 | K4: =IF(INDEX('Lisa 6.1 Lisa 2 Sisustus'!$A:$CE,12,MATCH("Osakaal",'Lisa 6.1 Lisa 2 Sisustus'!$6:$6,0))=0,"",INDEX('Lisa 6.1 Lisa 2 Sisustus'!$A:$CE,12,MATCH("Osakaal",'Lisa 6.1 Lisa 2 Sisustus'!$6:$6,0))) -> 0.065604523 | L4: =IF(INDEX('Lisa 6.1 Lisa 2 Sisustus'!$A:$CE,13,MATCH("Osakaal",'Lisa 6.1 Lisa 2 Sisustus'!$6:$6,0))=0,"",INDEX('Lisa 6.1 Lisa 2 Sisustus'!$A:$CE,13,MATCH("Osakaal",'Lisa 6.1 Lisa 2 Sisustus'!$6:$6,0))) -> 0.65723622 | M4: =IF(INDEX('Lisa 6.1 Lisa 2 Sisustus'!$A:$CE,14,MATCH("Osakaal",'Lisa 6.1 Lisa 2 Sisustus'!$6:$6,0))=0,"",INDEX('Lisa 6.1 Lisa 2 Sisustus'!$A:$CE,14,MATCH("Osakaal",'Lisa 6.1 Lisa 2 Sisustus'!$6:$6,0)))
B6: Jrk nr | C6: Töö nimetus | D6: Eeldatav maksumus, EUR, km-ta | E6: Kontroll | F6: =INDEX('Lisa 6.1 Lisa 2 Sisustus'!$A:$CE,7,MATCH("Üürnik",'Lisa 6.1 Lisa 2 Sisustus'!$6:$6,0)) -> Tööinspektsioon | G6: =INDEX('Lisa 6.1 Lisa 2 Sisustus'!$A:$CE,8,MATCH("Üürnik",'Lisa 6.1 Lisa 2 Sisustus'!$6:$6,0)) -> Maksu- ja Tolliamet | H6: =INDEX('Lisa 6.1 Lisa 2 Sisustus'!$A:$CE,9,MATCH("Üürnik",'Lisa 6.1 Lisa 2 Sisustus'!$6:$6,0)) -> Sotsiaalkindlustusamet | I6: =INDEX('Lisa 6.1 Lisa 2 Sisustus'!$A:$CE,10,MATCH("Üürnik",'Lisa 6.1 Lisa 2 Sisustus'!$6:$6,0)) -> Haridus- ja Noorteamet | J6: =INDEX('Lisa 6.1 Lisa 2 Sisustus'!$A:$CE,11,MATCH("Üürnik",'Lisa 6.1 Lisa 2 Sisustus'!$6:$6,0)) -> Tallinna Vangla | K6: =INDEX('Lisa 6.1 Lisa 2 Sisustus'!$A:$CE,12,MATCH("Üürnik",'Lisa 6.1 Lisa 2 Sisustus'!$6:$6,0)) -> PROKURATUUR | L6: =INDEX('Lisa 6.1 Lisa 2 Sisustus'!$A:$CE,13,MATCH("Üürnik",'Lisa 6.1 Lisa 2 Sisustus'!$6:$6,0)) -> PÄRNU MAAKOHUS | M6: =INDEX('Lisa 6.1 Lisa 2 Sisustus'!$A:$CE,14,MATCH("Üürnik",'Lisa 6.1 Lisa 2 Sisustus'!$6:$6,0)) -> Aktiivne vakantsus
B7: ARENDUSTEGEVUS | D7: =SUM(D8+D10+D19+D21) -> 356505 | E7: =IFERROR(SUM(D7)-SUM(F7:M7),"") -> -1.1641532e-10 | F7: =SUM(F8+F10+F19+F21) -> 3287.9872 | G7: =SUM(G8+G10+G19+G21) -> 31244.767 | H7: =SUM(H8+H10+H19+H21) -> 20521.254 | I7: =SUM(I8+I10+I19+I21) -> 28776.045 | J7: =SUM(J8+J10+J19+J21) -> 14978.608 | K7: =SUM(K8+K10+K19+K21) -> 23388.341 | L7: =SUM(L8+L10+L19+L21) -> 234308 | M7: =SUM(M8+M10+M19+M21) -> 0
B8: 1 | C8: Kinnisvara omandamise ja väärtustamise kulud | D8: =SUM(D9:D9) -> 0 | E8: =IFERROR(SUM(D8)-SUM(F8:M8),"") -> 0 | F8: =SUM(F9:F9) -> 0 | G8: =SUM(G9:G9) -> 0 | H8: =SUM(H9:H9) -> 0 | I8: =SUM(I9:I9) -> 0 | J8: =SUM(J9:J9) -> 0 | K8: =SUM(K9:K9) -> 0 | L8: =SUM(L9:L9) -> 0 | M8: =SUM(M9:M9) -> 0
B9: 1.1. | D9: - | E9: =IFERROR(SUM(D9)-SUM(F9:M9),"") -> 0 | F9: =IFERROR($D9*F$4,0) -> 0 | G9: =IFERROR($D9*G$4,0) -> 0 | H9: =IFERROR($D9*H$4,0) -> 0 | I9: =IFERROR($D9*I$4,0) -> 0 | J9: =IFERROR($D9*J$4,0) -> 0 | K9: =IFERROR($D9*K$4,0) -> 0 | L9: =IFERROR($D9*L$4,0) -> 0 | M9: =IFERROR($D9*M$4,0) -> 0
B10: 2 | C10: Tellija muud arendusaegsed kulud; va intress | D10: =SUM(D11:D18) -> 97505 | E10: =IFERROR(SUM(D10)-SUM(F10:M10),"") -> -2.910383e-11 | F10: =SUM(F11:F18) -> 899.27264 | G10: =SUM(G11:G18) -> 8545.5211 | H10: =SUM(H11:H18) -> 5612.6138 | I10: =SUM(I11:I18) -> 7870.3194 | J10: =SUM(J11:J18) -> 4096.6865 | K10: =SUM(K11:K18) -> 6396.7691 | L10: =SUM(L11:L18) -> 64083.818 | M10: =SUM(M11:M18) -> 0
B11: 2.1. | C11: Omanikujärelevalve | D11: 67500 | E11: =IFERROR(SUM(D11)-SUM(F11:M11),"") -> -2.910383e-11 | F11: =IFERROR($D11*F$4,0) -> 622.54144 | G11: =IFERROR($D11*G$4,0) -> 5915.8266 | H11: =IFERROR($D11*H$4,0) -> 3885.4565 | I11: =IFERROR($D11*I$4,0) -> 5448.4033 | J11: =IFERROR($D11*J$4,0) -> 2836.0221 | K11: =IFERROR($D11*K$4,0) -> 4428.3053 | L11: =IFERROR($D11*L$4,0) -> 44363.445 | M11: =IFERROR($D11*M$4,0) -> 0
B12: 2.2. | C12: Lubade taotlemisega seotud kulud | D12: - | E12: =IFERROR(SUM(D12)-SUM(F12:M12),"") -> 0 | F12: =IFERROR($D12*F$4,0) -> 0 | G12: =IFERROR($D12*G$4,0) -> 0 | H12: =IFERROR($D12*H$4,0) -> 0 | I12: =IFERROR($D12*I$4,0) -> 0 | J12: =IFERROR($D12*J$4,0) -> 0 | K12: =IFERROR($D12*K$4,0) -> 0 | L12: =IFERROR($D12*L$4,0) -> 0 | M12: =IFERROR($D12*M$4,0) -> 0
B13: 2.3. | C13: Muud kontrorikulud | D13: - | E13: =IFERROR(SUM(D13)-SUM(F13:M13),"") -> 0 | F13: =IFERROR($D13*F$4,0) -> 0 | G13: =IFERROR($D13*G$4,0) -> 0 | H13: =IFERROR($D13*H$4,0) -> 0 | I13: =IFERROR($D13*I$4,0) -> 0 | J13: =IFERROR($D13*J$4,0) -> 0 | K13: =IFERROR($D13*K$4,0) -> 0 | L13: =IFERROR($D13*L$4,0) -> 0 | M13: =IFERROR($D13*M$4,0) -> 0
B14: 2.4. | C14: Ekspertiisid, konsultatsioonid, mõõtmised jne | D14: 30005 | E14: =IFERROR(SUM(D14)-SUM(F14:M14),"") -> -7.2759576e-12 | F14: =IFERROR($D14*F$4,0) -> 276.7312 | G14: =IFERROR($D14*G$4,0) -> 2629.6945 | H14: =IFERROR($D14*H$4,0) -> 1727.1574 | I14: =IFERROR($D14*I$4,0) -> 2421.9161 | J14: =IFERROR($D14*J$4,0) -> 1260.6644 | K14: =IFERROR($D14*K$4,0) -> 1968.4637 | L14: =IFERROR($D14*L$4,0) -> 19720.373 | M14: =IFERROR($D14*M$4,0) -> 0
B15: 2.5. | C15: Ehitusaegne kindlustus | D15: - | E15: =IFERROR(SUM(D15)-SUM(F15:M15),"") -> 0 | F15: =IFERROR($D15*F$4,0) -> 0 | G15: =IFERROR($D15*G$4,0) -> 0 | H15: =IFERROR($D15*H$4,0) -> 0 | I15: =IFERROR($D15*I$4,0) -> 0 | J15: =IFERROR($D15*J$4,0) -> 0 | K15: =IFERROR($D15*K$4,0) -> 0 | L15: =IFERROR($D15*L$4,0) -> 0 | M15: =IFERROR($D15*M$4,0) -> 0
B16: 2.6. | C16: Kulud seoses ehitustööde katkemisega | D16: - | E16: =IFERROR(SUM(D16)-SUM(F16:M16),"") -> 0 | F16: =IFERROR($D16*F$4,0) -> 0 | G16: =IFERROR($D16*G$4,0) -> 0 | H16: =IFERROR($D16*H$4,0) -> 0 | I16: =IFERROR($D16*I$4,0) -> 0 | J16: =IFERROR($D16*J$4,0) -> 0 | K16: =IFERROR($D16*K$4,0) -> 0 | L16: =IFERROR($D16*L$4,0) -> 0 | M16: =IFERROR($D16*M$4,0) -> 0
B17: 2.7. | C17: Juriidiline nõustamine | D17: - | E17: =IFERROR(SUM(D17)-SUM(F17:M17),"") -> 0 | F17: =IFERROR($D17*F$4,0) -> 0 | G17: =IFERROR($D17*G$4,0) -> 0 | H17: =IFERROR($D17*H$4,0) -> 0 | I17: =IFERROR($D17*I$4,0) -> 0 | J17: =IFERROR($D17*J$4,0) -> 0 | K17: =IFERROR($D17*K$4,0) -> 0 | L17: =IFERROR($D17*L$4,0) -> 0 | M17: =IFERROR($D17*M$4,0) -> 0
B18: 2.8. | C18: Muud tellija ehitusaegsed kulud | D18: - | E18: =IFERROR(SUM(D18)-SUM(F18:M18),"") -> 0 | F18: =IFERROR($D18*F$4,0) -> 0 | G18: =IFERROR($D18*G$4,0) -> 0 | H18: =IFERROR($D18*H$4,0) -> 0 | I18: =IFERROR($D18*I$4,0) -> 0 | J18: =IFERROR($D18*J$4,0) -> 0 | K18: =IFERROR($D18*K$4,0) -> 0 | L18: =IFERROR($D18*L$4,0) -> 0 | M18: =IFERROR($D18*M$4,0) -> 0
B19: 3 | C19: Liitumised | D19: =SUM(D20:D20) -> 130000 | E19: =IFERROR(SUM(D19)-SUM(F19:M19),"") -> -4.3655746e-11 | F19: =SUM(F20:F20) -> 1198.9687 | G19: =SUM(G20:G20) -> 11393.444 | H19: =SUM(H20:H20) -> 7483.1014 | I19: =SUM(I20:I20) -> 10493.221 | J19: =SUM(J20:J20) -> 5461.9685 | K19: =SUM(K20:K20) -> 8528.5881 | L19: =SUM(L20:L20) -> 85440.708 | M19: =SUM(M20:M20) -> 0
B20: 3.3. | C20: Kütte liitumine | D20: 130000 | E20: =IFERROR(SUM(D20)-SUM(F20:M20),"") -> -4.3655746e-11 | F20: =IFERROR($D20*F$4,0) -> 1198.9687 | G20: =IFERROR($D20*G$4,0) -> 11393.444 | H20: =IFERROR($D20*H$4,0) -> 7483.1014 | I20: =IFERROR($D20*I$4,0) -> 10493.221 | J20: =IFERROR($D20*J$4,0) -> 5461.9685 | K20: =IFERROR($D20*K$4,0) -> 8528.5881 | L20: =IFERROR($D20*L$4,0) -> 85440.708 | M20: =IFERROR($D20*M$4,0) -> 0
B21: 4 | C21: Projektijuhtimise otsesed kulud | D21: =SUM(D22) -> 129000 | E21: =IFERROR(SUM(D21)-SUM(F21:M21),"") -> -4.3655746e-11 | F21: =SUM(F22) -> 1189.7459 | G21: =SUM(G22) -> 11305.802 | H21: =SUM(H22) -> 7425.5391 | I21: =SUM(I22) -> 10412.504 | J21: =SUM(J22) -> 5419.9534 | K21: =SUM(K22) -> 8462.9835 | L21: =SUM(L22) -> 84783.472 | M21: =SUM(M22) -> 0
B22: 4.1. | C22: Projektmeeskonna ehitusaegne kulu | D22: 129000 | E22: =IFERROR(SUM(D22)-SUM(F22:M22),"") -> -4.3655746e-11 | F22: =IFERROR($D22*F$4,0) -> 1189.7459 | G22: =IFERROR($D22*G$4,0) -> 11305.802 | H22: =IFERROR($D22*H$4,0) -> 7425.5391 | I22: =IFERROR($D22*I$4,0) -> 10412.504 | J22: =IFERROR($D22*J$4,0) -> 5419.9534 | K22: =IFERROR($D22*K$4,0) -> 8462.9835 | L22: =IFERROR($D22*L$4,0) -> 84783.472 | M22: =IFERROR($D22*M$4,0) -> 0
B23: EHITAMINE | D23: =SUM(D24,D30) -> 4584350 | E23: =IFERROR(SUM(D23)-SUM(F23:M23),"") -> -1.8626451e-09 | F23: =SUM(F24+F30) -> 42280.709 | G23: =SUM(G24+G30) -> 401781.03 | H23: =SUM(H24+H30) -> 263885.81 | I23: =SUM(I24+I30) -> 370035.37 | J23: =SUM(J24+J30) -> 192612.12 | K23: =SUM(K24+K30) -> 300754.1 | L23: =SUM(L24+L30) -> 3013000.9 | M23: =SUM(M24+M30) -> 0
B24: 5 | C24: Projekteerimine ja uuringud | D24: =SUM(D25:D29) -> 281350 | E24: =IFERROR(SUM(D24)-SUM(F24:M24),"") -> -1.1641532e-10 | F24: =SUM(F25:F29) -> 2594.845 | G24: =SUM(G25:G29) -> 24658.042 | H24: =SUM(H25:H29) -> 16195.158 | I24: =SUM(I25:I29) -> 22709.752 | J24: =SUM(J25:J29) -> 11820.96 | K24: =SUM(K25:K29) -> 18457.833 | L24: =SUM(L25:L29) -> 184913.41 | M24: =SUM(M25:M29) -> 0
B25: 5.1. | C25: Eskiisi koostamine | D25: 45000 | E25: =IFERROR(SUM(D25)-SUM(F25:M25),"") -> -1.4551915e-11 | F25: =IFERROR($D25*F$4,0) -> 415.02763 | G25: =IFERROR($D25*G$4,0) -> 3943.8844 | H25: =IFERROR($D25*H$4,0) -> 2590.3043 | I25: =IFERROR($D25*I$4,0) -> 3632.2688 | J25: =IFERROR($D25*J$4,0) -> 1890.6814 | K25: =IFERROR($D25*K$4,0) -> 2952.2036 | L25: =IFERROR($D25*L$4,0) -> 29575.63 | M25: =IFERROR($D25*M$4,0) -> 0
B26: 5.2. | C26: Eelprojekti koostamine | D26: 60000 | E26: =IFERROR(SUM(D26)-SUM(F26:M26),"") -> -1.4551915e-11 | F26: =IFERROR($D26*F$4,0) -> 553.37017 | G26: =IFERROR($D26*G$4,0) -> 5258.5125 | H26: =IFERROR($D26*H$4,0) -> 3453.7391 | I26: =IFERROR($D26*I$4,0) -> 4843.0251 | J26: =IFERROR($D26*J$4,0) -> 2520.9086 | K26: =IFERROR($D26*K$4,0) -> 3936.2714 | L26: =IFERROR($D26*L$4,0) -> 39434.173 | M26: =IFERROR($D26*M$4,0) -> 0
B27: 5.3. | C27: Põhiprojekti koostamine | D27: 95000 | E27: =IFERROR(SUM(D27)-SUM(F27:M27),"") -> -2.910383e-11 | F27: =IFERROR($D27*F$4,0) -> 876.16944 | G27: =IFERROR($D27*G$4,0) -> 8325.9782 | H27: =IFERROR($D27*H$4,0) -> 5468.4202 | I27: =IFERROR($D27*I$4,0) -> 7668.1231 | J27: =IFERROR($D27*J$4,0) -> 3991.4385 | K27: =IFERROR($D27*K$4,0) -> 6232.4297 | L27: =IFERROR($D27*L$4,0) -> 62437.441 | M27: =IFERROR($D27*M$4,0) -> 0
B28: 5.4. | C28: Tööprojekti koostamine | D28: 51350 | E28: =IFERROR(SUM(D28)-SUM(F28:M28),"") -> -1.4551915e-11 | F28: =IFERROR($D28*F$4,0) -> 473.59264 | G28: =IFERROR($D28*G$4,0) -> 4500.4103 | H28: =IFERROR($D28*H$4,0) -> 2955.825 | I28: =IFERROR($D28*I$4,0) -> 4144.8223 | J28: =IFERROR($D28*J$4,0) -> 2157.4776 | K28: =IFERROR($D28*K$4,0) -> 3368.7923 | L28: =IFERROR($D28*L$4,0) -> 33749.08 | M28: =IFERROR($D28*M$4,0) -> 0
B29: 5.5. | C29: BIM mudeli koostamine | D29: 30000 | E29: =IFERROR(SUM(D29)-SUM(F29:M29),"") -> -7.2759576e-12 | F29: =IFERROR($D29*F$4,0) -> 276.68508 | G29: =IFERROR($D29*G$4,0) -> 2629.2563 | H29: =IFERROR($D29*H$4,0) -> 1726.8695 | I29: =IFERROR($D29*I$4,0) -> 2421.5126 | J29: =IFERROR($D29*J$4,0) -> 1260.4543 | K29: =IFERROR($D29*K$4,0) -> 1968.1357 | L29: =IFERROR($D29*L$4,0) -> 19717.087 | M29: =IFERROR($D29*M$4,0) -> 0
B30: 6 | C30: Ehituslepingud | D30: =SUM(D31,D40,D45,D50,D58,D67,D77) -> 4303000 | E30: =IFERROR(SUM(D30)-SUM(F30:M30),"") -> -1.8626451e-09 | F30: =SUM(F31+F40+F45+F50+F58+F67+F77) -> 39685.864 | G30: =SUM(G31+G40+G45+G50+G58+G67+G77) -> 377122.99 | H30: =SUM(H31+H40+H45+H50+H58+H67+H77) -> 247690.66 | I30: =SUM(I31+I40+I45+I50+I58+I67+I77) -> 347325.62 | J30: =SUM(J31+J40+J45+J50+J58+J67+J77) -> 180791.16 | K30: =SUM(K31+K40+K45+K50+K58+K67+K77) -> 282296.26 | L30: =SUM(L31+L40+L45+L50+L58+L67+L77) -> 2828087.4 | M30: =SUM(M31+M40+M45+M50+M58+M67+M77) -> 0
B31: 6.1. | C31: Välisrajatised | D31: =SUM(D32:D39) -> 350000 | E31: =IFERROR(SUM(D31)-SUM(F31:M31),"") -> -1.1641532e-10 | F31: =SUM(F32:F39) -> 3227.9927 | G31: =SUM(G32:G39) -> 30674.656 | H31: =SUM(H32:H39) -> 20146.811 | I31: =SUM(I32:I39) -> 28250.98 | J31: =SUM(J32:J39) -> 14705.3 | K31: =SUM(K32:K39) -> 22961.583 | L31: =SUM(L32:L39) -> 230032.68 | M31: =SUM(M32:M39) -> 0
B32: 6.1.1. | C32: Ettevalmistus ja lammutus | D32: 100000 | E32: =IFERROR(SUM(D32)-SUM(F32:M32),"") -> -2.910383e-11 | F32: =IFERROR($D32*F$4,0) -> 922.28362 | G32: =IFERROR($D32*G$4,0) -> 8764.1876 | H32: =IFERROR($D32*H$4,0) -> 5756.2318 | I32: =IFERROR($D32*I$4,0) -> 8071.7085 | J32: =IFERROR($D32*J$4,0) -> 4201.5143 | K32: =IFERROR($D32*K$4,0) -> 6560.4523 | L32: =IFERROR($D32*L$4,0) -> 65723.622 | M32: =IFERROR($D32*M$4,0) -> 0
B33: 6.1.2. | C33: Hoonealune süvend | D33: - | E33: =IFERROR(SUM(D33)-SUM(F33:M33),"") -> 0 | F33: =IFERROR($D33*F$4,0) -> 0 | G33: =IFERROR($D33*G$4,0) -> 0 | H33: =IFERROR($D33*H$4,0) -> 0 | I33: =IFERROR($D33*I$4,0) -> 0 | J33: =IFERROR($D33*J$4,0) -> 0 | K33: =IFERROR($D33*K$4,0) -> 0 | L33: =IFERROR($D33*L$4,0) -> 0 | M33: =IFERROR($D33*M$4,0) -> 0
B34: 6.1.3. | C34: Hoonevälised ehitised | D34: - | E34: =IFERROR(SUM(D34)-SUM(F34:M34),"") -> 0 | F34: =IFERROR($D34*F$4,0) -> 0 | G34: =IFERROR($D34*G$4,0) -> 0 | H34: =IFERROR($D34*H$4,0) -> 0 | I34: =IFERROR($D34*I$4,0) -> 0 | J34: =IFERROR($D34*J$4,0) -> 0 | K34: =IFERROR($D34*K$4,0) -> 0 | L34: =IFERROR($D34*L$4,0) -> 0 | M34: =IFERROR($D34*M$4,0) -> 0
B35: 6.1.4. | C35: Välisvõrgud | D35: 150000 | E35: =IFERROR(SUM(D35)-SUM(F35:M35),"") -> -5.8207661e-11 | F35: =IFERROR($D35*F$4,0) -> 1383.4254 | G35: =IFERROR($D35*G$4,0) -> 13146.281 | H35: =IFERROR($D35*H$4,0) -> 8634.3477 | I35: =IFERROR($D35*I$4,0) -> 12107.563 | J35: =IFERROR($D35*J$4,0) -> 6302.2714 | K35: =IFERROR($D35*K$4,0) -> 9840.6785 | L35: =IFERROR($D35*L$4,0) -> 98585.433 | M35: =IFERROR($D35*M$4,0) -> 0
B36: 6.1.5. | C36: Kaeved maa-alal | D36: 40000 | E36: =IFERROR(SUM(D36)-SUM(F36:M36),"") -> -1.4551915e-11 | F36: =IFERROR($D36*F$4,0) -> 368.91345 | G36: =IFERROR($D36*G$4,0) -> 3505.675 | H36: =IFERROR($D36*H$4,0) -> 2302.4927 | I36: =IFERROR($D36*I$4,0) -> 3228.6834 | J36: =IFERROR($D36*J$4,0) -> 1680.6057 | K36: =IFERROR($D36*K$4,0) -> 2624.1809 | L36: =IFERROR($D36*L$4,0) -> 26289.449 | M36: =IFERROR($D36*M$4,0) -> 0
B37: 6.1.6. | C37: Maa-ala pinnakatted | D37: 60000 | E37: =IFERROR(SUM(D37)-SUM(F37:M37),"") -> -1.4551915e-11 | F37: =IFERROR($D37*F$4,0) -> 553.37017 | G37: =IFERROR($D37*G$4,0) -> 5258.5125 | H37: =IFERROR($D37*H$4,0) -> 3453.7391 | I37: =IFERROR($D37*I$4,0) -> 4843.0251 | J37: =IFERROR($D37*J$4,0) -> 2520.9086 | K37: =IFERROR($D37*K$4,0) -> 3936.2714 | L37: =IFERROR($D37*L$4,0) -> 39434.173 | M37: =IFERROR($D37*M$4,0) -> 0
B38: 6.1.7. | C38: Väikeehitised maa-alal | D38: - | E38: =IFERROR(SUM(D38)-SUM(F38:M38),"") -> 0 | F38: =IFERROR($D38*F$4,0) -> 0 | G38: =IFERROR($D38*G$4,0) -> 0 | H38: =IFERROR($D38*H$4,0) -> 0 | I38: =IFERROR($D38*I$4,0) -> 0 | J38: =IFERROR($D38*J$4,0) -> 0 | K38: =IFERROR($D38*K$4,0) -> 0 | L38: =IFERROR($D38*L$4,0) -> 0 | M38: =IFERROR($D38*M$4,0) -> 0
B39: 6.1.8. | C39: - | D39: - | E39: =IFERROR(SUM(D39)-SUM(F39:M39),"") -> 0 | F39: =IFERROR($D39*F$4,0) -> 0 | G39: =IFERROR($D39*G$4,0) -> 0 | H39: =IFERROR($D39*H$4,0) -> 0 | I39: =IFERROR($D39*I$4,0) -> 0 | J39: =IFERROR($D39*J$4,0) -> 0 | K39: =IFERROR($D39*K$4,0) -> 0 | L39: =IFERROR($D39*L$4,0) -> 0 | M39: =IFERROR($D39*M$4,0) -> 0
B40: 6.2. | C40: Alused ja vundamendid | D40: =SUM(D41:D44) -> 400000 | E40: =IFERROR(SUM(D40)-SUM(F40:M40),"") -> -1.1641532e-10 | F40: =SUM(F41:F44) -> 3689.1345 | G40: =SUM(G41:G44) -> 35056.75 | H40: =SUM(H41:H44) -> 23024.927 | I40: =SUM(I41:I44) -> 32286.834 | J40: =SUM(J41:J44) -> 16806.057 | K40: =SUM(K41:K44) -> 26241.809 | L40: =SUM(L41:L44) -> 262894.49 | M40: =SUM(M41:M44) -> 0
B41: 6.2.1. | C41: Rostvärgid ja taldmikud | D41: 50000 | E41: =IFERROR(SUM(D41)-SUM(F41:M41),"") -> -1.4551915e-11 | F41: =IFERROR($D41*F$4,0) -> 461.14181 | G41: =IFERROR($D41*G$4,0) -> 4382.0938 | H41: =IFERROR($D41*H$4,0) -> 2878.1159 | I41: =IFERROR($D41*I$4,0) -> 4035.8543 | J41: =IFERROR($D41*J$4,0) -> 2100.7571 | K41: =IFERROR($D41*K$4,0) -> 3280.2262 | L41: =IFERROR($D41*L$4,0) -> 32861.811 | M41: =IFERROR($D41*M$4,0) -> 0
B42: 6.2.2. | C42: Aluspõrandad | D42: 350000 | E42: =IFERROR(SUM(D42)-SUM(F42:M42),"") -> -1.1641532e-10 | F42: =IFERROR($D42*F$4,0) -> 3227.9927 | G42: =IFERROR($D42*G$4,0) -> 30674.656 | H42: =IFERROR($D42*H$4,0) -> 20146.811 | I42: =IFERROR($D42*I$4,0) -> 28250.98 | J42: =IFERROR($D42*J$4,0) -> 14705.3 | K42: =IFERROR($D42*K$4,0) -> 22961.583 | L42: =IFERROR($D42*L$4,0) -> 230032.68 | M42: =IFERROR($D42*M$4,0) -> 0
B43: 6.2.3. | C43: Vaiad ja tugevdustarindid | D43: - | E43: =IFERROR(SUM(D43)-SUM(F43:M43),"") -> 0 | F43: =IFERROR($D43*F$4,0) -> 0 | G43: =IFERROR($D43*G$4,0) -> 0 | H43: =IFERROR($D43*H$4,0) -> 0 | I43: =IFERROR($D43*I$4,0) -> 0 | J43: =IFERROR($D43*J$4,0) -> 0 | K43: =IFERROR($D43*K$4,0) -> 0 | L43: =IFERROR($D43*L$4,0) -> 0 | M43: =IFERROR($D43*M$4,0) -> 0
B44: 6.2.4. | C44: - | D44: - | E44: =IFERROR(SUM(D44)-SUM(F44:M44),"") -> 0 | F44: =IFERROR($D44*F$4,0) -> 0 | G44: =IFERROR($D44*G$4,0) -> 0 | H44: =IFERROR($D44*H$4,0) -> 0 | I44: =IFERROR($D44*I$4,0) -> 0 | J44: =IFERROR($D44*J$4,0) -> 0 | K44: =IFERROR($D44*K$4,0) -> 0 | L44: =IFERROR($D44*L$4,0) -> 0 | M44: =IFERROR($D44*M$4,0) -> 0
B45: 6.3. | C45: Kandetarindid | D45: =SUM(D46:D49) -> 330000 | E45: =IFERROR(SUM(D45)-SUM(F45:M45),"") -> -1.1641532e-10 | F45: =SUM(F46:F49) -> 3043.5359 | G45: =SUM(G46:G49) -> 28921.819 | H45: =SUM(H46:H49) -> 18995.565 | I45: =SUM(I46:I49) -> 26636.638 | J45: =SUM(J46:J49) -> 13864.997 | K45: =SUM(K46:K49) -> 21649.493 | L45: =SUM(L46:L49) -> 216887.95 | M45: =SUM(M46:M49) -> 0
B46: 6.3.1. | C46: Kandvad ja välisseinad | D46: 100000 | E46: =IFERROR(SUM(D46)-SUM(F46:M46),"") -> -2.910383e-11 | F46: =IFERROR($D46*F$4,0) -> 922.28362 | G46: =IFERROR($D46*G$4,0) -> 8764.1876 | H46: =IFERROR($D46*H$4,0) -> 5756.2318 | I46: =IFERROR($D46*I$4,0) -> 8071.7085 | J46: =IFERROR($D46*J$4,0) -> 4201.5143 | K46: =IFERROR($D46*K$4,0) -> 6560.4523 | L46: =IFERROR($D46*L$4,0) -> 65723.622 | M46: =IFERROR($D46*M$4,0) -> 0
B47: 6.3.2. | C47: Vahe- ja katuslaed | D47: 150000 | E47: =IFERROR(SUM(D47)-SUM(F47:M47),"") -> -5.8207661e-11 | F47: =IFERROR($D47*F$4,0) -> 1383.4254 | G47: =IFERROR($D47*G$4,0) -> 13146.281 | H47: =IFERROR($D47*H$4,0) -> 8634.3477 | I47: =IFERROR($D47*I$4,0) -> 12107.563 | J47: =IFERROR($D47*J$4,0) -> 6302.2714 | K47: =IFERROR($D47*K$4,0) -> 9840.6785 | L47: =IFERROR($D47*L$4,0) -> 98585.433 | M47: =IFERROR($D47*M$4,0) -> 0
B48: 6.3.3. | C48: Trepielemendid | D48: 80000 | E48: =IFERROR(SUM(D48)-SUM(F48:M48),"") -> -2.910383e-11 | F48: =IFERROR($D48*F$4,0) -> 737.82689 | G48: =IFERROR($D48*G$4,0) -> 7011.35 | H48: =IFERROR($D48*H$4,0) -> 4604.9855 | I48: =IFERROR($D48*I$4,0) -> 6457.3668 | J48: =IFERROR($D48*J$4,0) -> 3361.2114 | K48: =IFERROR($D48*K$4,0) -> 5248.3619 | L48: =IFERROR($D48*L$4,0) -> 52578.897 | M48: =IFERROR($D48*M$4,0) -> 0
B49: 6.3.4. | C49: - | D49: - | E49: =IFERROR(SUM(D49)-SUM(F49:M49),"") -> 0 | F49: =IFERROR($D49*F$4,0) -> 0 | G49: =IFERROR($D49*G$4,0) -> 0 | H49: =IFERROR($D49*H$4,0) -> 0 | I49: =IFERROR($D49*I$4,0) -> 0 | J49: =IFERROR($D49*J$4,0) -> 0 | K49: =IFERROR($D49*K$4,0) -> 0 | L49: =IFERROR($D49*L$4,0) -> 0 | M49: =IFERROR($D49*M$4,0) -> 0
B50: 6.4. | C50: Fassaadielemendid ja katused | D50: =SUM(D51:D57) -> 936000 | E50: =IFERROR(SUM(D50)-SUM(F50:M50),"") -> -2.3283064e-10 | F50: =SUM(F51:F57) -> 8632.5746 | G50: =SUM(G51:G57) -> 82032.796 | H50: =SUM(H51:H57) -> 53878.33 | I50: =SUM(I51:I57) -> 75551.192 | J50: =SUM(J51:J57) -> 39326.173 | K50: =SUM(K51:K57) -> 61405.834 | L50: =SUM(L51:L57) -> 615173.1 | M50: =SUM(M51:M57) -> 0
B51: 6.4.1. | C51: Klaasfassaadid, vitriinid ja eriaknad | D51: 66000 | E51: =IFERROR(SUM(D51)-SUM(F51:M51),"") -> -1.4551915e-11 | F51: =IFERROR($D51*F$4,0) -> 608.70719 | G51: =IFERROR($D51*G$4,0) -> 5784.3638 | H51: =IFERROR($D51*H$4,0) -> 3799.113 | I51: =IFERROR($D51*I$4,0) -> 5327.3276 | J51: =IFERROR($D51*J$4,0) -> 2772.9994 | K51: =IFERROR($D51*K$4,0) -> 4329.8986 | L51: =IFERROR($D51*L$4,0) -> 43377.59 | M51: =IFERROR($D51*M$4,0) -> 0
B52: 6.4.2. | C52: Aknad | D52: 320000 | E52: =IFERROR(SUM(D52)-SUM(F52:M52),"") -> -1.1641532e-10 | F52: =IFERROR($D52*F$4,0) -> 2951.3076 | G52: =IFERROR($D52*G$4,0) -> 28045.4 | H52: =IFERROR($D52*H$4,0) -> 18419.942 | I52: =IFERROR($D52*I$4,0) -> 25829.467 | J52: =IFERROR($D52*J$4,0) -> 13444.846 | K52: =IFERROR($D52*K$4,0) -> 20993.448 | L52: =IFERROR($D52*L$4,0) -> 210315.59 | M52: =IFERROR($D52*M$4,0) -> 0
B53: 6.4.3. | C53: Välisuksed ja väravad | D53: 200000 | E53: =IFERROR(SUM(D53)-SUM(F53:M53),"") -> -5.8207661e-11 | F53: =IFERROR($D53*F$4,0) -> 1844.5672 | G53: =IFERROR($D53*G$4,0) -> 17528.375 | H53: =IFERROR($D53*H$4,0) -> 11512.464 | I53: =IFERROR($D53*I$4,0) -> 16143.417 | J53: =IFERROR($D53*J$4,0) -> 8403.0285 | K53: =IFERROR($D53*K$4,0) -> 13120.905 | L53: =IFERROR($D53*L$4,0) -> 131447.24 | M53: =IFERROR($D53*M$4,0) -> 0
B54: 6.4.4. | C54: Rõdud ja terrassid | D54: 150000 | E54: =IFERROR(SUM(D54)-SUM(F54:M54),"") -> -5.8207661e-11 | F54: =IFERROR($D54*F$4,0) -> 1383.4254 | G54: =IFERROR($D54*G$4,0) -> 13146.281 | H54: =IFERROR($D54*H$4,0) -> 8634.3477 | I54: =IFERROR($D54*I$4,0) -> 12107.563 | J54: =IFERROR($D54*J$4,0) -> 6302.2714 | K54: =IFERROR($D54*K$4,0) -> 9840.6785 | L54: =IFERROR($D54*L$4,0) -> 98585.433 | M54: =IFERROR($D54*M$4,0) -> 0
B55: 6.4.5. | C55: Piirded ja käiguteed | D55: 100000 | E55: =IFERROR(SUM(D55)-SUM(F55:M55),"") -> -2.910383e-11 | F55: =IFERROR($D55*F$4,0) -> 922.28362 | G55: =IFERROR($D55*G$4,0) -> 8764.1876 | H55: =IFERROR($D55*H$4,0) -> 5756.2318 | I55: =IFERROR($D55*I$4,0) -> 8071.7085 | J55: =IFERROR($D55*J$4,0) -> 4201.5143 | K55: =IFERROR($D55*K$4,0) -> 6560.4523 | L55: =IFERROR($D55*L$4,0) -> 65723.622 | M55: =IFERROR($D55*M$4,0) -> 0
B56: 6.4.6. | C56: Katusetarindid | D56: 100000 | E56: =IFERROR(SUM(D56)-SUM(F56:M56),"") -> -2.910383e-11 | F56: =IFERROR($D56*F$4,0) -> 922.28362 | G56: =IFERROR($D56*G$4,0) -> 8764.1876 | H56: =IFERROR($D56*H$4,0) -> 5756.2318 | I56: =IFERROR($D56*I$4,0) -> 8071.7085 | J56: =IFERROR($D56*J$4,0) -> 4201.5143 | K56: =IFERROR($D56*K$4,0) -> 6560.4523 | L56: =IFERROR($D56*L$4,0) -> 65723.622 | M56: =IFERROR($D56*M$4,0) -> 0
B57: 6.4.7. | C57: - | D57: - | E57: =IFERROR(SUM(D57)-SUM(F57:M57),"") -> 0 | F57: =IFERROR($D57*F$4,0) -> 0 | G57: =IFERROR($D57*G$4,0) -> 0 | H57: =IFERROR($D57*H$4,0) -> 0 | I57: =IFERROR($D57*I$4,0) -> 0 | J57: =IFERROR($D57*J$4,0) -> 0 | K57: =IFERROR($D57*K$4,0) -> 0 | L57: =IFERROR($D57*L$4,0) -> 0 | M57: =IFERROR($D57*M$4,0) -> 0
B58: 6.5. | C58: Ruumitarindid ja pinnakatted | D58: =SUM(D59:D66) -> 1027000 | E58: =IFERROR(SUM(D58)-SUM(F58:M58),"") -> -4.6566129e-10 | F58: =SUM(F59:F66) -> 9471.8527 | G58: =SUM(G59:G66) -> 90008.206 | H58: =SUM(H59:H66) -> 59116.501 | I58: =SUM(I59:I66) -> 82896.447 | J58: =SUM(J59:J66) -> 43149.551 | K58: =SUM(K59:K66) -> 67375.846 | L58: =SUM(L59:L66) -> 674981.6 | M58: =SUM(M59:M66) -> 0
B59: 6.5.1. | C59: Vaheseinad | D59: 160000 | E59: =IFERROR(SUM(D59)-SUM(F59:M59),"") -> -5.8207661e-11 | F59: =IFERROR($D59*F$4,0) -> 1475.6538 | G59: =IFERROR($D59*G$4,0) -> 14022.7 | H59: =IFERROR($D59*H$4,0) -> 9209.9709 | I59: =IFERROR($D59*I$4,0) -> 12914.734 | J59: =IFERROR($D59*J$4,0) -> 6722.4228 | K59: =IFERROR($D59*K$4,0) -> 10496.724 | L59: =IFERROR($D59*L$4,0) -> 105157.79 | M59: =IFERROR($D59*M$4,0) -> 0
B60: 6.5.2. | C60: Siseuksed | D60: 65000 | E60: =IFERROR(SUM(D60)-SUM(F60:M60),"") -> -2.1827873e-11 | F60: =IFERROR($D60*F$4,0) -> 599.48435 | G60: =IFERROR($D60*G$4,0) -> 5696.7219 | H60: =IFERROR($D60*H$4,0) -> 3741.5507 | I60: =IFERROR($D60*I$4,0) -> 5246.6105 | J60: =IFERROR($D60*J$4,0) -> 2730.9843 | K60: =IFERROR($D60*K$4,0) -> 4264.294 | L60: =IFERROR($D60*L$4,0) -> 42720.354 | M60: =IFERROR($D60*M$4,0) -> 0
B61: 6.5.3. | C61: Siseseinte pinnakatted | D61: 110000 | E61: =IFERROR(SUM(D61)-SUM(F61:M61),"") -> -2.910383e-11 | F61: =IFERROR($D61*F$4,0) -> 1014.512 | G61: =IFERROR($D61*G$4,0) -> 9640.6063 | H61: =IFERROR($D61*H$4,0) -> 6331.855 | I61: =IFERROR($D61*I$4,0) -> 8878.8794 | J61: =IFERROR($D61*J$4,0) -> 4621.6657 | K61: =IFERROR($D61*K$4,0) -> 7216.4976 | L61: =IFERROR($D61*L$4,0) -> 72295.984 | M61: =IFERROR($D61*M$4,0) -> 0
B62: 6.5.4. | C62: Lagede pinnakatted | D62: 240000 | E62: =IFERROR(SUM(D62)-SUM(F62:M62),"") -> -5.8207661e-11 | F62: =IFERROR($D62*F$4,0) -> 2213.4807 | G62: =IFERROR($D62*G$4,0) -> 21034.05 | H62: =IFERROR($D62*H$4,0) -> 13814.956 | I62: =IFERROR($D62*I$4,0) -> 19372.1 | J62: =IFERROR($D62*J$4,0) -> 10083.634 | K62: =IFERROR($D62*K$4,0) -> 15745.086 | L62: =IFERROR($D62*L$4,0) -> 157736.69 | M62: =IFERROR($D62*M$4,0) -> 0
B63: 6.5.5. | C63: Treppide pinnakatted | D63: 12000 | E63: =IFERROR(SUM(D63)-SUM(F63:M63),"") -> -3.6379788e-12 | F63: =IFERROR($D63*F$4,0) -> 110.67403 | G63: =IFERROR($D63*G$4,0) -> 1051.7025 | H63: =IFERROR($D63*H$4,0) -> 690.74782 | I63: =IFERROR($D63*I$4,0) -> 968.60502 | J63: =IFERROR($D63*J$4,0) -> 504.18171 | K63: =IFERROR($D63*K$4,0) -> 787.25428 | L63: =IFERROR($D63*L$4,0) -> 7886.8346 | M63: =IFERROR($D63*M$4,0) -> 0
B64: 6.5.6. | C64: Põrandad ja põrandakatted | D64: 410000 | E64: =IFERROR(SUM(D64)-SUM(F64:M64),"") -> -1.1641532e-10 | F64: =IFERROR($D64*F$4,0) -> 3781.3628 | G64: =IFERROR($D64*G$4,0) -> 35933.169 | H64: =IFERROR($D64*H$4,0) -> 23600.55 | I64: =IFERROR($D64*I$4,0) -> 33094.005 | J64: =IFERROR($D64*J$4,0) -> 17226.208 | K64: =IFERROR($D64*K$4,0) -> 26897.855 | L64: =IFERROR($D64*L$4,0) -> 269466.85 | M64: =IFERROR($D64*M$4,0) -> 0
B65: 6.5.7. | C65: Eriruumide pinnakatted | D65: 30000 | E65: =IFERROR(SUM(D65)-SUM(F65:M65),"") -> -7.2759576e-12 | F65: =IFERROR($D65*F$4,0) -> 276.68508 | G65: =IFERROR($D65*G$4,0) -> 2629.2563 | H65: =IFERROR($D65*H$4,0) -> 1726.8695 | I65: =IFERROR($D65*I$4,0) -> 2421.5126 | J65: =IFERROR($D65*J$4,0) -> 1260.4543 | K65: =IFERROR($D65*K$4,0) -> 1968.1357 | L65: =IFERROR($D65*L$4,0) -> 19717.087 | M65: =IFERROR($D65*M$4,0) -> 0
B66: 6.5.8. | C66: - | D66: - | E66: =IFERROR(SUM(D66)-SUM(F66:M66),"") -> 0 | F66: =IFERROR($D66*F$4,0) -> 0 | G66: =IFERROR($D66*G$4,0) -> 0 | H66: =IFERROR($D66*H$4,0) -> 0 | I66: =IFERROR($D66*I$4,0) -> 0 | J66: =IFERROR($D66*J$4,0) -> 0 | K66: =IFERROR($D66*K$4,0) -> 0 | L66: =IFERROR($D66*L$4,0) -> 0 | M66: =IFERROR($D66*M$4,0) -> 0
B67: 6.6. | C67: Tehnosüsteemid | D67: =SUM(D68:D76) -> 1260000 | E67: =IFERROR(SUM(D67)-SUM(F67:M67),"") -> -4.6566129e-10 | F67: =SUM(F68:F76) -> 11620.774 | G67: =SUM(G68:G76) -> 110428.76 | H67: =SUM(H68:H76) -> 72528.521 | I67: =SUM(I68:I76) -> 101703.53 | J67: =SUM(J68:J76) -> 52939.08 | K67: =SUM(K68:K76) -> 82661.7 | L67: =SUM(L68:L76) -> 828117.64 | M67: =SUM(M68:M76) -> 0
B68: 6.6.1. | C68: Tõste- ja teisaldusseadmed | D68: 50000 | E68: =IFERROR(SUM(D68)-SUM(F68:M68),"") -> -1.4551915e-11 | F68: =IFERROR($D68*F$4,0) -> 461.14181 | G68: =IFERROR($D68*G$4,0) -> 4382.0938 | H68: =IFERROR($D68*H$4,0) -> 2878.1159 | I68: =IFERROR($D68*I$4,0) -> 4035.8543 | J68: =IFERROR($D68*J$4,0) -> 2100.7571 | K68: =IFERROR($D68*K$4,0) -> 3280.2262 | L68: =IFERROR($D68*L$4,0) -> 32861.811 | M68: =IFERROR($D68*M$4,0) -> 0
B69: 6.6.2. | C69: Bioreaktor | D69: - | E69: =IFERROR(SUM(D69)-SUM(F69:M69),"") -> 0 | F69: =IFERROR($D69*F$4,0) -> 0 | G69: =IFERROR($D69*G$4,0) -> 0 | H69: =IFERROR($D69*H$4,0) -> 0 | I69: =IFERROR($D69*I$4,0) -> 0 | J69: =IFERROR($D69*J$4,0) -> 0 | K69: =IFERROR($D69*K$4,0) -> 0 | L69: =IFERROR($D69*L$4,0) -> 0 | M69: =IFERROR($D69*M$4,0) -> 0
B70: 6.6.3. | C70: Erisüsteemid | D70: - | E70: =IFERROR(SUM(D70)-SUM(F70:M70),"") -> 0 | F70: =IFERROR($D70*F$4,0) -> 0 | G70: =IFERROR($D70*G$4,0) -> 0 | H70: =IFERROR($D70*H$4,0) -> 0 | I70: =IFERROR($D70*I$4,0) -> 0 | J70: =IFERROR($D70*J$4,0) -> 0 | K70: =IFERROR($D70*K$4,0) -> 0 | L70: =IFERROR($D70*L$4,0) -> 0 | M70: =IFERROR($D70*M$4,0) -> 0
B71: 6.6.4. | C71: Veevarustus, kanalisatsioon, sanseadmed | D71: 150000 | E71: =IFERROR(SUM(D71)-SUM(F71:M71),"") -> -5.8207661e-11 | F71: =IFERROR($D71*F$4,0) -> 1383.4254 | G71: =IFERROR($D71*G$4,0) -> 13146.281 | H71: =IFERROR($D71*H$4,0) -> 8634.3477 | I71: =IFERROR($D71*I$4,0) -> 12107.563 | J71: =IFERROR($D71*J$4,0) -> 6302.2714 | K71: =IFERROR($D71*K$4,0) -> 9840.6785 | L71: =IFERROR($D71*L$4,0) -> 98585.433 | M71: =IFERROR($D71*M$4,0) -> 0
B72: 6.6.5. | C72: Küte, ventilatsioon ja jahutus | D72: 450000 | E72: =IFERROR(SUM(D72)-SUM(F72:M72),"") -> -1.1641532e-10 | F72: =IFERROR($D72*F$4,0) -> 4150.2763 | G72: =IFERROR($D72*G$4,0) -> 39438.844 | H72: =IFERROR($D72*H$4,0) -> 25903.043 | I72: =IFERROR($D72*I$4,0) -> 36322.688 | J72: =IFERROR($D72*J$4,0) -> 18906.814 | K72: =IFERROR($D72*K$4,0) -> 29522.036 | L72: =IFERROR($D72*L$4,0) -> 295756.3 | M72: =IFERROR($D72*M$4,0) -> 0
B73: 6.6.6. | C73: Tuletõrjevarustus | D73: 60000 | E73: =IFERROR(SUM(D73)-SUM(F73:M73),"") -> -1.4551915e-11 | F73: =IFERROR($D73*F$4,0) -> 553.37017 | G73: =IFERROR($D73*G$4,0) -> 5258.5125 | H73: =IFERROR($D73*H$4,0) -> 3453.7391 | I73: =IFERROR($D73*I$4,0) -> 4843.0251 | J73: =IFERROR($D73*J$4,0) -> 2520.9086 | K73: =IFERROR($D73*K$4,0) -> 3936.2714 | L73: =IFERROR($D73*L$4,0) -> 39434.173 | M73: =IFERROR($D73*M$4,0) -> 0
B74: 6.6.7. | C74: Tugevvoolupaigaldis | D74: 350000 | E74: =IFERROR(SUM(D74)-SUM(F74:M74),"") -> -1.1641532e-10 | F74: =IFERROR($D74*F$4,0) -> 3227.9927 | G74: =IFERROR($D74*G$4,0) -> 30674.656 | H74: =IFERROR($D74*H$4,0) -> 20146.811 | I74: =IFERROR($D74*I$4,0) -> 28250.98 | J74: =IFERROR($D74*J$4,0) -> 14705.3 | K74: =IFERROR($D74*K$4,0) -> 22961.583 | L74: =IFERROR($D74*L$4,0) -> 230032.68 | M74: =IFERROR($D74*M$4,0) -> 0
B75: 6.6.8. | C75: Nõrkvoolupaigaldis ja automaatika | D75: 200000 | E75: =IFERROR(SUM(D75)-SUM(F75:M75),"") -> -5.8207661e-11 | F75: =IFERROR($D75*F$4,0) -> 1844.5672 | G75: =IFERROR($D75*G$4,0) -> 17528.375 | H75: =IFERROR($D75*H$4,0) -> 11512.464 | I75: =IFERROR($D75*I$4,0) -> 16143.417 | J75: =IFERROR($D75*J$4,0) -> 8403.0285 | K75: =IFERROR($D75*K$4,0) -> 13120.905 | L75: =IFERROR($D75*L$4,0) -> 131447.24 | M75: =IFERROR($D75*M$4,0) -> 0
B76: 6.6.9. | C76: - | D76: - | E76: =IFERROR(SUM(D76)-SUM(F76:M76),"") -> 0 | F76: =IFERROR($D76*F$4,0) -> 0 | G76: =IFERROR($D76*G$4,0) -> 0 | H76: =IFERROR($D76*H$4,0) -> 0 | I76: =IFERROR($D76*I$4,0) -> 0 | J76: =IFERROR($D76*J$4,0) -> 0 | K76: =IFERROR($D76*K$4,0) -> 0 | L76: =IFERROR($D76*L$4,0) -> 0 | M76: =IFERROR($D76*M$4,0) -> 0
B77: 6.7. | C77: Ehitusplatsi korraldus- ja üldkulud | D77: - | E77: =IFERROR(SUM(D77)-SUM(F77:M77),"") -> 0 | F77: =IFERROR($D77*F$4,0) -> 0 | G77: =IFERROR($D77*G$4,0) -> 0 | H77: =IFERROR($D77*H$4,0) -> 0 | I77: =IFERROR($D77*I$4,0) -> 0 | J77: =IFERROR($D77*J$4,0) -> 0 | K77: =IFERROR($D77*K$4,0) -> 0 | L77: =IFERROR($D77*L$4,0) -> 0 | M77: =IFERROR($D77*M$4,0) -> 0
B78: SISUSTAMINE | D78: =SUM(D79) -> 639562 | E78: =IFERROR(SUM(D78)-SUM(F78:M78),"") -> -2.3283064e-10 | F78: =SUM(F79) -> 5898.5755 | G78: =SUM(G79) -> 56052.413 | H78: =SUM(H79) -> 36814.671 | I78: =SUM(I79) -> 51623.581 | J78: =SUM(J79) -> 26871.289 | K78: =SUM(K79) -> 41958.16 | L78: =SUM(L79) -> 420343.31 | M78: =SUM(M79) -> 0
B79: 7 | C79: Sisustus ja kunstiteosed | D79: =SUM(D80:D82) -> 639562 | E79: =IFERROR(SUM(D79)-SUM(F79:M79),"") -> -2.3283064e-10 | F79: =SUM(F80:F82) -> 5898.5755 | G79: =SUM(G80:G82) -> 56052.413 | H79: =SUM(H80:H82) -> 36814.671 | I79: =SUM(I80:I82) -> 51623.581 | J79: =SUM(J80:J82) -> 26871.289 | K79: =SUM(K80:K82) -> 41958.16 | L79: =SUM(L80:L82) -> 420343.31 | M79: =SUM(M80:M82) -> 0
B80: 7.1. | C80: Tavasisustus | D80: 479562 | E80: =IFERROR(SUM(D80)-SUM(F80:M80),"") -> -1.7462298e-10 | F80: =IFERROR($D80*F$4,0) -> 4422.9218 | G80: =IFERROR($D80*G$4,0) -> 42029.713 | H80: =IFERROR($D80*H$4,0) -> 27604.7 | I80: =IFERROR($D80*I$4,0) -> 38708.847 | J80: =IFERROR($D80*J$4,0) -> 20148.866 | K80: =IFERROR($D80*K$4,0) -> 31461.436 | L80: =IFERROR($D80*L$4,0) -> 315185.52 | M80: =IFERROR($D80*M$4,0) -> 0
B81: 7.2. | C81: Erisisustus | D81: 100000 | E81: =IFERROR(SUM(D81)-SUM(F81:M81),"") -> -2.910383e-11 | F81: =IFERROR($D81*F$4,0) -> 922.28362 | G81: =IFERROR($D81*G$4,0) -> 8764.1876 | H81: =IFERROR($D81*H$4,0) -> 5756.2318 | I81: =IFERROR($D81*I$4,0) -> 8071.7085 | J81: =IFERROR($D81*J$4,0) -> 4201.5143 | K81: =IFERROR($D81*K$4,0) -> 6560.4523 | L81: =IFERROR($D81*L$4,0) -> 65723.622 | M81: =IFERROR($D81*M$4,0) -> 0
B82: 7.3. | C82: Kunst | D82: 60000 | E82: =IFERROR(SUM(D82)-SUM(F82:M82),"") -> -1.4551915e-11 | F82: =IFERROR($D82*F$4,0) -> 553.37017 | G82: =IFERROR($D82*G$4,0) -> 5258.5125 | H82: =IFERROR($D82*H$4,0) -> 3453.7391 | I82: =IFERROR($D82*I$4,0) -> 4843.0251 | J82: =IFERROR($D82*J$4,0) -> 2520.9086 | K82: =IFERROR($D82*K$4,0) -> 3936.2714 | L82: =IFERROR($D82*L$4,0) -> 39434.173 | M82: =IFERROR($D82*M$4,0) -> 0
B83: RESERV | D83: =SUM(D84:D84) -> 430000 | E83: =IFERROR(SUM(D83)-SUM(F83:M83),"") -> -1.1641532e-10 | F83: =SUM(F84:F84) -> 3965.8195 | G83: =SUM(G84:G84) -> 37686.006 | H83: =SUM(H84:H84) -> 24751.797 | I83: =SUM(I84:I84) -> 34708.347 | J83: =SUM(J84:J84) -> 18066.511 | K83: =SUM(K84:K84) -> 28209.945 | L83: =SUM(L84:L84) -> 282611.57 | M83: =SUM(M84:M84) -> 0
B84: 8 | C84: Reserv | D84: =SUM(D85:D86) -> 430000 | E84: =IFERROR(SUM(D84)-SUM(F84:M84),"") -> -1.1641532e-10 | F84: =SUM(F85:F86) -> 3965.8195 | G84: =SUM(G85:G86) -> 37686.006 | H84: =SUM(H85:H86) -> 24751.797 | I84: =SUM(I85:I86) -> 34708.347 | J84: =SUM(J85:J86) -> 18066.511 | K84: =SUM(K85:K86) -> 28209.945 | L84: =SUM(L85:L86) -> 282611.57 | M84: =SUM(M85:M86) -> 0
B85: 8.1. | C85: Ehituslepingu reserv | D85: 430000 | E85: =IFERROR(SUM(D85)-SUM(F85:M85),"") -> -1.1641532e-10 | F85: =IFERROR($D85*F$4,0) -> 3965.8195 | G85: =IFERROR($D85*G$4,0) -> 37686.006 | H85: =IFERROR($D85*H$4,0) -> 24751.797 | I85: =IFERROR($D85*I$4,0) -> 34708.347 | J85: =IFERROR($D85*J$4,0) -> 18066.511 | K85: =IFERROR($D85*K$4,0) -> 28209.945 | L85: =IFERROR($D85*L$4,0) -> 282611.57 | M85: =IFERROR($D85*M$4,0) -> 0
B86: 8.2. | C86: Lepingutega sidumata reserv | D86: - | E86: =IFERROR(SUM(D86)-SUM(F86:M86),"") -> 0 | F86: =IFERROR($D86*F$4,0) -> 0 | G86: =IFERROR($D86*G$4,0) -> 0 | H86: =IFERROR($D86*H$4,0) -> 0 | I86: =IFERROR($D86*I$4,0) -> 0 | J86: =IFERROR($D86*J$4,0) -> 0 | K86: =IFERROR($D86*K$4,0) -> 0 | L86: =IFERROR($D86*L$4,0) -> 0 | M86: =IFERROR($D86*M$4,0) -> 0
B87: EELDATAV MAKSUMUS KOKKU KAUDSETE KULUDETA, KM-TA | D87: =SUM(D7+D23+D78+D83) -> 6010417 | E87: =IFERROR(SUM(D87)-SUM(F87:M87),"") -> -1.8626451e-09 | F87: =SUM(F7+F23+F78+F83) -> 55433.091 | G87: =SUM(G7+G23+G78+G83) -> 526764.22 | H87: =SUM(H7+H23+H78+H83) -> 345973.54 | I87: =SUM(I7+I23+I78+I83) -> 485143.34 | J87: =SUM(J7+J23+J78+J83) -> 252528.53 | K87: =SUM(K7+K23+K78+K83) -> 394310.54 | L87: =SUM(L7+L23+L78+L83) -> 3950263.7 | M87: =SUM(M7+M23+M78+M83) -> 0
B89: 9 | C89: PROJEKTIJUHTIMISE KAUDNE KULU 2,5%, KM-TA | D89: =D87*2.5% -> 150260.43 | E89: =IFERROR(SUM(D89)-SUM(F89:M89),"") -> -2.910383e-11 | F89: =IFERROR($D89*F$4,0) -> 1385.8273 | G89: =IFERROR($D89*G$4,0) -> 13169.105 | H89: =IFERROR($D89*H$4,0) -> 8649.3384 | I89: =IFERROR($D89*I$4,0) -> 12128.584 | J89: =IFERROR($D89*J$4,0) -> 6313.2132 | K89: =IFERROR($D89*K$4,0) -> 9857.7636 | L89: =IFERROR($D89*L$4,0) -> 98756.594 | M89: =IFERROR($D89*M$4,0) -> 0
B90: 10 | C90: EHITUSTÖÖDE AEGNE INTRESSIKULU, KM-TA | D90: 491710.18 | E90: =IFERROR(SUM(D90)-SUM(F90:M90),"") -> -1.7462298e-10 | F90: =IFERROR($D90*F$4,0) -> 4534.9624 | G90: =IFERROR($D90*G$4,0) -> 43094.402 | H90: =IFERROR($D90*H$4,0) -> 28303.978 | I90: =IFERROR($D90*I$4,0) -> 39689.412 | J90: =IFERROR($D90*J$4,0) -> 20659.273 | K90: =IFERROR($D90*K$4,0) -> 32258.412 | L90: =IFERROR($D90*L$4,0) -> 323169.74 | M90: =IFERROR($D90*M$4,0) -> 0
B91: EELDATAV MAKSUMUS KOKKU KOOS KAUDSETE KULUDE JA INTRESSIKULUGA, KM-TA | D91: =SUM(D87,D89,D90) -> 6652387.6 | E91: =IFERROR(SUM(D91)-SUM(F91:M91),"") -> -2.7939677e-09 | F91: =SUM(F87,F89,F90) -> 61353.881 | G91: =SUM(G87,G89,G90) -> 583027.73 | H91: =SUM(H87,H89,H90) -> 382926.85 | I91: =SUM(I87,I89,I90) -> 536961.34 | J91: =SUM(J87,J89,J90) -> 279501.01 | K91: =SUM(K87,K89,K90) -> 436426.72 | L91: =SUM(L87,L89,L90) -> 4372190.1 | M91: =SUM(M87,M89,M90) -> 0
B93: 11 | C93: SISSEVOOL (CO2 toetus, Moferniseerimisfondi toetus, hüvitamise kokkulepe, remonttööde komponendist), KM-TA | D93: - | E93: =IFERROR(SUM(D93)-SUM(F93:M93),"") -> 0 | F93: =IFERROR($D93*F$4,0) -> 0 | G93: =IFERROR($D93*G$4,0) -> 0 | H93: =IFERROR($D93*H$4,0) -> 0 | I93: =IFERROR($D93*I$4,0) -> 0 | J93: =IFERROR($D93*J$4,0) -> 0 | K93: =IFERROR($D93*K$4,0) -> 0 | L93: =IFERROR($D93*L$4,0) -> 0 | M93: =IFERROR($D93*M$4,0) -> 0
B94: EELDATAV MAKSUMUS KOOS KAUDSETE KULUDE JA SISSEVOOLUGA, KM-TA | D94: =SUM(D91)-SUM(D93) -> 6652387.6 | E94: =IFERROR(SUM(D94)-SUM(F94:M94),"") -> -2.7939677e-09 | F94: =F91-F93 -> 61353.881 | G94: =G91-G93 -> 583027.73 | H94: =H91-H93 -> 382926.85 | I94: =I91-I93 -> 536961.34 | J94: =J91-J93 -> 279501.01 | K94: =K91-K93 -> 436426.72 | L94: =L91-L93 -> 4372190.1 | M94: =M91-M93 -> 0
B96: 12 | C96: KÄIBEMAKS 24% | D96: =D94*RIGHT(C96,3) -> 1596573 | E96: =IFERROR(SUM(D96)-SUM(F96:M96),"") -> -4.6566129e-10 | F96: =IFERROR($D96*F$4,0) -> 14724.931 | G96: =IFERROR($D96*G$4,0) -> 139926.65 | H96: =IFERROR($D96*H$4,0) -> 91902.445 | I96: =IFERROR($D96*I$4,0) -> 128870.72 | J96: =IFERROR($D96*J$4,0) -> 67080.243 | K96: =IFERROR($D96*K$4,0) -> 104742.41 | L96: =IFERROR($D96*L$4,0) -> 1049325.6 | M96: =IFERROR($D96*M$4,0) -> 0
B97: EELDATAV MAKSUMUS KOKKU, KM-GA | D97: =SUM(D94,D96) -> 8248960.6 | E97: =IFERROR(SUM(D97)-SUM(F97:M97),"") -> -3.7252903e-09 | F97: =SUM(F94+F96) -> 76078.812 | G97: =SUM(G94+G96) -> 722954.38 | H97: =SUM(H94+H96) -> 474829.3 | I97: =SUM(I94+I96) -> 665832.06 | J97: =SUM(J94+J96) -> 346581.26 | K97: =SUM(K94+K96) -> 541169.13 | L97: =SUM(L94+L96) -> 5421515.7 | M97: =SUM(M94+M96) -> 0

Sheet Lisa 6.1 Lisa 2 Sisustus
I1: Lisa nr 2 | AZ1: Jaotus
I2: Üürilepingu nr KPJ-4/2026-70 lisale nr 6.1
C4: Sisustuse nimekiri ja eeldatav maksumus | K4: Sisustuse jagunemine (ainukasutuses pinnal) | AA4: Sisustuse jagunemine (ühiskasutuses pinnal) | AH4: Ühiskasutuses sisustuse jaotus (ühiskasutuses pinnal) | AQ4: Kokku (ainu- ja ühiskasutuses sisustuse jagunemine)
B6: Tähis | C6: Nimetus | D6: Kogus, tk | E6: Hind, EUR, km-ta | F6: Eeldatav maksumus, EUR, km-ta | G6: Tavasisustus | H6: Erisisustus | I6: Kohtkindel | K6: =$BA7& " kogus" -> Tööinspektsioon kogus | L6: =$BA7& " maksumus" -> Tööinspektsioon maksumus | M6: =$BA8& " kogus" -> Maksu- ja Tolliamet kogus | N6: =$BA8& " maksumus" -> Maksu- ja Tolliamet maksumus | O6: =$BA9& " kogus" -> Sotsiaalkindlustusamet kogus | P6: =$BA9& " maksumus" -> Sotsiaalkindlustusamet maksumus | Q6: =$BA10& " kogus" -> Haridus- ja Noorteamet kogus | R6: =$BA10& " maksumus" -> Haridus- ja Noorteamet maksumus | S6: =$BA11& " kogus" -> Tallinna Vangla kogus | T6: =$BA11& " maksumus" -> Tallinna Vangla maksumus | U6: =$BA12& " kogus" -> PROKURATUUR kogus | V6: =$BA12& " maksumus" -> PROKURATUUR maksumus | W6: =$BA13& " kogus" -> PÄRNU MAAKOHUS kogus | X6: =$BA13& " maksumus" -> PÄRNU MAAKOHUS maksumus | Y6: =$BA14& " kogus" -> Aktiivne vakantsus kogus | Z6: =$BA14& " maksumus" -> Aktiivne vakantsus maksumus | AA6: Ühiskasutus 1 kogus | AB6: Ühiskasutus 1 maksumus | AC6: Ühiskasutus 2 kogus | AD6: Ühiskasutus 2 kogus | AE6: Ühiskasutus 3 kogus | AF6: Ühiskasutus 3 kogus | AH6: =$BA7& " maksumus" -> Tööinspektsioon maksumus | AI6: =$BA8& " maksumus" -> Maksu- ja Tolliamet maksumus | AJ6: =$BA9& " maksumus" -> Sotsiaalkindlustusamet maksumus | AK6: =$BA10& " maksumus" -> Haridus- ja Noorteamet maksumus | AL6: =$BA11& " maksumus" -> Tallinna Vangla maksumus | AM6: =$BA12& " maksumus" -> PROKURATUUR maksumus | AN6: =$BA13& " maksumus" -> PÄRNU MAAKOHUS maksumus | AO6: Aktiivne vakantsus maksumus | AQ6: =$BA7& " maksumus" -> Tööinspektsioon maksumus | AR6: =$BA8& " maksumus" -> Maksu- ja Tolliamet maksumus | AS6: =$BA9& " maksumus" -> Sotsiaalkindlustusamet maksumus | AT6: =$BA10& " maksumus" -> Haridus- ja Noorteamet maksumus | AU6: =$BA11& " maksumus" -> Tallinna Vangla maksumus | AV6: =$BA12& " maksumus" -> PROKURATUUR maksumus | AW6: =$BA13& " maksumus" -> PÄRNU MAAKOHUS maksumus | AX6: Aktiivne vakants maksumus | BA6: Üürnik | BB6: Ainukasutuses pind | BC6: Ühiskasutuses korruste pind | BD6: Ühiskasutuses hoone pind | BE6: Ühiskasutuses muu pind | BF6: Kokku | BG6: Osakaal
C7: Tavasisustus | D7: 1 | E7: 479562 | F7: =IF(OR(SUM(D7)=0,SUM(E7)=0),"",SUM(D7*E7)) -> 479562 | G7: x | J7: =IF(SUM(K7,M7,O7,Q7,S7,U7,W7,Y7,AA7,AC7,AE7)-SUM(D7)=0,"","K") -> K | L7: =IF(ISBLANK(K7),"",SUM(K7*$E7)) | N7: =IF(ISBLANK(M7),"",SUM(M7*$E7)) | P7: =IF(ISBLANK(O7),"",SUM(O7*$E7)) | R7: =IF(ISBLANK(Q7),"",SUM(Q7*$E7)) | T7: =IF(ISBLANK(S7),"",SUM(S7*$E7)) | V7: =IF(ISBLANK(U7),"",SUM(U7*$E7)) | X7: =IF(ISBLANK(W7),"",SUM(W7*$E7)) | Z7: =IF(ISBLANK(Y7),"",SUM(Y7*$E7)) | AB7: =IF(ISBLANK(AA7),"",SUM(AA7*$E7)) | AD7: =IF(ISBLANK(AC7),"",SUM(AC7*$E7)) | AF7: =IF(ISBLANK(AE7),"",SUM(AE7*$E7)) | AH7: =IF(IF(ISBLANK($AA7),0,SUM($AB7*$BB$21))+IF(ISBLANK($AC7),0,SUM($AD7*$BC$21))+IF(ISBLANK($AE7),0,SUM($AF7*$BD$21))=0,"",IF(ISBLANK($AA7),0,SUM($AB7*$BB$21))+IF(ISBLANK($AC7),0,SUM($AD7*$BC$21))+IF(ISBLANK($AE7),0,SUM($AF7*$BD$21))) | AI7: =IF(IF(ISBLANK($AA7),0,SUM($AB7*$BB$22))+IF(ISBLANK($AC7),0,SUM($AD7*$BC$22))+IF(ISBLANK($AE7),0,SUM($AF7*$BD$22))=0,"",IF(ISBLANK($AA7),0,SUM($AB7*$BB$22))+IF(ISBLANK($AC7),0,SUM($AD7*$BC$22))+IF(ISBLANK($AE7),0,SUM($AF7*$BD$22))) | AJ7: =IF(IF(ISBLANK($AA7),0,SUM($AB7*$BB$23))+IF(ISBLANK($AC7),0,SUM($AD7*$BC$23))+IF(ISBLANK($AE7),0,SUM($AF7*$BD$23))=0,"",IF(ISBLANK($AA7),0,SUM($AB7*$BB$23))+IF(ISBLANK($AC7),0,SUM($AD7*$BC$23))+IF(ISBLANK($AE7),0,SUM($AF7*$BD$23))) | AK7: =IF(IF(ISBLANK($AA7),0,SUM($AB7*$BB$24))+IF(ISBLANK($AC7),0,SUM($AD7*$BC$24))+IF(ISBLANK($AE7),0,SUM($AF7*$BD$24))=0,"",IF(ISBLANK($AA7),0,SUM($AB7*$BB$24))+IF(ISBLANK($AC7),0,SUM($AD7*$BC$24))+IF(ISBLANK($AE7),0,SUM($AF7*$BD$24))) | AL7: =IF(IF(ISBLANK($AA7),0,SUM($AB7*$BB$25))+IF(ISBLANK($AC7),0,SUM($AD7*$BC$25))+IF(ISBLANK($AE7),0,SUM($AF7*$BD$25))=0,"",IF(ISBLANK($AA7),0,SUM($AB7*$BB$25))+IF(ISBLANK($AC7),0,SUM($AD7*$BC$25))+IF(ISBLANK($AE7),0,SUM($AF7*$BD$25))) | AM7: =IF(IF(ISBLANK($AA7),0,SUM($AB7*$BB$26))+IF(ISBLANK($AC7),0,SUM($AD7*$BC$26))+IF(ISBLANK($AE7),0,SUM($AF7*$BD$26))=0,"",IF(ISBLANK($AA7),0,SUM($AB7*$BB$26))+IF(ISBLANK($AC7),0,SUM($AD7*$BC$26))+IF(ISBLANK($AE7),0,SUM($AF7*$BD$26))) | AN7: =IF(IF(ISBLANK($AA7),0,SUM($AB7*$BB$27))+IF(ISBLANK($AC7),0,SUM($AD7*$BC$27))+IF(ISBLANK($AE7),0,SUM($AF7*$BD$27))=0,"",IF(ISBLANK($AA7),0,SUM($AB7*$BB$27))+IF(ISBLANK($AC7),0,SUM($AD7*$BC$27))+IF(ISBLANK($AE7),0,SUM($AF7*$BD$27))) | AO7: =IF(IF(ISBLANK($AA7),0,SUM($AB7*$BB$28))+IF(ISBLANK($AC7),0,SUM($AD7*$BC$28))+IF(ISBLANK($AE7),0,SUM($AF7*$BD$28))=0,"",IF(ISBLANK($AA7),0,SUM($AB7*$BB$28))+IF(ISBLANK($AC7),0,SUM($AD7*$BC$28))+IF(ISBLANK($AE7),0,SUM($AF7*$BD$28))) | AP7: =IF(SUM(AB7,AD7,AF7)=SUM(AH7:AO7),"","K") | AQ7: =IF(SUM(L7,AH7)=0,"",SUM(L7,AH7)) | AR7: =IF(SUM(N7,AI7)=0,"",SUM(N7,AI7)) | AS7: =IF(SUM(P7,AJ7)=0,"",SUM(P7,AJ7)) | AT7: =IF(SUM(R7,AK7)=0,"",SUM(R7,AK7)) | AU7: =IF(SUM(T7,AL7)=0,"",SUM(T7,AL7)) | AV7: =IF(SUM(V7,AM7)=0,"",SUM(V7,AM7)) | AW7: =IF(SUM(X7,AN7)=0,"",SUM(X7,AN7)) | AX7: =IF(SUM(Z7,AO7)=0,"",SUM(Z7,AO7)) | AY7: =SUM(AQ7:AX7)-SUM(F7) -> -479562 | BA7: Tööinspektsioon | BB7: 9 | BC7: 0 | BD7: 3.3606789 | BE7: 0.42124971 | BF7: 12.781929 | BG7: 0.0092228362
C8: Erisisustus | D8: 1 | E8: 100000 | F8: =IF(OR(SUM(D8)=0,SUM(E8)=0),"",SUM(D8*E8)) -> 100000 | H8: x | J8: =IF(SUM(K8,M8,O8,Q8,S8,U8,W8,Y8,AA8,AC8,AE8)-SUM(D8)=0,"","K") -> K | L8: =IF(ISBLANK(K8),"",SUM(K8*$E8)) | N8: =IF(ISBLANK(M8),"",SUM(M8*$E8)) | P8: =IF(ISBLANK(O8),"",SUM(O8*$E8)) | R8: =IF(ISBLANK(Q8),"",SUM(Q8*$E8)) | T8: =IF(ISBLANK(S8),"",SUM(S8*$E8)) | V8: =IF(ISBLANK(U8),"",SUM(U8*$E8)) | X8: =IF(ISBLANK(W8),"",SUM(W8*$E8)) | Z8: =IF(ISBLANK(Y8),"",SUM(Y8*$E8)) | AB8: =IF(ISBLANK(AA8),"",SUM(AA8*$E8)) | AD8: =IF(ISBLANK(AC8),"",SUM(AC8*$E8)) | AF8: =IF(ISBLANK(AE8),"",SUM(AE8*$E8)) | AH8: =IF(IF(ISBLANK($AA8),0,SUM($AB8*$BB$21))+IF(ISBLANK($AC8),0,SUM($AD8*$BC$21))+IF(ISBLANK($AE8),0,SUM($AF8*$BD$21))=0,"",IF(ISBLANK($AA8),0,SUM($AB8*$BB$21))+IF(ISBLANK($AC8),0,SUM($AD8*$BC$21))+IF(ISBLANK($AE8),0,SUM($AF8*$BD$21))) | AI8: =IF(IF(ISBLANK($AA8),0,SUM($AB8*$BB$22))+IF(ISBLANK($AC8),0,SUM($AD8*$BC$22))+IF(ISBLANK($AE8),0,SUM($AF8*$BD$22))=0,"",IF(ISBLANK($AA8),0,SUM($AB8*$BB$22))+IF(ISBLANK($AC8),0,SUM($AD8*$BC$22))+IF(ISBLANK($AE8),0,SUM($AF8*$BD$22))) | AJ8: =IF(IF(ISBLANK($AA8),0,SUM($AB8*$BB$23))+IF(ISBLANK($AC8),0,SUM($AD8*$BC$23))+IF(ISBLANK($AE8),0,SUM($AF8*$BD$23))=0,"",IF(ISBLANK($AA8),0,SUM($AB8*$BB$23))+IF(ISBLANK($AC8),0,SUM($AD8*$BC$23))+IF(ISBLANK($AE8),0,SUM($AF8*$BD$23))) | AK8: =IF(IF(ISBLANK($AA8),0,SUM($AB8*$BB$24))+IF(ISBLANK($AC8),0,SUM($AD8*$BC$24))+IF(ISBLANK($AE8),0,SUM($AF8*$BD$24))=0,"",IF(ISBLANK($AA8),0,SUM($AB8*$BB$24))+IF(ISBLANK($AC8),0,SUM($AD8*$BC$24))+IF(ISBLANK($AE8),0,SUM($AF8*$BD$24))) | AL8: =IF(IF(ISBLANK($AA8),0,SUM($AB8*$BB$25))+IF(ISBLANK($AC8),0,SUM($AD8*$BC$25))+IF(ISBLANK($AE8),0,SUM($AF8*$BD$25))=0,"",IF(ISBLANK($AA8),0,SUM($AB8*$BB$25))+IF(ISBLANK($AC8),0,SUM($AD8*$BC$25))+IF(ISBLANK($AE8),0,SUM($AF8*$BD$25))) | AM8: =IF(IF(ISBLANK($AA8),0,SUM($AB8*$BB$26))+IF(ISBLANK($AC8),0,SUM($AD8*$BC$26))+IF(ISBLANK($AE8),0,SUM($AF8*$BD$26))=0,"",IF(ISBLANK($AA8),0,SUM($AB8*$BB$26))+IF(ISBLANK($AC8),0,SUM($AD8*$BC$26))+IF(ISBLANK($AE8),0,SUM($AF8*$BD$26))) | AN8: =IF(IF(ISBLANK($AA8),0,SUM($AB8*$BB$27))+IF(ISBLANK($AC8),0,SUM($AD8*$BC$27))+IF(ISBLANK($AE8),0,SUM($AF8*$BD$27))=0,"",IF(ISBLANK($AA8),0,SUM($AB8*$BB$27))+IF(ISBLANK($AC8),0,SUM($AD8*$BC$27))+IF(ISBLANK($AE8),0,SUM($AF8*$BD$27))) | AO8: =IF(IF(ISBLANK($AA8),0,SUM($AB8*$BB$28))+IF(ISBLANK($AC8),0,SUM($AD8*$BC$28))+IF(ISBLANK($AE8),0,SUM($AF8*$BD$28))=0,"",IF(ISBLANK($AA8),0,SUM($AB8*$BB$28))+IF(ISBLANK($AC8),0,SUM($AD8*$BC$28))+IF(ISBLANK($AE8),0,SUM($AF8*$BD$28))) | AP8: =IF(SUM(AB8,AD8,AF8)=SUM(AH8:AO8),"","K") | AQ8: =IF(SUM(L8,AH8)=0,"",SUM(L8,AH8)) | AR8: =IF(SUM(N8,AI8)=0,"",SUM(N8,AI8)) | AS8: =IF(SUM(P8,AJ8)=0,"",SUM(P8,AJ8)) | AT8: =IF(SUM(R8,AK8)=0,"",SUM(R8,AK8)) | AU8: =IF(SUM(T8,AL8)=0,"",SUM(T8,AL8)) | AV8: =IF(SUM(V8,AM8)=0,"",SUM(V8,AM8)) | AW8: =IF(SUM(X8,AN8)=0,"",SUM(X8,AN8)) | AX8: =IF(SUM(Z8,AO8)=0,"",SUM(Z8,AO8)) | AY8: =SUM(AQ8:AX8)-SUM(F8) -> -100000 | BA8: Maksu- ja Tolliamet | BB8: 81 | BC8: 0 | BD8: 30.24611 | BE8: 10.216765 | BF8: 121.46288 | BG8: 0.087641876
D9: =IF(SUM(K9,M9,O9,Q9,S9,U9,W9,Y9,AA9,AC9,AE9)=0,"",SUM(K9,M9,O9,Q9,S9,U9,W9,Y9,AA9,AC9,AE9)) | F9: =IF(OR(SUM(D9)=0,SUM(E9)=0),"",SUM(D9*E9)) | J9: =IF(SUM(K9,M9,O9,Q9,S9,U9,W9,Y9,AA9,AC9,AE9)-SUM(D9)=0,"","K") | L9: =IF(ISBLANK(K9),"",SUM(K9*$E9)) | N9: =IF(ISBLANK(M9),"",SUM(M9*$E9)) | P9: =IF(ISBLANK(O9),"",SUM(O9*$E9)) | R9: =IF(ISBLANK(Q9),"",SUM(Q9*$E9)) | T9: =IF(ISBLANK(S9),"",SUM(S9*$E9)) | V9: =IF(ISBLANK(U9),"",SUM(U9*$E9)) | X9: =IF(ISBLANK(W9),"",SUM(W9*$E9)) | Z9: =IF(ISBLANK(Y9),"",SUM(Y9*$E9)) | AB9: =IF(ISBLANK(AA9),"",SUM(AA9*$E9)) | AD9: =IF(ISBLANK(AC9),"",SUM(AC9*$E9)) | AF9: =IF(ISBLANK(AE9),"",SUM(AE9*$E9)) | AH9: =IF(IF(ISBLANK($AA9),0,SUM($AB9*$BB$21))+IF(ISBLANK($AC9),0,SUM($AD9*$BC$21))+IF(ISBLANK($AE9),0,SUM($AF9*$BD$21))=0,"",IF(ISBLANK($AA9),0,SUM($AB9*$BB$21))+IF(ISBLANK($AC9),0,SUM($AD9*$BC$21))+IF(ISBLANK($AE9),0,SUM($AF9*$BD$21))) | AI9: =IF(IF(ISBLANK($AA9),0,SUM($AB9*$BB$22))+IF(ISBLANK($AC9),0,SUM($AD9*$BC$22))+IF(ISBLANK($AE9),0,SUM($AF9*$BD$22))=0,"",IF(ISBLANK($AA9),0,SUM($AB9*$BB$22))+IF(ISBLANK($AC9),0,SUM($AD9*$BC$22))+IF(ISBLANK($AE9),0,SUM($AF9*$BD$22))) | AJ9: =IF(IF(ISBLANK($AA9),0,SUM($AB9*$BB$23))+IF(ISBLANK($AC9),0,SUM($AD9*$BC$23))+IF(ISBLANK($AE9),0,SUM($AF9*$BD$23))=0,"",IF(ISBLANK($AA9),0,SUM($AB9*$BB$23))+IF(ISBLANK($AC9),0,SUM($AD9*$BC$23))+IF(ISBLANK($AE9),0,SUM($AF9*$BD$23))) | AK9: =IF(IF(ISBLANK($AA9),0,SUM($AB9*$BB$24))+IF(ISBLANK($AC9),0,SUM($AD9*$BC$24))+IF(ISBLANK($AE9),0,SUM($AF9*$BD$24))=0,"",IF(ISBLANK($AA9),0,SUM($AB9*$BB$24))+IF(ISBLANK($AC9),0,SUM($AD9*$BC$24))+IF(ISBLANK($AE9),0,SUM($AF9*$BD$24))) | AL9: =IF(IF(ISBLANK($AA9),0,SUM($AB9*$BB$25))+IF(ISBLANK($AC9),0,SUM($AD9*$BC$25))+IF(ISBLANK($AE9),0,SUM($AF9*$BD$25))=0,"",IF(ISBLANK($AA9),0,SUM($AB9*$BB$25))+IF(ISBLANK($AC9),0,SUM($AD9*$BC$25))+IF(ISBLANK($AE9),0,SUM($AF9*$BD$25))) | AM9: =IF(IF(ISBLANK($AA9),0,SUM($AB9*$BB$26))+IF(ISBLANK($AC9),0,SUM($AD9*$BC$26))+IF(ISBLANK($AE9),0,SUM($AF9*$BD$26))=0,"",IF(ISBLANK($AA9),0,SUM($AB9*$BB$26))+IF(ISBLANK($AC9),0,SUM($AD9*$BC$26))+IF(ISBLANK($AE9),0,SUM($AF9*$BD$26))) | AN9: =IF(IF(ISBLANK($AA9),0,SUM($AB9*$BB$27))+IF(ISBLANK($AC9),0,SUM($AD9*$BC$27))+IF(ISBLANK($AE9),0,SUM($AF9*$BD$27))=0,"",IF(ISBLANK($AA9),0,SUM($AB9*$BB$27))+IF(ISBLANK($AC9),0,SUM($AD9*$BC$27))+IF(ISBLANK($AE9),0,SUM($AF9*$BD$27))) | AO9: =IF(IF(ISBLANK($AA9),0,SUM($AB9*$BB$28))+IF(ISBLANK($AC9),0,SUM($AD9*$BC$28))+IF(ISBLANK($AE9),0,SUM($AF9*$BD$28))=0,"",IF(ISBLANK($AA9),0,SUM($AB9*$BB$28))+IF(ISBLANK($AC9),0,SUM($AD9*$BC$28))+IF(ISBLANK($AE9),0,SUM($AF9*$BD$28))) | AP9: =IF(SUM(AB9,AD9,AF9)=SUM(AH9:AO9),"","K") | AQ9: =IF(SUM(L9,AH9)=0,"",SUM(L9,AH9)) | AR9: =IF(SUM(N9,AI9)=0,"",SUM(N9,AI9)) | AS9: =IF(SUM(P9,AJ9)=0,"",SUM(P9,AJ9)) | AT9: =IF(SUM(R9,AK9)=0,"",SUM(R9,AK9)) | AU9: =IF(SUM(T9,AL9)=0,"",SUM(T9,AL9)) | AV9: =IF(SUM(V9,AM9)=0,"",SUM(V9,AM9)) | AW9: =IF(SUM(X9,AN9)=0,"",SUM(X9,AN9)) | AX9: =IF(SUM(Z9,AO9)=0,"",SUM(Z9,AO9)) | AY9: =SUM(AQ9:AX9)-SUM(F9) -> 0 | BA9: Sotsiaalkindlustusamet | BB9: 53.2 | BC9: 0 | BD9: 19.865347 | BE9: 6.7102703 | BF9: 79.775617 | BG9: 0.057562318
D10: =IF(SUM(K10,M10,O10,Q10,S10,U10,W10,Y10,AA10,AC10,AE10)=0,"",SUM(K10,M10,O10,Q10,S10,U10,W10,Y10,AA10,AC10,AE10)) | F10: =IF(OR(SUM(D10)=0,SUM(E10)=0),"",SUM(D10*E10)) | J10: =IF(SUM(K10,M10,O10,Q10,S10,U10,W10,Y10,AA10,AC10,AE10)-SUM(D10)=0,"","K") | L10: =IF(ISBLANK(K10),"",SUM(K10*$E10)) | N10: =IF(ISBLANK(M10),"",SUM(M10*$E10)) | P10: =IF(ISBLANK(O10),"",SUM(O10*$E10)) | R10: =IF(ISBLANK(Q10),"",SUM(Q10*$E10)) | T10: =IF(ISBLANK(S10),"",SUM(S10*$E10)) | V10: =IF(ISBLANK(U10),"",SUM(U10*$E10)) | X10: =IF(ISBLANK(W10),"",SUM(W10*$E10)) | Z10: =IF(ISBLANK(Y10),"",SUM(Y10*$E10)) | AB10: =IF(ISBLANK(AA10),"",SUM(AA10*$E10)) | AD10: =IF(ISBLANK(AC10),"",SUM(AC10*$E10)) | AF10: =IF(ISBLANK(AE10),"",SUM(AE10*$E10)) | AH10: =IF(IF(ISBLANK($AA10),0,SUM($AB10*$BB$21))+IF(ISBLANK($AC10),0,SUM($AD10*$BC$21))+IF(ISBLANK($AE10),0,SUM($AF10*$BD$21))=0,"",IF(ISBLANK($AA10),0,SUM($AB10*$BB$21))+IF(ISBLANK($AC10),0,SUM($AD10*$BC$21))+IF(ISBLANK($AE10),0,SUM($AF10*$BD$21))) | AI10: =IF(IF(ISBLANK($AA10),0,SUM($AB10*$BB$22))+IF(ISBLANK($AC10),0,SUM($AD10*$BC$22))+IF(ISBLANK($AE10),0,SUM($AF10*$BD$22))=0,"",IF(ISBLANK($AA10),0,SUM($AB10*$BB$22))+IF(ISBLANK($AC10),0,SUM($AD10*$BC$22))+IF(ISBLANK($AE10),0,SUM($AF10*$BD$22))) | AJ10: =IF(IF(ISBLANK($AA10),0,SUM($AB10*$BB$23))+IF(ISBLANK($AC10),0,SUM($AD10*$BC$23))+IF(ISBLANK($AE10),0,SUM($AF10*$BD$23))=0,"",IF(ISBLANK($AA10),0,SUM($AB10*$BB$23))+IF(ISBLANK($AC10),0,SUM($AD10*$BC$23))+IF(ISBLANK($AE10),0,SUM($AF10*$BD$23))) | AK10: =IF(IF(ISBLANK($AA10),0,SUM($AB10*$BB$24))+IF(ISBLANK($AC10),0,SUM($AD10*$BC$24))+IF(ISBLANK($AE10),0,SUM($AF10*$BD$24))=0,"",IF(ISBLANK($AA10),0,SUM($AB10*$BB$24))+IF(ISBLANK($AC10),0,SUM($AD10*$BC$24))+IF(ISBLANK($AE10),0,SUM($AF10*$BD$24))) | AL10: =IF(IF(ISBLANK($AA10),0,SUM($AB10*$BB$25))+IF(ISBLANK($AC10),0,SUM($AD10*$BC$25))+IF(ISBLANK($AE10),0,SUM($AF10*$BD$25))=0,"",IF(ISBLANK($AA10),0,SUM($AB10*$BB$25))+IF(ISBLANK($AC10),0,SUM($AD10*$BC$25))+IF(ISBLANK($AE10),0,SUM($AF10*$BD$25))) | AM10: =IF(IF(ISBLANK($AA10),0,SUM($AB10*$BB$26))+IF(ISBLANK($AC10),0,SUM($AD10*$BC$26))+IF(ISBLANK($AE10),0,SUM($AF10*$BD$26))=0,"",IF(ISBLANK($AA10),0,SUM($AB10*$BB$26))+IF(ISBLANK($AC10),0,SUM($AD10*$BC$26))+IF(ISBLANK($AE10),0,SUM($AF10*$BD$26))) | AN10: =IF(IF(ISBLANK($AA10),0,SUM($AB10*$BB$27))+IF(ISBLANK($AC10),0,SUM($AD10*$BC$27))+IF(ISBLANK($AE10),0,SUM($AF10*$BD$27))=0,"",IF(ISBLANK($AA10),0,SUM($AB10*$BB$27))+IF(ISBLANK($AC10),0,SUM($AD10*$BC$27))+IF(ISBLANK($AE10),0,SUM($AF10*$BD$27))) | AO10: =IF(IF(ISBLANK($AA10),0,SUM($AB10*$BB$28))+IF(ISBLANK($AC10),0,SUM($AD10*$BC$28))+IF(ISBLANK($AE10),0,SUM($AF10*$BD$28))=0,"",IF(ISBLANK($AA10),0,SUM($AB10*$BB$28))+IF(ISBLANK($AC10),0,SUM($AD10*$BC$28))+IF(ISBLANK($AE10),0,SUM($AF10*$BD$28))) | AP10: =IF(SUM(AB10,AD10,AF10)=SUM(AH10:AO10),"","K") | AQ10: =IF(SUM(L10,AH10)=0,"",SUM(L10,AH10)) | AR10: =IF(SUM(N10,AI10)=0,"",SUM(N10,AI10)) | AS10: =IF(SUM(P10,AJ10)=0,"",SUM(P10,AJ10)) | AT10: =IF(SUM(R10,AK10)=0,"",SUM(R10,AK10)) | AU10: =IF(SUM(T10,AL10)=0,"",SUM(T10,AL10)) | AV10: =IF(SUM(V10,AM10)=0,"",SUM(V10,AM10)) | AW10: =IF(SUM(X10,AN10)=0,"",SUM(X10,AN10)) | AX10: =IF(SUM(Z10,AO10)=0,"",SUM(Z10,AO10)) | AY10: =SUM(AQ10:AX10)-SUM(F10) -> 0 | BA10: Haridus- ja Noorteamet | BB10: 74.6 | BC10: 0 | BD10: 27.856294 | BE10: 9.4095144 | BF10: 111.86581 | BG10: 0.080717085
D11: =IF(SUM(K11,M11,O11,Q11,S11,U11,W11,Y11,AA11,AC11,AE11)=0,"",SUM(K11,M11,O11,Q11,S11,U11,W11,Y11,AA11,AC11,AE11)) | F11: =IF(OR(SUM(D11)=0,SUM(E11)=0),"",SUM(D11*E11)) | J11: =IF(SUM(K11,M11,O11,Q11,S11,U11,W11,Y11,AA11,AC11,AE11)-SUM(D11)=0,"","K") | L11: =IF(ISBLANK(K11),"",SUM(K11*$E11)) | N11: =IF(ISBLANK(M11),"",SUM(M11*$E11)) | P11: =IF(ISBLANK(O11),"",SUM(O11*$E11)) | R11: =IF(ISBLANK(Q11),"",SUM(Q11*$E11)) | T11: =IF(ISBLANK(S11),"",SUM(S11*$E11)) | V11: =IF(ISBLANK(U11),"",SUM(U11*$E11)) | X11: =IF(ISBLANK(W11),"",SUM(W11*$E11)) | Z11: =IF(ISBLANK(Y11),"",SUM(Y11*$E11)) | AB11: =IF(ISBLANK(AA11),"",SUM(AA11*$E11)) | AD11: =IF(ISBLANK(AC11),"",SUM(AC11*$E11)) | AF11: =IF(ISBLANK(AE11),"",SUM(AE11*$E11)) | AH11: =IF(IF(ISBLANK($AA11),0,SUM($AB11*$BB$21))+IF(ISBLANK($AC11),0,SUM($AD11*$BC$21))+IF(ISBLANK($AE11),0,SUM($AF11*$BD$21))=0,"",IF(ISBLANK($AA11),0,SUM($AB11*$BB$21))+IF(ISBLANK($AC11),0,SUM($AD11*$BC$21))+IF(ISBLANK($AE11),0,SUM($AF11*$BD$21))) | AI11: =IF(IF(ISBLANK($AA11),0,SUM($AB11*$BB$22))+IF(ISBLANK($AC11),0,SUM($AD11*$BC$22))+IF(ISBLANK($AE11),0,SUM($AF11*$BD$22))=0,"",IF(ISBLANK($AA11),0,SUM($AB11*$BB$22))+IF(ISBLANK($AC11),0,SUM($AD11*$BC$22))+IF(ISBLANK($AE11),0,SUM($AF11*$BD$22))) | AJ11: =IF(IF(ISBLANK($AA11),0,SUM($AB11*$BB$23))+IF(ISBLANK($AC11),0,SUM($AD11*$BC$23))+IF(ISBLANK($AE11),0,SUM($AF11*$BD$23))=0,"",IF(ISBLANK($AA11),0,SUM($AB11*$BB$23))+IF(ISBLANK($AC11),0,SUM($AD11*$BC$23))+IF(ISBLANK($AE11),0,SUM($AF11*$BD$23))) | AK11: =IF(IF(ISBLANK($AA11),0,SUM($AB11*$BB$24))+IF(ISBLANK($AC11),0,SUM($AD11*$BC$24))+IF(ISBLANK($AE11),0,SUM($AF11*$BD$24))=0,"",IF(ISBLANK($AA11),0,SUM($AB11*$BB$24))+IF(ISBLANK($AC11),0,SUM($AD11*$BC$24))+IF(ISBLANK($AE11),0,SUM($AF11*$BD$24))) | AL11: =IF(IF(ISBLANK($AA11),0,SUM($AB11*$BB$25))+IF(ISBLANK($AC11),0,SUM($AD11*$BC$25))+IF(ISBLANK($AE11),0,SUM($AF11*$BD$25))=0,"",IF(ISBLANK($AA11),0,SUM($AB11*$BB$25))+IF(ISBLANK($AC11),0,SUM($AD11*$BC$25))+IF(ISBLANK($AE11),0,SUM($AF11*$BD$25))) | AM11: =IF(IF(ISBLANK($AA11),0,SUM($AB11*$BB$26))+IF(ISBLANK($AC11),0,SUM($AD11*$BC$26))+IF(ISBLANK($AE11),0,SUM($AF11*$BD$26))=0,"",IF(ISBLANK($AA11),0,SUM($AB11*$BB$26))+IF(ISBLANK($AC11),0,SUM($AD11*$BC$26))+IF(ISBLANK($AE11),0,SUM($AF11*$BD$26))) | AN11: =IF(IF(ISBLANK($AA11),0,SUM($AB11*$BB$27))+IF(ISBLANK($AC11),0,SUM($AD11*$BC$27))+IF(ISBLANK($AE11),0,SUM($AF11*$BD$27))=0,"",IF(ISBLANK($AA11),0,SUM($AB11*$BB$27))+IF(ISBLANK($AC11),0,SUM($AD11*$BC$27))+IF(ISBLANK($AE11),0,SUM($AF11*$BD$27))) | AO11: =IF(IF(ISBLANK($AA11),0,SUM($AB11*$BB$28))+IF(ISBLANK($AC11),0,SUM($AD11*$BC$28))+IF(ISBLANK($AE11),0,SUM($AF11*$BD$28))=0,"",IF(ISBLANK($AA11),0,SUM($AB11*$BB$28))+IF(ISBLANK($AC11),0,SUM($AD11*$BC$28))+IF(ISBLANK($AE11),0,SUM($AF11*$BD$28))) | AP11: =IF(SUM(AB11,AD11,AF11)=SUM(AH11:AO11),"","K") | AQ11: =IF(SUM(L11,AH11)=0,"",SUM(L11,AH11)) | AR11: =IF(SUM(N11,AI11)=0,"",SUM(N11,AI11)) | AS11: =IF(SUM(P11,AJ11)=0,"",SUM(P11,AJ11)) | AT11: =IF(SUM(R11,AK11)=0,"",SUM(R11,AK11)) | AU11: =IF(SUM(T11,AL11)=0,"",SUM(T11,AL11)) | AV11: =IF(SUM(V11,AM11)=0,"",SUM(V11,AM11)) | AW11: =IF(SUM(X11,AN11)=0,"",SUM(X11,AN11)) | AX11: =IF(SUM(Z11,AO11)=0,"",SUM(Z11,AO11)) | AY11: =SUM(AQ11:AX11)-SUM(F11) -> 0 | BA11: Tallinna Vangla | BB11: 41 | BC11: 0 | BD11: 15.30976 | BE11: 1.9190264 | BF11: 58.228786 | BG11: 0.042015143
D12: =IF(SUM(K12,M12,O12,Q12,S12,U12,W12,Y12,AA12,AC12,AE12)=0,"",SUM(K12,M12,O12,Q12,S12,U12,W12,Y12,AA12,AC12,AE12)) | F12: =IF(OR(SUM(D12)=0,SUM(E12)=0),"",SUM(D12*E12)) | J12: =IF(SUM(K12,M12,O12,Q12,S12,U12,W12,Y12,AA12,AC12,AE12)-SUM(D12)=0,"","K") | L12: =IF(ISBLANK(K12),"",SUM(K12*$E12)) | N12: =IF(ISBLANK(M12),"",SUM(M12*$E12)) | P12: =IF(ISBLANK(O12),"",SUM(O12*$E12)) | R12: =IF(ISBLANK(Q12),"",SUM(Q12*$E12)) | T12: =IF(ISBLANK(S12),"",SUM(S12*$E12)) | V12: =IF(ISBLANK(U12),"",SUM(U12*$E12)) | X12: =IF(ISBLANK(W12),"",SUM(W12*$E12)) | Z12: =IF(ISBLANK(Y12),"",SUM(Y12*$E12)) | AB12: =IF(ISBLANK(AA12),"",SUM(AA12*$E12)) | AD12: =IF(ISBLANK(AC12),"",SUM(AC12*$E12)) | AF12: =IF(ISBLANK(AE12),"",SUM(AE12*$E12)) | AH12: =IF(IF(ISBLANK($AA12),0,SUM($AB12*$BB$21))+IF(ISBLANK($AC12),0,SUM($AD12*$BC$21))+IF(ISBLANK($AE12),0,SUM($AF12*$BD$21))=0,"",IF(ISBLANK($AA12),0,SUM($AB12*$BB$21))+IF(ISBLANK($AC12),0,SUM($AD12*$BC$21))+IF(ISBLANK($AE12),0,SUM($AF12*$BD$21))) | AI12: =IF(IF(ISBLANK($AA12),0,SUM($AB12*$BB$22))+IF(ISBLANK($AC12),0,SUM($AD12*$BC$22))+IF(ISBLANK($AE12),0,SUM($AF12*$BD$22))=0,"",IF(ISBLANK($AA12),0,SUM($AB12*$BB$22))+IF(ISBLANK($AC12),0,SUM($AD12*$BC$22))+IF(ISBLANK($AE12),0,SUM($AF12*$BD$22))) | AJ12: =IF(IF(ISBLANK($AA12),0,SUM($AB12*$BB$23))+IF(ISBLANK($AC12),0,SUM($AD12*$BC$23))+IF(ISBLANK($AE12),0,SUM($AF12*$BD$23))=0,"",IF(ISBLANK($AA12),0,SUM($AB12*$BB$23))+IF(ISBLANK($AC12),0,SUM($AD12*$BC$23))+IF(ISBLANK($AE12),0,SUM($AF12*$BD$23))) | AK12: =IF(IF(ISBLANK($AA12),0,SUM($AB12*$BB$24))+IF(ISBLANK($AC12),0,SUM($AD12*$BC$24))+IF(ISBLANK($AE12),0,SUM($AF12*$BD$24))=0,"",IF(ISBLANK($AA12),0,SUM($AB12*$BB$24))+IF(ISBLANK($AC12),0,SUM($AD12*$BC$24))+IF(ISBLANK($AE12),0,SUM($AF12*$BD$24))) | AL12: =IF(IF(ISBLANK($AA12),0,SUM($AB12*$BB$25))+IF(ISBLANK($AC12),0,SUM($AD12*$BC$25))+IF(ISBLANK($AE12),0,SUM($AF12*$BD$25))=0,"",IF(ISBLANK($AA12),0,SUM($AB12*$BB$25))+IF(ISBLANK($AC12),0,SUM($AD12*$BC$25))+IF(ISBLANK($AE12),0,SUM($AF12*$BD$25))) | AM12: =IF(IF(ISBLANK($AA12),0,SUM($AB12*$BB$26))+IF(ISBLANK($AC12),0,SUM($AD12*$BC$26))+IF(ISBLANK($AE12),0,SUM($AF12*$BD$26))=0,"",IF(ISBLANK($AA12),0,SUM($AB12*$BB$26))+IF(ISBLANK($AC12),0,SUM($AD12*$BC$26))+IF(ISBLANK($AE12),0,SUM($AF12*$BD$26))) | AN12: =IF(IF(ISBLANK($AA12),0,SUM($AB12*$BB$27))+IF(ISBLANK($AC12),0,SUM($AD12*$BC$27))+IF(ISBLANK($AE12),0,SUM($AF12*$BD$27))=0,"",IF(ISBLANK($AA12),0,SUM($AB12*$BB$27))+IF(ISBLANK($AC12),0,SUM($AD12*$BC$27))+IF(ISBLANK($AE12),0,SUM($AF12*$BD$27))) | AO12: =IF(IF(ISBLANK($AA12),0,SUM($AB12*$BB$28))+IF(ISBLANK($AC12),0,SUM($AD12*$BC$28))+IF(ISBLANK($AE12),0,SUM($AF12*$BD$28))=0,"",IF(ISBLANK($AA12),0,SUM($AB12*$BB$28))+IF(ISBLANK($AC12),0,SUM($AD12*$BC$28))+IF(ISBLANK($AE12),0,SUM($AF12*$BD$28))) | AP12: =IF(SUM(AB12,AD12,AF12)=SUM(AH12:AO12),"","K") | AQ12: =IF(SUM(L12,AH12)=0,"",SUM(L12,AH12)) | AR12: =IF(SUM(N12,AI12)=0,"",SUM(N12,AI12)) | AS12: =IF(SUM(P12,AJ12)=0,"",SUM(P12,AJ12)) | AT12: =IF(SUM(R12,AK12)=0,"",SUM(R12,AK12)) | AU12: =IF(SUM(T12,AL12)=0,"",SUM(T12,AL12)) | AV12: =IF(SUM(V12,AM12)=0,"",SUM(V12,AM12)) | AW12: =IF(SUM(X12,AN12)=0,"",SUM(X12,AN12)) | AX12: =IF(SUM(Z12,AO12)=0,"",SUM(Z12,AO12)) | AY12: =SUM(AQ12:AX12)-SUM(F12) -> 0 | BA12: PROKURATUUR | BB12: 64.5 | BC12: 0 | BD12: 24.084866 | BE12: 2.3364435 | BF12: 90.921309 | BG12: 0.065604523
D13: =IF(SUM(K13,M13,O13,Q13,S13,U13,W13,Y13,AA13,AC13,AE13)=0,"",SUM(K13,M13,O13,Q13,S13,U13,W13,Y13,AA13,AC13,AE13)) | F13: =IF(OR(SUM(D13)=0,SUM(E13)=0),"",SUM(D13*E13)) | J13: =IF(SUM(K13,M13,O13,Q13,S13,U13,W13,Y13,AA13,AC13,AE13)-SUM(D13)=0,"","K") | L13: =IF(ISBLANK(K13),"",SUM(K13*$E13)) | N13: =IF(ISBLANK(M13),"",SUM(M13*$E13)) | P13: =IF(ISBLANK(O13),"",SUM(O13*$E13)) | R13: =IF(ISBLANK(Q13),"",SUM(Q13*$E13)) | T13: =IF(ISBLANK(S13),"",SUM(S13*$E13)) | V13: =IF(ISBLANK(U13),"",SUM(U13*$E13)) | X13: =IF(ISBLANK(W13),"",SUM(W13*$E13)) | Z13: =IF(ISBLANK(Y13),"",SUM(Y13*$E13)) | AB13: =IF(ISBLANK(AA13),"",SUM(AA13*$E13)) | AD13: =IF(ISBLANK(AC13),"",SUM(AC13*$E13)) | AF13: =IF(ISBLANK(AE13),"",SUM(AE13*$E13)) | AH13: =IF(IF(ISBLANK($AA13),0,SUM($AB13*$BB$21))+IF(ISBLANK($AC13),0,SUM($AD13*$BC$21))+IF(ISBLANK($AE13),0,SUM($AF13*$BD$21))=0,"",IF(ISBLANK($AA13),0,SUM($AB13*$BB$21))+IF(ISBLANK($AC13),0,SUM($AD13*$BC$21))+IF(ISBLANK($AE13),0,SUM($AF13*$BD$21))) | AI13: =IF(IF(ISBLANK($AA13),0,SUM($AB13*$BB$22))+IF(ISBLANK($AC13),0,SUM($AD13*$BC$22))+IF(ISBLANK($AE13),0,SUM($AF13*$BD$22))=0,"",IF(ISBLANK($AA13),0,SUM($AB13*$BB$22))+IF(ISBLANK($AC13),0,SUM($AD13*$BC$22))+IF(ISBLANK($AE13),0,SUM($AF13*$BD$22))) | AJ13: =IF(IF(ISBLANK($AA13),0,SUM($AB13*$BB$23))+IF(ISBLANK($AC13),0,SUM($AD13*$BC$23))+IF(ISBLANK($AE13),0,SUM($AF13*$BD$23))=0,"",IF(ISBLANK($AA13),0,SUM($AB13*$BB$23))+IF(ISBLANK($AC13),0,SUM($AD13*$BC$23))+IF(ISBLANK($AE13),0,SUM($AF13*$BD$23))) | AK13: =IF(IF(ISBLANK($AA13),0,SUM($AB13*$BB$24))+IF(ISBLANK($AC13),0,SUM($AD13*$BC$24))+IF(ISBLANK($AE13),0,SUM($AF13*$BD$24))=0,"",IF(ISBLANK($AA13),0,SUM($AB13*$BB$24))+IF(ISBLANK($AC13),0,SUM($AD13*$BC$24))+IF(ISBLANK($AE13),0,SUM($AF13*$BD$24))) | AL13: =IF(IF(ISBLANK($AA13),0,SUM($AB13*$BB$25))+IF(ISBLANK($AC13),0,SUM($AD13*$BC$25))+IF(ISBLANK($AE13),0,SUM($AF13*$BD$25))=0,"",IF(ISBLANK($AA13),0,SUM($AB13*$BB$25))+IF(ISBLANK($AC13),0,SUM($AD13*$BC$25))+IF(ISBLANK($AE13),0,SUM($AF13*$BD$25))) | AM13: =IF(IF(ISBLANK($AA13),0,SUM($AB13*$BB$26))+IF(ISBLANK($AC13),0,SUM($AD13*$BC$26))+IF(ISBLANK($AE13),0,SUM($AF13*$BD$26))=0,"",IF(ISBLANK($AA13),0,SUM($AB13*$BB$26))+IF(ISBLANK($AC13),0,SUM($AD13*$BC$26))+IF(ISBLANK($AE13),0,SUM($AF13*$BD$26))) | AN13: =IF(IF(ISBLANK($AA13),0,SUM($AB13*$BB$27))+IF(ISBLANK($AC13),0,SUM($AD13*$BC$27))+IF(ISBLANK($AE13),0,SUM($AF13*$BD$27))=0,"",IF(ISBLANK($AA13),0,SUM($AB13*$BB$27))+IF(ISBLANK($AC13),0,SUM($AD13*$BC$27))+IF(ISBLANK($AE13),0,SUM($AF13*$BD$27))) | AO13: =IF(IF(ISBLANK($AA13),0,SUM($AB13*$BB$28))+IF(ISBLANK($AC13),0,SUM($AD13*$BC$28))+IF(ISBLANK($AE13),0,SUM($AF13*$BD$28))=0,"",IF(ISBLANK($AA13),0,SUM($AB13*$BB$28))+IF(ISBLANK($AC13),0,SUM($AD13*$BC$28))+IF(ISBLANK($AE13),0,SUM($AF13*$BD$28))) | AP13: =IF(SUM(AB13,AD13,AF13)=SUM(AH13:AO13),"","K") | AQ13: =IF(SUM(L13,AH13)=0,"",SUM(L13,AH13)) | AR13: =IF(SUM(N13,AI13)=0,"",SUM(N13,AI13)) | AS13: =IF(SUM(P13,AJ13)=0,"",SUM(P13,AJ13)) | AT13: =IF(SUM(R13,AK13)=0,"",SUM(R13,AK13)) | AU13: =IF(SUM(T13,AL13)=0,"",SUM(T13,AL13)) | AV13: =IF(SUM(V13,AM13)=0,"",SUM(V13,AM13)) | AW13: =IF(SUM(X13,AN13)=0,"",SUM(X13,AN13)) | AX13: =IF(SUM(Z13,AO13)=0,"",SUM(Z13,AO13)) | AY13: =SUM(AQ13:AX13)-SUM(F13) -> 0 | BA13: PÄRNU MAAKOHUS | BB13: 595.8 | BC13: 64.7 | BD13: 222.47694 | BE13: 27.886731 | BF13: 910.86368 | BG13: 0.65723622
D14: =IF(SUM(K14,M14,O14,Q14,S14,U14,W14,Y14,AA14,AC14,AE14)=0,"",SUM(K14,M14,O14,Q14,S14,U14,W14,Y14,AA14,AC14,AE14)) | F14: =IF(OR(SUM(D14)=0,SUM(E14)=0),"",SUM(D14*E14)) | J14: =IF(SUM(K14,M14,O14,Q14,S14,U14,W14,Y14,AA14,AC14,AE14)-SUM(D14)=0,"","K") | L14: =IF(ISBLANK(K14),"",SUM(K14*$E14)) | N14: =IF(ISBLANK(M14),"",SUM(M14*$E14)) | P14: =IF(ISBLANK(O14),"",SUM(O14*$E14)) | R14: =IF(ISBLANK(Q14),"",SUM(Q14*$E14)) | T14: =IF(ISBLANK(S14),"",SUM(S14*$E14)) | V14: =IF(ISBLANK(U14),"",SUM(U14*$E14)) | X14: =IF(ISBLANK(W14),"",SUM(W14*$E14)) | Z14: =IF(ISBLANK(Y14),"",SUM(Y14*$E14)) | AB14: =IF(ISBLANK(AA14),"",SUM(AA14*$E14)) | AD14: =IF(ISBLANK(AC14),"",SUM(AC14*$E14)) | AF14: =IF(ISBLANK(AE14),"",SUM(AE14*$E14)) | AH14: =IF(IF(ISBLANK($AA14),0,SUM($AB14*$BB$21))+IF(ISBLANK($AC14),0,SUM($AD14*$BC$21))+IF(ISBLANK($AE14),0,SUM($AF14*$BD$21))=0,"",IF(ISBLANK($AA14),0,SUM($AB14*$BB$21))+IF(ISBLANK($AC14),0,SUM($AD14*$BC$21))+IF(ISBLANK($AE14),0,SUM($AF14*$BD$21))) | AI14: =IF(IF(ISBLANK($AA14),0,SUM($AB14*$BB$22))+IF(ISBLANK($AC14),0,SUM($AD14*$BC$22))+IF(ISBLANK($AE14),0,SUM($AF14*$BD$22))=0,"",IF(ISBLANK($AA14),0,SUM($AB14*$BB$22))+IF(ISBLANK($AC14),0,SUM($AD14*$BC$22))+IF(ISBLANK($AE14),0,SUM($AF14*$BD$22))) | AJ14: =IF(IF(ISBLANK($AA14),0,SUM($AB14*$BB$23))+IF(ISBLANK($AC14),0,SUM($AD14*$BC$23))+IF(ISBLANK($AE14),0,SUM($AF14*$BD$23))=0,"",IF(ISBLANK($AA14),0,SUM($AB14*$BB$23))+IF(ISBLANK($AC14),0,SUM($AD14*$BC$23))+IF(ISBLANK($AE14),0,SUM($AF14*$BD$23))) | AK14: =IF(IF(ISBLANK($AA14),0,SUM($AB14*$BB$24))+IF(ISBLANK($AC14),0,SUM($AD14*$BC$24))+IF(ISBLANK($AE14),0,SUM($AF14*$BD$24))=0,"",IF(ISBLANK($AA14),0,SUM($AB14*$BB$24))+IF(ISBLANK($AC14),0,SUM($AD14*$BC$24))+IF(ISBLANK($AE14),0,SUM($AF14*$BD$24))) | AL14: =IF(IF(ISBLANK($AA14),0,SUM($AB14*$BB$25))+IF(ISBLANK($AC14),0,SUM($AD14*$BC$25))+IF(ISBLANK($AE14),0,SUM($AF14*$BD$25))=0,"",IF(ISBLANK($AA14),0,SUM($AB14*$BB$25))+IF(ISBLANK($AC14),0,SUM($AD14*$BC$25))+IF(ISBLANK($AE14),0,SUM($AF14*$BD$25))) | AM14: =IF(IF(ISBLANK($AA14),0,SUM($AB14*$BB$26))+IF(ISBLANK($AC14),0,SUM($AD14*$BC$26))+IF(ISBLANK($AE14),0,SUM($AF14*$BD$26))=0,"",IF(ISBLANK($AA14),0,SUM($AB14*$BB$26))+IF(ISBLANK($AC14),0,SUM($AD14*$BC$26))+IF(ISBLANK($AE14),0,SUM($AF14*$BD$26))) | AN14: =IF(IF(ISBLANK($AA14),0,SUM($AB14*$BB$27))+IF(ISBLANK($AC14),0,SUM($AD14*$BC$27))+IF(ISBLANK($AE14),0,SUM($AF14*$BD$27))=0,"",IF(ISBLANK($AA14),0,SUM($AB14*$BB$27))+IF(ISBLANK($AC14),0,SUM($AD14*$BC$27))+IF(ISBLANK($AE14),0,SUM($AF14*$BD$27))) | AO14: =IF(IF(ISBLANK($AA14),0,SUM($AB14*$BB$28))+IF(ISBLANK($AC14),0,SUM($AD14*$BC$28))+IF(ISBLANK($AE14),0,SUM($AF14*$BD$28))=0,"",IF(ISBLANK($AA14),0,SUM($AB14*$BB$28))+IF(ISBLANK($AC14),0,SUM($AD14*$BC$28))+IF(ISBLANK($AE14),0,SUM($AF14*$BD$28))) | AP14: =IF(SUM(AB14,AD14,AF14)=SUM(AH14:AO14),"","K") | AQ14: =IF(SUM(L14,AH14)=0,"",SUM(L14,AH14)) | AR14: =IF(SUM(N14,AI14)=0,"",SUM(N14,AI14)) | AS14: =IF(SUM(P14,AJ14)=0,"",SUM(P14,AJ14)) | AT14: =IF(SUM(R14,AK14)=0,"",SUM(R14,AK14)) | AU14: =IF(SUM(T14,AL14)=0,"",SUM(T14,AL14)) | AV14: =IF(SUM(V14,AM14)=0,"",SUM(V14,AM14)) | AW14: =IF(SUM(X14,AN14)=0,"",SUM(X14,AN14)) | AX14: =IF(SUM(Z14,AO14)=0,"",SUM(Z14,AO14)) | AY14: =SUM(AQ14:AX14)-SUM(F14) -> 0 | BA14: Aktiivne vakantsus | BB14: 0 | BC14: 0 | BD14: 0 | BE14: 0 | BF14: 0 | BG14: 0
D15: =IF(SUM(K15,M15,O15,Q15,S15,U15,W15,Y15,AA15,AC15,AE15)=0,"",SUM(K15,M15,O15,Q15,S15,U15,W15,Y15,AA15,AC15,AE15)) | F15: =IF(OR(SUM(D15)=0,SUM(E15)=0),"",SUM(D15*E15)) | J15: =IF(SUM(K15,M15,O15,Q15,S15,U15,W15,Y15,AA15,AC15,AE15)-SUM(D15)=0,"","K") | L15: =IF(ISBLANK(K15),"",SUM(K15*$E15)) | N15: =IF(ISBLANK(M15),"",SUM(M15*$E15)) | P15: =IF(ISBLANK(O15),"",SUM(O15*$E15)) | R15: =IF(ISBLANK(Q15),"",SUM(Q15*$E15)) | T15: =IF(ISBLANK(S15),"",SUM(S15*$E15)) | V15: =IF(ISBLANK(U15),"",SUM(U15*$E15)) | X15: =IF(ISBLANK(W15),"",SUM(W15*$E15)) | Z15: =IF(ISBLANK(Y15),"",SUM(Y15*$E15)) | AB15: =IF(ISBLANK(AA15),"",SUM(AA15*$E15)) | AD15: =IF(ISBLANK(AC15),"",SUM(AC15*$E15)) | AF15: =IF(ISBLANK(AE15),"",SUM(AE15*$E15)) | AH15: =IF(IF(ISBLANK($AA15),0,SUM($AB15*$BB$21))+IF(ISBLANK($AC15),0,SUM($AD15*$BC$21))+IF(ISBLANK($AE15),0,SUM($AF15*$BD$21))=0,"",IF(ISBLANK($AA15),0,SUM($AB15*$BB$21))+IF(ISBLANK($AC15),0,SUM($AD15*$BC$21))+IF(ISBLANK($AE15),0,SUM($AF15*$BD$21))) | AI15: =IF(IF(ISBLANK($AA15),0,SUM($AB15*$BB$22))+IF(ISBLANK($AC15),0,SUM($AD15*$BC$22))+IF(ISBLANK($AE15),0,SUM($AF15*$BD$22))=0,"",IF(ISBLANK($AA15),0,SUM($AB15*$BB$22))+IF(ISBLANK($AC15),0,SUM($AD15*$BC$22))+IF(ISBLANK($AE15),0,SUM($AF15*$BD$22))) | AJ15: =IF(IF(ISBLANK($AA15),0,SUM($AB15*$BB$23))+IF(ISBLANK($AC15),0,SUM($AD15*$BC$23))+IF(ISBLANK($AE15),0,SUM($AF15*$BD$23))=0,"",IF(ISBLANK($AA15),0,SUM($AB15*$BB$23))+IF(ISBLANK($AC15),0,SUM($AD15*$BC$23))+IF(ISBLANK($AE15),0,SUM($AF15*$BD$23))) | AK15: =IF(IF(ISBLANK($AA15),0,SUM($AB15*$BB$24))+IF(ISBLANK($AC15),0,SUM($AD15*$BC$24))+IF(ISBLANK($AE15),0,SUM($AF15*$BD$24))=0,"",IF(ISBLANK($AA15),0,SUM($AB15*$BB$24))+IF(ISBLANK($AC15),0,SUM($AD15*$BC$24))+IF(ISBLANK($AE15),0,SUM($AF15*$BD$24))) | AL15: =IF(IF(ISBLANK($AA15),0,SUM($AB15*$BB$25))+IF(ISBLANK($AC15),0,SUM($AD15*$BC$25))+IF(ISBLANK($AE15),0,SUM($AF15*$BD$25))=0,"",IF(ISBLANK($AA15),0,SUM($AB15*$BB$25))+IF(ISBLANK($AC15),0,SUM($AD15*$BC$25))+IF(ISBLANK($AE15),0,SUM($AF15*$BD$25))) | AM15: =IF(IF(ISBLANK($AA15),0,SUM($AB15*$BB$26))+IF(ISBLANK($AC15),0,SUM($AD15*$BC$26))+IF(ISBLANK($AE15),0,SUM($AF15*$BD$26))=0,"",IF(ISBLANK($AA15),0,SUM($AB15*$BB$26))+IF(ISBLANK($AC15),0,SUM($AD15*$BC$26))+IF(ISBLANK($AE15),0,SUM($AF15*$BD$26))) | AN15: =IF(IF(ISBLANK($AA15),0,SUM($AB15*$BB$27))+IF(ISBLANK($AC15),0,SUM($AD15*$BC$27))+IF(ISBLANK($AE15),0,SUM($AF15*$BD$27))=0,"",IF(ISBLANK($AA15),0,SUM($AB15*$BB$27))+IF(ISBLANK($AC15),0,SUM($AD15*$BC$27))+IF(ISBLANK($AE15),0,SUM($AF15*$BD$27))) | AO15: =IF(IF(ISBLANK($AA15),0,SUM($AB15*$BB$28))+IF(ISBLANK($AC15),0,SUM($AD15*$BC$28))+IF(ISBLANK($AE15),0,SUM($AF15*$BD$28))=0,"",IF(ISBLANK($AA15),0,SUM($AB15*$BB$28))+IF(ISBLANK($AC15),0,SUM($AD15*$BC$28))+IF(ISBLANK($AE15),0,SUM($AF15*$BD$28))) | AP15: =IF(SUM(AB15,AD15,AF15)=SUM(AH15:AO15),"","K") | AQ15: =IF(SUM(L15,AH15)=0,"",SUM(L15,AH15)) | AR15: =IF(SUM(N15,AI15)=0,"",SUM(N15,AI15)) | AS15: =IF(SUM(P15,AJ15)=0,"",SUM(P15,AJ15)) | AT15: =IF(SUM(R15,AK15)=0,"",SUM(R15,AK15)) | AU15: =IF(SUM(T15,AL15)=0,"",SUM(T15,AL15)) | AV15: =IF(SUM(V15,AM15)=0,"",SUM(V15,AM15)) | AW15: =IF(SUM(X15,AN15)=0,"",SUM(X15,AN15)) | AX15: =IF(SUM(Z15,AO15)=0,"",SUM(Z15,AO15)) | AY15: =SUM(AQ15:AX15)-SUM(F15) -> 0 | BA15: Üüritav pind kokku | BB15: 919.1 | BC15: 64.7 | BD15: 343.2 | BE15: 58.9 | BF15: 1385.9 | BG15: 1
D16: =IF(SUM(K16,M16,O16,Q16,S16,U16,W16,Y16,AA16,AC16,AE16)=0,"",SUM(K16,M16,O16,Q16,S16,U16,W16,Y16,AA16,AC16,AE16)) | F16: =IF(OR(SUM(D16)=0,SUM(E16)=0),"",SUM(D16*E16)) | J16: =IF(SUM(K16,M16,O16,Q16,S16,U16,W16,Y16,AA16,AC16,AE16)-SUM(D16)=0,"","K") | L16: =IF(ISBLANK(K16),"",SUM(K16*$E16)) | N16: =IF(ISBLANK(M16),"",SUM(M16*$E16)) | P16: =IF(ISBLANK(O16),"",SUM(O16*$E16)) | R16: =IF(ISBLANK(Q16),"",SUM(Q16*$E16)) | T16: =IF(ISBLANK(S16),"",SUM(S16*$E16)) | V16: =IF(ISBLANK(U16),"",SUM(U16*$E16)) | X16: =IF(ISBLANK(W16),"",SUM(W16*$E16)) | Z16: =IF(ISBLANK(Y16),"",SUM(Y16*$E16)) | AB16: =IF(ISBLANK(AA16),"",SUM(AA16*$E16)) | AD16: =IF(ISBLANK(AC16),"",SUM(AC16*$E16)) | AF16: =IF(ISBLANK(AE16),"",SUM(AE16*$E16)) | AH16: =IF(IF(ISBLANK($AA16),0,SUM($AB16*$BB$21))+IF(ISBLANK($AC16),0,SUM($AD16*$BC$21))+IF(ISBLANK($AE16),0,SUM($AF16*$BD$21))=0,"",IF(ISBLANK($AA16),0,SUM($AB16*$BB$21))+IF(ISBLANK($AC16),0,SUM($AD16*$BC$21))+IF(ISBLANK($AE16),0,SUM($AF16*$BD$21))) | AI16: =IF(IF(ISBLANK($AA16),0,SUM($AB16*$BB$22))+IF(ISBLANK($AC16),0,SUM($AD16*$BC$22))+IF(ISBLANK($AE16),0,SUM($AF16*$BD$22))=0,"",IF(ISBLANK($AA16),0,SUM($AB16*$BB$22))+IF(ISBLANK($AC16),0,SUM($AD16*$BC$22))+IF(ISBLANK($AE16),0,SUM($AF16*$BD$22))) | AJ16: =IF(IF(ISBLANK($AA16),0,SUM($AB16*$BB$23))+IF(ISBLANK($AC16),0,SUM($AD16*$BC$23))+IF(ISBLANK($AE16),0,SUM($AF16*$BD$23))=0,"",IF(ISBLANK($AA16),0,SUM($AB16*$BB$23))+IF(ISBLANK($AC16),0,SUM($AD16*$BC$23))+IF(ISBLANK($AE16),0,SUM($AF16*$BD$23))) | AK16: =IF(IF(ISBLANK($AA16),0,SUM($AB16*$BB$24))+IF(ISBLANK($AC16),0,SUM($AD16*$BC$24))+IF(ISBLANK($AE16),0,SUM($AF16*$BD$24))=0,"",IF(ISBLANK($AA16),0,SUM($AB16*$BB$24))+IF(ISBLANK($AC16),0,SUM($AD16*$BC$24))+IF(ISBLANK($AE16),0,SUM($AF16*$BD$24))) | AL16: =IF(IF(ISBLANK($AA16),0,SUM($AB16*$BB$25))+IF(ISBLANK($AC16),0,SUM($AD16*$BC$25))+IF(ISBLANK($AE16),0,SUM($AF16*$BD$25))=0,"",IF(ISBLANK($AA16),0,SUM($AB16*$BB$25))+IF(ISBLANK($AC16),0,SUM($AD16*$BC$25))+IF(ISBLANK($AE16),0,SUM($AF16*$BD$25))) | AM16: =IF(IF(ISBLANK($AA16),0,SUM($AB16*$BB$26))+IF(ISBLANK($AC16),0,SUM($AD16*$BC$26))+IF(ISBLANK($AE16),0,SUM($AF16*$BD$26))=0,"",IF(ISBLANK($AA16),0,SUM($AB16*$BB$26))+IF(ISBLANK($AC16),0,SUM($AD16*$BC$26))+IF(ISBLANK($AE16),0,SUM($AF16*$BD$26))) | AN16: =IF(IF(ISBLANK($AA16),0,SUM($AB16*$BB$27))+IF(ISBLANK($AC16),0,SUM($AD16*$BC$27))+IF(ISBLANK($AE16),0,SUM($AF16*$BD$27))=0,"",IF(ISBLANK($AA16),0,SUM($AB16*$BB$27))+IF(ISBLANK($AC16),0,SUM($AD16*$BC$27))+IF(ISBLANK($AE16),0,SUM($AF16*$BD$27))) | AO16: =IF(IF(ISBLANK($AA16),0,SUM($AB16*$BB$28))+IF(ISBLANK($AC16),0,SUM($AD16*$BC$28))+IF(ISBLANK($AE16),0,SUM($AF16*$BD$28))=0,"",IF(ISBLANK($AA16),0,SUM($AB16*$BB$28))+IF(ISBLANK($AC16),0,SUM($AD16*$BC$28))+IF(ISBLANK($AE16),0,SUM($AF16*$BD$28))) | AP16: =IF(SUM(AB16,AD16,AF16)=SUM(AH16:AO16),"","K") | AQ16: =IF(SUM(L16,AH16)=0,"",SUM(L16,AH16)) | AR16: =IF(SUM(N16,AI16)=0,"",SUM(N16,AI16)) | AS16: =IF(SUM(P16,AJ16)=0,"",SUM(P16,AJ16)) | AT16: =IF(SUM(R16,AK16)=0,"",SUM(R16,AK16)) | AU16: =IF(SUM(T16,AL16)=0,"",SUM(T16,AL16)) | AV16: =IF(SUM(V16,AM16)=0,"",SUM(V16,AM16)) | AW16: =IF(SUM(X16,AN16)=0,"",SUM(X16,AN16)) | AX16: =IF(SUM(Z16,AO16)=0,"",SUM(Z16,AO16)) | AY16: =SUM(AQ16:AX16)-SUM(F16) -> 0 | BA16: Passiivne vakantsus | BF16: 0
D17: =IF(SUM(K17,M17,O17,Q17,S17,U17,W17,Y17,AA17,AC17,AE17)=0,"",SUM(K17,M17,O17,Q17,S17,U17,W17,Y17,AA17,AC17,AE17)) | F17: =IF(OR(SUM(D17)=0,SUM(E17)=0),"",SUM(D17*E17)) | J17: =IF(SUM(K17,M17,O17,Q17,S17,U17,W17,Y17,AA17,AC17,AE17)-SUM(D17)=0,"","K") | L17: =IF(ISBLANK(K17),"",SUM(K17*$E17)) | N17: =IF(ISBLANK(M17),"",SUM(M17*$E17)) | P17: =IF(ISBLANK(O17),"",SUM(O17*$E17)) | R17: =IF(ISBLANK(Q17),"",SUM(Q17*$E17)) | T17: =IF(ISBLANK(S17),"",SUM(S17*$E17)) | V17: =IF(ISBLANK(U17),"",SUM(U17*$E17)) | X17: =IF(ISBLANK(W17),"",SUM(W17*$E17)) | Z17: =IF(ISBLANK(Y17),"",SUM(Y17*$E17)) | AB17: =IF(ISBLANK(AA17),"",SUM(AA17*$E17)) | AD17: =IF(ISBLANK(AC17),"",SUM(AC17*$E17)) | AF17: =IF(ISBLANK(AE17),"",SUM(AE17*$E17)) | AH17: =IF(IF(ISBLANK($AA17),0,SUM($AB17*$BB$21))+IF(ISBLANK($AC17),0,SUM($AD17*$BC$21))+IF(ISBLANK($AE17),0,SUM($AF17*$BD$21))=0,"",IF(ISBLANK($AA17),0,SUM($AB17*$BB$21))+IF(ISBLANK($AC17),0,SUM($AD17*$BC$21))+IF(ISBLANK($AE17),0,SUM($AF17*$BD$21))) | AI17: =IF(IF(ISBLANK($AA17),0,SUM($AB17*$BB$22))+IF(ISBLANK($AC17),0,SUM($AD17*$BC$22))+IF(ISBLANK($AE17),0,SUM($AF17*$BD$22))=0,"",IF(ISBLANK($AA17),0,SUM($AB17*$BB$22))+IF(ISBLANK($AC17),0,SUM($AD17*$BC$22))+IF(ISBLANK($AE17),0,SUM($AF17*$BD$22))) | AJ17: =IF(IF(ISBLANK($AA17),0,SUM($AB17*$BB$23))+IF(ISBLANK($AC17),0,SUM($AD17*$BC$23))+IF(ISBLANK($AE17),0,SUM($AF17*$BD$23))=0,"",IF(ISBLANK($AA17),0,SUM($AB17*$BB$23))+IF(ISBLANK($AC17),0,SUM($AD17*$BC$23))+IF(ISBLANK($AE17),0,SUM($AF17*$BD$23))) | AK17: =IF(IF(ISBLANK($AA17),0,SUM($AB17*$BB$24))+IF(ISBLANK($AC17),0,SUM($AD17*$BC$24))+IF(ISBLANK($AE17),0,SUM($AF17*$BD$24))=0,"",IF(ISBLANK($AA17),0,SUM($AB17*$BB$24))+IF(ISBLANK($AC17),0,SUM($AD17*$BC$24))+IF(ISBLANK($AE17),0,SUM($AF17*$BD$24))) | AL17: =IF(IF(ISBLANK($AA17),0,SUM($AB17*$BB$25))+IF(ISBLANK($AC17),0,SUM($AD17*$BC$25))+IF(ISBLANK($AE17),0,SUM($AF17*$BD$25))=0,"",IF(ISBLANK($AA17),0,SUM($AB17*$BB$25))+IF(ISBLANK($AC17),0,SUM($AD17*$BC$25))+IF(ISBLANK($AE17),0,SUM($AF17*$BD$25))) | AM17: =IF(IF(ISBLANK($AA17),0,SUM($AB17*$BB$26))+IF(ISBLANK($AC17),0,SUM($AD17*$BC$26))+IF(ISBLANK($AE17),0,SUM($AF17*$BD$26))=0,"",IF(ISBLANK($AA17),0,SUM($AB17*$BB$26))+IF(ISBLANK($AC17),0,SUM($AD17*$BC$26))+IF(ISBLANK($AE17),0,SUM($AF17*$BD$26))) | AN17: =IF(IF(ISBLANK($AA17),0,SUM($AB17*$BB$27))+IF(ISBLANK($AC17),0,SUM($AD17*$BC$27))+IF(ISBLANK($AE17),0,SUM($AF17*$BD$27))=0,"",IF(ISBLANK($AA17),0,SUM($AB17*$BB$27))+IF(ISBLANK($AC17),0,SUM($AD17*$BC$27))+IF(ISBLANK($AE17),0,SUM($AF17*$BD$27))) | AO17: =IF(IF(ISBLANK($AA17),0,SUM($AB17*$BB$28))+IF(ISBLANK($AC17),0,SUM($AD17*$BC$28))+IF(ISBLANK($AE17),0,SUM($AF17*$BD$28))=0,"",IF(ISBLANK($AA17),0,SUM($AB17*$BB$28))+IF(ISBLANK($AC17),0,SUM($AD17*$BC$28))+IF(ISBLANK($AE17),0,SUM($AF17*$BD$28))) | AP17: =IF(SUM(AB17,AD17,AF17)=SUM(AH17:AO17),"","K") | AQ17: =IF(SUM(L17,AH17)=0,"",SUM(L17,AH17)) | AR17: =IF(SUM(N17,AI17)=0,"",SUM(N17,AI17)) | AS17: =IF(SUM(P17,AJ17)=0,"",SUM(P17,AJ17)) | AT17: =IF(SUM(R17,AK17)=0,"",SUM(R17,AK17)) | AU17: =IF(SUM(T17,AL17)=0,"",SUM(T17,AL17)) | AV17: =IF(SUM(V17,AM17)=0,"",SUM(V17,AM17)) | AW17: =IF(SUM(X17,AN17)=0,"",SUM(X17,AN17)) | AX17: =IF(SUM(Z17,AO17)=0,"",SUM(Z17,AO17)) | AY17: =SUM(AQ17:AX17)-SUM(F17) -> 0
D18: =IF(SUM(K18,M18,O18,Q18,S18,U18,W18,Y18,AA18,AC18,AE18)=0,"",SUM(K18,M18,O18,Q18,S18,U18,W18,Y18,AA18,AC18,AE18)) | F18: =IF(OR(SUM(D18)=0,SUM(E18)=0),"",SUM(D18*E18)) | J18: =IF(SUM(K18,M18,O18,Q18,S18,U18,W18,Y18,AA18,AC18,AE18)-SUM(D18)=0,"","K") | L18: =IF(ISBLANK(K18),"",SUM(K18*$E18)) | N18: =IF(ISBLANK(M18),"",SUM(M18*$E18)) | P18: =IF(ISBLANK(O18),"",SUM(O18*$E18)) | R18: =IF(ISBLANK(Q18),"",SUM(Q18*$E18)) | T18: =IF(ISBLANK(S18),"",SUM(S18*$E18)) | V18: =IF(ISBLANK(U18),"",SUM(U18*$E18)) | X18: =IF(ISBLANK(W18),"",SUM(W18*$E18)) | Z18: =IF(ISBLANK(Y18),"",SUM(Y18*$E18)) | AB18: =IF(ISBLANK(AA18),"",SUM(AA18*$E18)) | AD18: =IF(ISBLANK(AC18),"",SUM(AC18*$E18)) | AF18: =IF(ISBLANK(AE18),"",SUM(AE18*$E18)) | AH18: =IF(IF(ISBLANK($AA18),0,SUM($AB18*$BB$21))+IF(ISBLANK($AC18),0,SUM($AD18*$BC$21))+IF(ISBLANK($AE18),0,SUM($AF18*$BD$21))=0,"",IF(ISBLANK($AA18),0,SUM($AB18*$BB$21))+IF(ISBLANK($AC18),0,SUM($AD18*$BC$21))+IF(ISBLANK($AE18),0,SUM($AF18*$BD$21))) | AI18: =IF(IF(ISBLANK($AA18),0,SUM($AB18*$BB$22))+IF(ISBLANK($AC18),0,SUM($AD18*$BC$22))+IF(ISBLANK($AE18),0,SUM($AF18*$BD$22))=0,"",IF(ISBLANK($AA18),0,SUM($AB18*$BB$22))+IF(ISBLANK($AC18),0,SUM($AD18*$BC$22))+IF(ISBLANK($AE18),0,SUM($AF18*$BD$22))) | AJ18: =IF(IF(ISBLANK($AA18),0,SUM($AB18*$BB$23))+IF(ISBLANK($AC18),0,SUM($AD18*$BC$23))+IF(ISBLANK($AE18),0,SUM($AF18*$BD$23))=0,"",IF(ISBLANK($AA18),0,SUM($AB18*$BB$23))+IF(ISBLANK($AC18),0,SUM($AD18*$BC$23))+IF(ISBLANK($AE18),0,SUM($AF18*$BD$23))) | AK18: =IF(IF(ISBLANK($AA18),0,SUM($AB18*$BB$24))+IF(ISBLANK($AC18),0,SUM($AD18*$BC$24))+IF(ISBLANK($AE18),0,SUM($AF18*$BD$24))=0,"",IF(ISBLANK($AA18),0,SUM($AB18*$BB$24))+IF(ISBLANK($AC18),0,SUM($AD18*$BC$24))+IF(ISBLANK($AE18),0,SUM($AF18*$BD$24))) | AL18: =IF(IF(ISBLANK($AA18),0,SUM($AB18*$BB$25))+IF(ISBLANK($AC18),0,SUM($AD18*$BC$25))+IF(ISBLANK($AE18),0,SUM($AF18*$BD$25))=0,"",IF(ISBLANK($AA18),0,SUM($AB18*$BB$25))+IF(ISBLANK($AC18),0,SUM($AD18*$BC$25))+IF(ISBLANK($AE18),0,SUM($AF18*$BD$25))) | AM18: =IF(IF(ISBLANK($AA18),0,SUM($AB18*$BB$26))+IF(ISBLANK($AC18),0,SUM($AD18*$BC$26))+IF(ISBLANK($AE18),0,SUM($AF18*$BD$26))=0,"",IF(ISBLANK($AA18),0,SUM($AB18*$BB$26))+IF(ISBLANK($AC18),0,SUM($AD18*$BC$26))+IF(ISBLANK($AE18),0,SUM($AF18*$BD$26))) | AN18: =IF(IF(ISBLANK($AA18),0,SUM($AB18*$BB$27))+IF(ISBLANK($AC18),0,SUM($AD18*$BC$27))+IF(ISBLANK($AE18),0,SUM($AF18*$BD$27))=0,"",IF(ISBLANK($AA18),0,SUM($AB18*$BB$27))+IF(ISBLANK($AC18),0,SUM($AD18*$BC$27))+IF(ISBLANK($AE18),0,SUM($AF18*$BD$27))) | AO18: =IF(IF(ISBLANK($AA18),0,SUM($AB18*$BB$28))+IF(ISBLANK($AC18),0,SUM($AD18*$BC$28))+IF(ISBLANK($AE18),0,SUM($AF18*$BD$28))=0,"",IF(ISBLANK($AA18),0,SUM($AB18*$BB$28))+IF(ISBLANK($AC18),0,SUM($AD18*$BC$28))+IF(ISBLANK($AE18),0,SUM($AF18*$BD$28))) | AP18: =IF(SUM(AB18,AD18,AF18)=SUM(AH18:AO18),"","K") | AQ18: =IF(SUM(L18,AH18)=0,"",SUM(L18,AH18)) | AR18: =IF(SUM(N18,AI18)=0,"",SUM(N18,AI18)) | AS18: =IF(SUM(P18,AJ18)=0,"",SUM(P18,AJ18)) | AT18: =IF(SUM(R18,AK18)=0,"",SUM(R18,AK18)) | AU18: =IF(SUM(T18,AL18)=0,"",SUM(T18,AL18)) | AV18: =IF(SUM(V18,AM18)=0,"",SUM(V18,AM18)) | AW18: =IF(SUM(X18,AN18)=0,"",SUM(X18,AN18)) | AX18: =IF(SUM(Z18,AO18)=0,"",SUM(Z18,AO18)) | AY18: =SUM(AQ18:AX18)-SUM(F18) -> 0
D19: =IF(SUM(K19,M19,O19,Q19,S19,U19,W19,Y19,AA19,AC19,AE19)=0,"",SUM(K19,M19,O19,Q19,S19,U19,W19,Y19,AA19,AC19,AE19)) | F19: =IF(OR(SUM(D19)=0,SUM(E19)=0),"",SUM(D19*E19)) | J19: =IF(SUM(K19,M19,O19,Q19,S19,U19,W19,Y19,AA19,AC19,AE19)-SUM(D19)=0,"","K") | L19: =IF(ISBLANK(K19),"",SUM(K19*$E19)) | N19: =IF(ISBLANK(M19),"",SUM(M19*$E19)) | P19: =IF(ISBLANK(O19),"",SUM(O19*$E19)) | R19: =IF(ISBLANK(Q19),"",SUM(Q19*$E19)) | T19: =IF(ISBLANK(S19),"",SUM(S19*$E19)) | V19: =IF(ISBLANK(U19),"",SUM(U19*$E19)) | X19: =IF(ISBLANK(W19),"",SUM(W19*$E19)) | Z19: =IF(ISBLANK(Y19),"",SUM(Y19*$E19)) | AB19: =IF(ISBLANK(AA19),"",SUM(AA19*$E19)) | AD19: =IF(ISBLANK(AC19),"",SUM(AC19*$E19)) | AF19: =IF(ISBLANK(AE19),"",SUM(AE19*$E19)) | AH19: =IF(IF(ISBLANK($AA19),0,SUM($AB19*$BB$21))+IF(ISBLANK($AC19),0,SUM($AD19*$BC$21))+IF(ISBLANK($AE19),0,SUM($AF19*$BD$21))=0,"",IF(ISBLANK($AA19),0,SUM($AB19*$BB$21))+IF(ISBLANK($AC19),0,SUM($AD19*$BC$21))+IF(ISBLANK($AE19),0,SUM($AF19*$BD$21))) | AI19: =IF(IF(ISBLANK($AA19),0,SUM($AB19*$BB$22))+IF(ISBLANK($AC19),0,SUM($AD19*$BC$22))+IF(ISBLANK($AE19),0,SUM($AF19*$BD$22))=0,"",IF(ISBLANK($AA19),0,SUM($AB19*$BB$22))+IF(ISBLANK($AC19),0,SUM($AD19*$BC$22))+IF(ISBLANK($AE19),0,SUM($AF19*$BD$22))) | AJ19: =IF(IF(ISBLANK($AA19),0,SUM($AB19*$BB$23))+IF(ISBLANK($AC19),0,SUM($AD19*$BC$23))+IF(ISBLANK($AE19),0,SUM($AF19*$BD$23))=0,"",IF(ISBLANK($AA19),0,SUM($AB19*$BB$23))+IF(ISBLANK($AC19),0,SUM($AD19*$BC$23))+IF(ISBLANK($AE19),0,SUM($AF19*$BD$23))) | AK19: =IF(IF(ISBLANK($AA19),0,SUM($AB19*$BB$24))+IF(ISBLANK($AC19),0,SUM($AD19*$BC$24))+IF(ISBLANK($AE19),0,SUM($AF19*$BD$24))=0,"",IF(ISBLANK($AA19),0,SUM($AB19*$BB$24))+IF(ISBLANK($AC19),0,SUM($AD19*$BC$24))+IF(ISBLANK($AE19),0,SUM($AF19*$BD$24))) | AL19: =IF(IF(ISBLANK($AA19),0,SUM($AB19*$BB$25))+IF(ISBLANK($AC19),0,SUM($AD19*$BC$25))+IF(ISBLANK($AE19),0,SUM($AF19*$BD$25))=0,"",IF(ISBLANK($AA19),0,SUM($AB19*$BB$25))+IF(ISBLANK($AC19),0,SUM($AD19*$BC$25))+IF(ISBLANK($AE19),0,SUM($AF19*$BD$25))) | AM19: =IF(IF(ISBLANK($AA19),0,SUM($AB19*$BB$26))+IF(ISBLANK($AC19),0,SUM($AD19*$BC$26))+IF(ISBLANK($AE19),0,SUM($AF19*$BD$26))=0,"",IF(ISBLANK($AA19),0,SUM($AB19*$BB$26))+IF(ISBLANK($AC19),0,SUM($AD19*$BC$26))+IF(ISBLANK($AE19),0,SUM($AF19*$BD$26))) | AN19: =IF(IF(ISBLANK($AA19),0,SUM($AB19*$BB$27))+IF(ISBLANK($AC19),0,SUM($AD19*$BC$27))+IF(ISBLANK($AE19),0,SUM($AF19*$BD$27))=0,"",IF(ISBLANK($AA19),0,SUM($AB19*$BB$27))+IF(ISBLANK($AC19),0,SUM($AD19*$BC$27))+IF(ISBLANK($AE19),0,SUM($AF19*$BD$27))) | AO19: =IF(IF(ISBLANK($AA19),0,SUM($AB19*$BB$28))+IF(ISBLANK($AC19),0,SUM($AD19*$BC$28))+IF(ISBLANK($AE19),0,SUM($AF19*$BD$28))=0,"",IF(ISBLANK($AA19),0,SUM($AB19*$BB$28))+IF(ISBLANK($AC19),0,SUM($AD19*$BC$28))+IF(ISBLANK($AE19),0,SUM($AF19*$BD$28))) | AP19: =IF(SUM(AB19,AD19,AF19)=SUM(AH19:AO19),"","K") | AQ19: =IF(SUM(L19,AH19)=0,"",SUM(L19,AH19)) | AR19: =IF(SUM(N19,AI19)=0,"",SUM(N19,AI19)) | AS19: =IF(SUM(P19,AJ19)=0,"",SUM(P19,AJ19)) | AT19: =IF(SUM(R19,AK19)=0,"",SUM(R19,AK19)) | AU19: =IF(SUM(T19,AL19)=0,"",SUM(T19,AL19)) | AV19: =IF(SUM(V19,AM19)=0,"",SUM(V19,AM19)) | AW19: =IF(SUM(X19,AN19)=0,"",SUM(X19,AN19)) | AX19: =IF(SUM(Z19,AO19)=0,"",SUM(Z19,AO19)) | AY19: =SUM(AQ19:AX19)-SUM(F19) -> 0
D20: =IF(SUM(K20,M20,O20,Q20,S20,U20,W20,Y20,AA20,AC20,AE20)=0,"",SUM(K20,M20,O20,Q20,S20,U20,W20,Y20,AA20,AC20,AE20)) | F20: =IF(OR(SUM(D20)=0,SUM(E20)=0),"",SUM(D20*E20)) | J20: =IF(SUM(K20,M20,O20,Q20,S20,U20,W20,Y20,AA20,AC20,AE20)-SUM(D20)=0,"","K") | L20: =IF(ISBLANK(K20),"",SUM(K20*$E20)) | N20: =IF(ISBLANK(M20),"",SUM(M20*$E20)) | P20: =IF(ISBLANK(O20),"",SUM(O20*$E20)) | R20: =IF(ISBLANK(Q20),"",SUM(Q20*$E20)) | T20: =IF(ISBLANK(S20),"",SUM(S20*$E20)) | V20: =IF(ISBLANK(U20),"",SUM(U20*$E20)) | X20: =IF(ISBLANK(W20),"",SUM(W20*$E20)) | Z20: =IF(ISBLANK(Y20),"",SUM(Y20*$E20)) | AB20: =IF(ISBLANK(AA20),"",SUM(AA20*$E20)) | AD20: =IF(ISBLANK(AC20),"",SUM(AC20*$E20)) | AF20: =IF(ISBLANK(AE20),"",SUM(AE20*$E20)) | AH20: =IF(IF(ISBLANK($AA20),0,SUM($AB20*$BB$21))+IF(ISBLANK($AC20),0,SUM($AD20*$BC$21))+IF(ISBLANK($AE20),0,SUM($AF20*$BD$21))=0,"",IF(ISBLANK($AA20),0,SUM($AB20*$BB$21))+IF(ISBLANK($AC20),0,SUM($AD20*$BC$21))+IF(ISBLANK($AE20),0,SUM($AF20*$BD$21))) | AI20: =IF(IF(ISBLANK($AA20),0,SUM($AB20*$BB$22))+IF(ISBLANK($AC20),0,SUM($AD20*$BC$22))+IF(ISBLANK($AE20),0,SUM($AF20*$BD$22))=0,"",IF(ISBLANK($AA20),0,SUM($AB20*$BB$22))+IF(ISBLANK($AC20),0,SUM($AD20*$BC$22))+IF(ISBLANK($AE20),0,SUM($AF20*$BD$22))) | AJ20: =IF(IF(ISBLANK($AA20),0,SUM($AB20*$BB$23))+IF(ISBLANK($AC20),0,SUM($AD20*$BC$23))+IF(ISBLANK($AE20),0,SUM($AF20*$BD$23))=0,"",IF(ISBLANK($AA20),0,SUM($AB20*$BB$23))+IF(ISBLANK($AC20),0,SUM($AD20*$BC$23))+IF(ISBLANK($AE20),0,SUM($AF20*$BD$23))) | AK20: =IF(IF(ISBLANK($AA20),0,SUM($AB20*$BB$24))+IF(ISBLANK($AC20),0,SUM($AD20*$BC$24))+IF(ISBLANK($AE20),0,SUM($AF20*$BD$24))=0,"",IF(ISBLANK($AA20),0,SUM($AB20*$BB$24))+IF(ISBLANK($AC20),0,SUM($AD20*$BC$24))+IF(ISBLANK($AE20),0,SUM($AF20*$BD$24))) | AL20: =IF(IF(ISBLANK($AA20),0,SUM($AB20*$BB$25))+IF(ISBLANK($AC20),0,SUM($AD20*$BC$25))+IF(ISBLANK($AE20),0,SUM($AF20*$BD$25))=0,"",IF(ISBLANK($AA20),0,SUM($AB20*$BB$25))+IF(ISBLANK($AC20),0,SUM($AD20*$BC$25))+IF(ISBLANK($AE20),0,SUM($AF20*$BD$25))) | AM20: =IF(IF(ISBLANK($AA20),0,SUM($AB20*$BB$26))+IF(ISBLANK($AC20),0,SUM($AD20*$BC$26))+IF(ISBLANK($AE20),0,SUM($AF20*$BD$26))=0,"",IF(ISBLANK($AA20),0,SUM($AB20*$BB$26))+IF(ISBLANK($AC20),0,SUM($AD20*$BC$26))+IF(ISBLANK($AE20),0,SUM($AF20*$BD$26))) | AN20: =IF(IF(ISBLANK($AA20),0,SUM($AB20*$BB$27))+IF(ISBLANK($AC20),0,SUM($AD20*$BC$27))+IF(ISBLANK($AE20),0,SUM($AF20*$BD$27))=0,"",IF(ISBLANK($AA20),0,SUM($AB20*$BB$27))+IF(ISBLANK($AC20),0,SUM($AD20*$BC$27))+IF(ISBLANK($AE20),0,SUM($AF20*$BD$27))) | AO20: =IF(IF(ISBLANK($AA20),0,SUM($AB20*$BB$28))+IF(ISBLANK($AC20),0,SUM($AD20*$BC$28))+IF(ISBLANK($AE20),0,SUM($AF20*$BD$28))=0,"",IF(ISBLANK($AA20),0,SUM($AB20*$BB$28))+IF(ISBLANK($AC20),0,SUM($AD20*$BC$28))+IF(ISBLANK($AE20),0,SUM($AF20*$BD$28))) | AP20: =IF(SUM(AB20,AD20,AF20)=SUM(AH20:AO20),"","K") | AQ20: =IF(SUM(L20,AH20)=0,"",SUM(L20,AH20)) | AR20: =IF(SUM(N20,AI20)=0,"",SUM(N20,AI20)) | AS20: =IF(SUM(P20,AJ20)=0,"",SUM(P20,AJ20)) | AT20: =IF(SUM(R20,AK20)=0,"",SUM(R20,AK20)) | AU20: =IF(SUM(T20,AL20)=0,"",SUM(T20,AL20)) | AV20: =IF(SUM(V20,AM20)=0,"",SUM(V20,AM20)) | AW20: =IF(SUM(X20,AN20)=0,"",SUM(X20,AN20)) | AX20: =IF(SUM(Z20,AO20)=0,"",SUM(Z20,AO20)) | AY20: =SUM(AQ20:AX20)-SUM(F20) -> 0 | BA20: Ühiskasutuses sisustuse jaotus | BB20: Ühiskasutus 1 | BC20: Ühiskasutus 2 | BD20: Ühiskasutus 3
D21: =IF(SUM(K21,M21,O21,Q21,S21,U21,W21,Y21,AA21,AC21,AE21)=0,"",SUM(K21,M21,O21,Q21,S21,U21,W21,Y21,AA21,AC21,AE21)) | F21: =IF(OR(SUM(D21)=0,SUM(E21)=0),"",SUM(D21*E21)) | J21: =IF(SUM(K21,M21,O21,Q21,S21,U21,W21,Y21,AA21,AC21,AE21)-SUM(D21)=0,"","K") | L21: =IF(ISBLANK(K21),"",SUM(K21*$E21)) | N21: =IF(ISBLANK(M21),"",SUM(M21*$E21)) | P21: =IF(ISBLANK(O21),"",SUM(O21*$E21)) | R21: =IF(ISBLANK(Q21),"",SUM(Q21*$E21)) | T21: =IF(ISBLANK(S21),"",SUM(S21*$E21)) | V21: =IF(ISBLANK(U21),"",SUM(U21*$E21)) | X21: =IF(ISBLANK(W21),"",SUM(W21*$E21)) | Z21: =IF(ISBLANK(Y21),"",SUM(Y21*$E21)) | AB21: =IF(ISBLANK(AA21),"",SUM(AA21*$E21)) | AD21: =IF(ISBLANK(AC21),"",SUM(AC21*$E21)) | AF21: =IF(ISBLANK(AE21),"",SUM(AE21*$E21)) | AH21: =IF(IF(ISBLANK($AA21),0,SUM($AB21*$BB$21))+IF(ISBLANK($AC21),0,SUM($AD21*$BC$21))+IF(ISBLANK($AE21),0,SUM($AF21*$BD$21))=0,"",IF(ISBLANK($AA21),0,SUM($AB21*$BB$21))+IF(ISBLANK($AC21),0,SUM($AD21*$BC$21))+IF(ISBLANK($AE21),0,SUM($AF21*$BD$21))) | AI21: =IF(IF(ISBLANK($AA21),0,SUM($AB21*$BB$22))+IF(ISBLANK($AC21),0,SUM($AD21*$BC$22))+IF(ISBLANK($AE21),0,SUM($AF21*$BD$22))=0,"",IF(ISBLANK($AA21),0,SUM($AB21*$BB$22))+IF(ISBLANK($AC21),0,SUM($AD21*$BC$22))+IF(ISBLANK($AE21),0,SUM($AF21*$BD$22))) | AJ21: =IF(IF(ISBLANK($AA21),0,SUM($AB21*$BB$23))+IF(ISBLANK($AC21),0,SUM($AD21*$BC$23))+IF(ISBLANK($AE21),0,SUM($AF21*$BD$23))=0,"",IF(ISBLANK($AA21),0,SUM($AB21*$BB$23))+IF(ISBLANK($AC21),0,SUM($AD21*$BC$23))+IF(ISBLANK($AE21),0,SUM($AF21*$BD$23))) | AK21: =IF(IF(ISBLANK($AA21),0,SUM($AB21*$BB$24))+IF(ISBLANK($AC21),0,SUM($AD21*$BC$24))+IF(ISBLANK($AE21),0,SUM($AF21*$BD$24))=0,"",IF(ISBLANK($AA21),0,SUM($AB21*$BB$24))+IF(ISBLANK($AC21),0,SUM($AD21*$BC$24))+IF(ISBLANK($AE21),0,SUM($AF21*$BD$24))) | AL21: =IF(IF(ISBLANK($AA21),0,SUM($AB21*$BB$25))+IF(ISBLANK($AC21),0,SUM($AD21*$BC$25))+IF(ISBLANK($AE21),0,SUM($AF21*$BD$25))=0,"",IF(ISBLANK($AA21),0,SUM($AB21*$BB$25))+IF(ISBLANK($AC21),0,SUM($AD21*$BC$25))+IF(ISBLANK($AE21),0,SUM($AF21*$BD$25))) | AM21: =IF(IF(ISBLANK($AA21),0,SUM($AB21*$BB$26))+IF(ISBLANK($AC21),0,SUM($AD21*$BC$26))+IF(ISBLANK($AE21),0,SUM($AF21*$BD$26))=0,"",IF(ISBLANK($AA21),0,SUM($AB21*$BB$26))+IF(ISBLANK($AC21),0,SUM($AD21*$BC$26))+IF(ISBLANK($AE21),0,SUM($AF21*$BD$26))) | AN21: =IF(IF(ISBLANK($AA21),0,SUM($AB21*$BB$27))+IF(ISBLANK($AC21),0,SUM($AD21*$BC$27))+IF(ISBLANK($AE21),0,SUM($AF21*$BD$27))=0,"",IF(ISBLANK($AA21),0,SUM($AB21*$BB$27))+IF(ISBLANK($AC21),0,SUM($AD21*$BC$27))+IF(ISBLANK($AE21),0,SUM($AF21*$BD$27))) | AO21: =IF(IF(ISBLANK($AA21),0,SUM($AB21*$BB$28))+IF(ISBLANK($AC21),0,SUM($AD21*$BC$28))+IF(ISBLANK($AE21),0,SUM($AF21*$BD$28))=0,"",IF(ISBLANK($AA21),0,SUM($AB21*$BB$28))+IF(ISBLANK($AC21),0,SUM($AD21*$BC$28))+IF(ISBLANK($AE21),0,SUM($AF21*$BD$28))) | AP21: =IF(SUM(AB21,AD21,AF21)=SUM(AH21:AO21),"","K") | AQ21: =IF(SUM(L21,AH21)=0,"",SUM(L21,AH21)) | AR21: =IF(SUM(N21,AI21)=0,"",SUM(N21,AI21)) | AS21: =IF(SUM(P21,AJ21)=0,"",SUM(P21,AJ21)) | AT21: =IF(SUM(R21,AK21)=0,"",SUM(R21,AK21)) | AU21: =IF(SUM(T21,AL21)=0,"",SUM(T21,AL21)) | AV21: =IF(SUM(V21,AM21)=0,"",SUM(V21,AM21)) | AW21: =IF(SUM(X21,AN21)=0,"",SUM(X21,AN21)) | AX21: =IF(SUM(Z21,AO21)=0,"",SUM(Z21,AO21)) | AY21: =SUM(AQ21:AX21)-SUM(F21) -> 0 | BA21: Tööinspektsioon | BB21: =BG7 -> 0.0092228362
D22: =IF(SUM(K22,M22,O22,Q22,S22,U22,W22,Y22,AA22,AC22,AE22)=0,"",SUM(K22,M22,O22,Q22,S22,U22,W22,Y22,AA22,AC22,AE22)) | F22: =IF(OR(SUM(D22)=0,SUM(E22)=0),"",SUM(D22*E22)) | J22: =IF(SUM(K22,M22,O22,Q22,S22,U22,W22,Y22,AA22,AC22,AE22)-SUM(D22)=0,"","K") | L22: =IF(ISBLANK(K22),"",SUM(K22*$E22)) | N22: =IF(ISBLANK(M22),"",SUM(M22*$E22)) | P22: =IF(ISBLANK(O22),"",SUM(O22*$E22)) | R22: =IF(ISBLANK(Q22),"",SUM(Q22*$E22)) | T22: =IF(ISBLANK(S22),"",SUM(S22*$E22)) | V22: =IF(ISBLANK(U22),"",SUM(U22*$E22)) | X22: =IF(ISBLANK(W22),"",SUM(W22*$E22)) | Z22: =IF(ISBLANK(Y22),"",SUM(Y22*$E22)) | AB22: =IF(ISBLANK(AA22),"",SUM(AA22*$E22)) | AD22: =IF(ISBLANK(AC22),"",SUM(AC22*$E22)) | AF22: =IF(ISBLANK(AE22),"",SUM(AE22*$E22)) | AH22: =IF(IF(ISBLANK($AA22),0,SUM($AB22*$BB$21))+IF(ISBLANK($AC22),0,SUM($AD22*$BC$21))+IF(ISBLANK($AE22),0,SUM($AF22*$BD$21))=0,"",IF(ISBLANK($AA22),0,SUM($AB22*$BB$21))+IF(ISBLANK($AC22),0,SUM($AD22*$BC$21))+IF(ISBLANK($AE22),0,SUM($AF22*$BD$21))) | AI22: =IF(IF(ISBLANK($AA22),0,SUM($AB22*$BB$22))+IF(ISBLANK($AC22),0,SUM($AD22*$BC$22))+IF(ISBLANK($AE22),0,SUM($AF22*$BD$22))=0,"",IF(ISBLANK($AA22),0,SUM($AB22*$BB$22))+IF(ISBLANK($AC22),0,SUM($AD22*$BC$22))+IF(ISBLANK($AE22),0,SUM($AF22*$BD$22))) | AJ22: =IF(IF(ISBLANK($AA22),0,SUM($AB22*$BB$23))+IF(ISBLANK($AC22),0,SUM($AD22*$BC$23))+IF(ISBLANK($AE22),0,SUM($AF22*$BD$23))=0,"",IF(ISBLANK($AA22),0,SUM($AB22*$BB$23))+IF(ISBLANK($AC22),0,SUM($AD22*$BC$23))+IF(ISBLANK($AE22),0,SUM($AF22*$BD$23))) | AK22: =IF(IF(ISBLANK($AA22),0,SUM($AB22*$BB$24))+IF(ISBLANK($AC22),0,SUM($AD22*$BC$24))+IF(ISBLANK($AE22),0,SUM($AF22*$BD$24))=0,"",IF(ISBLANK($AA22),0,SUM($AB22*$BB$24))+IF(ISBLANK($AC22),0,SUM($AD22*$BC$24))+IF(ISBLANK($AE22),0,SUM($AF22*$BD$24))) | AL22: =IF(IF(ISBLANK($AA22),0,SUM($AB22*$BB$25))+IF(ISBLANK($AC22),0,SUM($AD22*$BC$25))+IF(ISBLANK($AE22),0,SUM($AF22*$BD$25))=0,"",IF(ISBLANK($AA22),0,SUM($AB22*$BB$25))+IF(ISBLANK($AC22),0,SUM($AD22*$BC$25))+IF(ISBLANK($AE22),0,SUM($AF22*$BD$25))) | AM22: =IF(IF(ISBLANK($AA22),0,SUM($AB22*$BB$26))+IF(ISBLANK($AC22),0,SUM($AD22*$BC$26))+IF(ISBLANK($AE22),0,SUM($AF22*$BD$26))=0,"",IF(ISBLANK($AA22),0,SUM($AB22*$BB$26))+IF(ISBLANK($AC22),0,SUM($AD22*$BC$26))+IF(ISBLANK($AE22),0,SUM($AF22*$BD$26))) | AN22: =IF(IF(ISBLANK($AA22),0,SUM($AB22*$BB$27))+IF(ISBLANK($AC22),0,SUM($AD22*$BC$27))+IF(ISBLANK($AE22),0,SUM($AF22*$BD$27))=0,"",IF(ISBLANK($AA22),0,SUM($AB22*$BB$27))+IF(ISBLANK($AC22),0,SUM($AD22*$BC$27))+IF(ISBLANK($AE22),0,SUM($AF22*$BD$27))) | AO22: =IF(IF(ISBLANK($AA22),0,SUM($AB22*$BB$28))+IF(ISBLANK($AC22),0,SUM($AD22*$BC$28))+IF(ISBLANK($AE22),0,SUM($AF22*$BD$28))=0,"",IF(ISBLANK($AA22),0,SUM($AB22*$BB$28))+IF(ISBLANK($AC22),0,SUM($AD22*$BC$28))+IF(ISBLANK($AE22),0,SUM($AF22*$BD$28))) | AP22: =IF(SUM(AB22,AD22,AF22)=SUM(AH22:AO22),"","K") | AQ22: =IF(SUM(L22,AH22)=0,"",SUM(L22,AH22)) | AR22: =IF(SUM(N22,AI22)=0,"",SUM(N22,AI22)) | AS22: =IF(SUM(P22,AJ22)=0,"",SUM(P22,AJ22)) | AT22: =IF(SUM(R22,AK22)=0,"",SUM(R22,AK22)) | AU22: =IF(SUM(T22,AL22)=0,"",SUM(T22,AL22)) | AV22: =IF(SUM(V22,AM22)=0,"",SUM(V22,AM22)) | AW22: =IF(SUM(X22,AN22)=0,"",SUM(X22,AN22)) | AX22: =IF(SUM(Z22,AO22)=0,"",SUM(Z22,AO22)) | AY22: =SUM(AQ22:AX22)-SUM(F22) -> 0 | BA22: Maksu- ja Tolliamet | BB22: =BG8 -> 0.087641876
D23: =IF(SUM(K23,M23,O23,Q23,S23,U23,W23,Y23,AA23,AC23,AE23)=0,"",SUM(K23,M23,O23,Q23,S23,U23,W23,Y23,AA23,AC23,AE23)) | F23: =IF(OR(SUM(D23)=0,SUM(E23)=0),"",SUM(D23*E23)) | J23: =IF(SUM(K23,M23,O23,Q23,S23,U23,W23,Y23,AA23,AC23,AE23)-SUM(D23)=0,"","K") | L23: =IF(ISBLANK(K23),"",SUM(K23*$E23)) | N23: =IF(ISBLANK(M23),"",SUM(M23*$E23)) | P23: =IF(ISBLANK(O23),"",SUM(O23*$E23)) | R23: =IF(ISBLANK(Q23),"",SUM(Q23*$E23)) | T23: =IF(ISBLANK(S23),"",SUM(S23*$E23)) | V23: =IF(ISBLANK(U23),"",SUM(U23*$E23)) | X23: =IF(ISBLANK(W23),"",SUM(W23*$E23)) | Z23: =IF(ISBLANK(Y23),"",SUM(Y23*$E23)) | AB23: =IF(ISBLANK(AA23),"",SUM(AA23*$E23)) | AD23: =IF(ISBLANK(AC23),"",SUM(AC23*$E23)) | AF23: =IF(ISBLANK(AE23),"",SUM(AE23*$E23)) | AH23: =IF(IF(ISBLANK($AA23),0,SUM($AB23*$BB$21))+IF(ISBLANK($AC23),0,SUM($AD23*$BC$21))+IF(ISBLANK($AE23),0,SUM($AF23*$BD$21))=0,"",IF(ISBLANK($AA23),0,SUM($AB23*$BB$21))+IF(ISBLANK($AC23),0,SUM($AD23*$BC$21))+IF(ISBLANK($AE23),0,SUM($AF23*$BD$21))) | AI23: =IF(IF(ISBLANK($AA23),0,SUM($AB23*$BB$22))+IF(ISBLANK($AC23),0,SUM($AD23*$BC$22))+IF(ISBLANK($AE23),0,SUM($AF23*$BD$22))=0,"",IF(ISBLANK($AA23),0,SUM($AB23*$BB$22))+IF(ISBLANK($AC23),0,SUM($AD23*$BC$22))+IF(ISBLANK($AE23),0,SUM($AF23*$BD$22))) | AJ23: =IF(IF(ISBLANK($AA23),0,SUM($AB23*$BB$23))+IF(ISBLANK($AC23),0,SUM($AD23*$BC$23))+IF(ISBLANK($AE23),0,SUM($AF23*$BD$23))=0,"",IF(ISBLANK($AA23),0,SUM($AB23*$BB$23))+IF(ISBLANK($AC23),0,SUM($AD23*$BC$23))+IF(ISBLANK($AE23),0,SUM($AF23*$BD$23))) | AK23: =IF(IF(ISBLANK($AA23),0,SUM($AB23*$BB$24))+IF(ISBLANK($AC23),0,SUM($AD23*$BC$24))+IF(ISBLANK($AE23),0,SUM($AF23*$BD$24))=0,"",IF(ISBLANK($AA23),0,SUM($AB23*$BB$24))+IF(ISBLANK($AC23),0,SUM($AD23*$BC$24))+IF(ISBLANK($AE23),0,SUM($AF23*$BD$24))) | AL23: =IF(IF(ISBLANK($AA23),0,SUM($AB23*$BB$25))+IF(ISBLANK($AC23),0,SUM($AD23*$BC$25))+IF(ISBLANK($AE23),0,SUM($AF23*$BD$25))=0,"",IF(ISBLANK($AA23),0,SUM($AB23*$BB$25))+IF(ISBLANK($AC23),0,SUM($AD23*$BC$25))+IF(ISBLANK($AE23),0,SUM($AF23*$BD$25))) | AM23: =IF(IF(ISBLANK($AA23),0,SUM($AB23*$BB$26))+IF(ISBLANK($AC23),0,SUM($AD23*$BC$26))+IF(ISBLANK($AE23),0,SUM($AF23*$BD$26))=0,"",IF(ISBLANK($AA23),0,SUM($AB23*$BB$26))+IF(ISBLANK($AC23),0,SUM($AD23*$BC$26))+IF(ISBLANK($AE23),0,SUM($AF23*$BD$26))) | AN23: =IF(IF(ISBLANK($AA23),0,SUM($AB23*$BB$27))+IF(ISBLANK($AC23),0,SUM($AD23*$BC$27))+IF(ISBLANK($AE23),0,SUM($AF23*$BD$27))=0,"",IF(ISBLANK($AA23),0,SUM($AB23*$BB$27))+IF(ISBLANK($AC23),0,SUM($AD23*$BC$27))+IF(ISBLANK($AE23),0,SUM($AF23*$BD$27))) | AO23: =IF(IF(ISBLANK($AA23),0,SUM($AB23*$BB$28))+IF(ISBLANK($AC23),0,SUM($AD23*$BC$28))+IF(ISBLANK($AE23),0,SUM($AF23*$BD$28))=0,"",IF(ISBLANK($AA23),0,SUM($AB23*$BB$28))+IF(ISBLANK($AC23),0,SUM($AD23*$BC$28))+IF(ISBLANK($AE23),0,SUM($AF23*$BD$28))) | AP23: =IF(SUM(AB23,AD23,AF23)=SUM(AH23:AO23),"","K") | AQ23: =IF(SUM(L23,AH23)=0,"",SUM(L23,AH23)) | AR23: =IF(SUM(N23,AI23)=0,"",SUM(N23,AI23)) | AS23: =IF(SUM(P23,AJ23)=0,"",SUM(P23,AJ23)) | AT23: =IF(SUM(R23,AK23)=0,"",SUM(R23,AK23)) | AU23: =IF(SUM(T23,AL23)=0,"",SUM(T23,AL23)) | AV23: =IF(SUM(V23,AM23)=0,"",SUM(V23,AM23)) | AW23: =IF(SUM(X23,AN23)=0,"",SUM(X23,AN23)) | AX23: =IF(SUM(Z23,AO23)=0,"",SUM(Z23,AO23)) | AY23: =SUM(AQ23:AX23)-SUM(F23) -> 0 | BA23: Sotsiaalkindlustusamet | BB23: =BG9 -> 0.057562318
D24: =IF(SUM(K24,M24,O24,Q24,S24,U24,W24,Y24,AA24,AC24,AE24)=0,"",SUM(K24,M24,O24,Q24,S24,U24,W24,Y24,AA24,AC24,AE24)) | F24: =IF(OR(SUM(D24)=0,SUM(E24)=0),"",SUM(D24*E24)) | J24: =IF(SUM(K24,M24,O24,Q24,S24,U24,W24,Y24,AA24,AC24,AE24)-SUM(D24)=0,"","K") | L24: =IF(ISBLANK(K24),"",SUM(K24*$E24)) | N24: =IF(ISBLANK(M24),"",SUM(M24*$E24)) | P24: =IF(ISBLANK(O24),"",SUM(O24*$E24)) | R24: =IF(ISBLANK(Q24),"",SUM(Q24*$E24)) | T24: =IF(ISBLANK(S24),"",SUM(S24*$E24)) | V24: =IF(ISBLANK(U24),"",SUM(U24*$E24)) | X24: =IF(ISBLANK(W24),"",SUM(W24*$E24)) | Z24: =IF(ISBLANK(Y24),"",SUM(Y24*$E24)) | AB24: =IF(ISBLANK(AA24),"",SUM(AA24*$E24)) | AD24: =IF(ISBLANK(AC24),"",SUM(AC24*$E24)) | AF24: =IF(ISBLANK(AE24),"",SUM(AE24*$E24)) | AH24: =IF(IF(ISBLANK($AA24),0,SUM($AB24*$BB$21))+IF(ISBLANK($AC24),0,SUM($AD24*$BC$21))+IF(ISBLANK($AE24),0,SUM($AF24*$BD$21))=0,"",IF(ISBLANK($AA24),0,SUM($AB24*$BB$21))+IF(ISBLANK($AC24),0,SUM($AD24*$BC$21))+IF(ISBLANK($AE24),0,SUM($AF24*$BD$21))) | AI24: =IF(IF(ISBLANK($AA24),0,SUM($AB24*$BB$22))+IF(ISBLANK($AC24),0,SUM($AD24*$BC$22))+IF(ISBLANK($AE24),0,SUM($AF24*$BD$22))=0,"",IF(ISBLANK($AA24),0,SUM($AB24*$BB$22))+IF(ISBLANK($AC24),0,SUM($AD24*$BC$22))+IF(ISBLANK($AE24),0,SUM($AF24*$BD$22))) | AJ24: =IF(IF(ISBLANK($AA24),0,SUM($AB24*$BB$23))+IF(ISBLANK($AC24),0,SUM($AD24*$BC$23))+IF(ISBLANK($AE24),0,SUM($AF24*$BD$23))=0,"",IF(ISBLANK($AA24),0,SUM($AB24*$BB$23))+IF(ISBLANK($AC24),0,SUM($AD24*$BC$23))+IF(ISBLANK($AE24),0,SUM($AF24*$BD$23))) | AK24: =IF(IF(ISBLANK($AA24),0,SUM($AB24*$BB$24))+IF(ISBLANK($AC24),0,SUM($AD24*$BC$24))+IF(ISBLANK($AE24),0,SUM($AF24*$BD$24))=0,"",IF(ISBLANK($AA24),0,SUM($AB24*$BB$24))+IF(ISBLANK($AC24),0,SUM($AD24*$BC$24))+IF(ISBLANK($AE24),0,SUM($AF24*$BD$24))) | AL24: =IF(IF(ISBLANK($AA24),0,SUM($AB24*$BB$25))+IF(ISBLANK($AC24),0,SUM($AD24*$BC$25))+IF(ISBLANK($AE24),0,SUM($AF24*$BD$25))=0,"",IF(ISBLANK($AA24),0,SUM($AB24*$BB$25))+IF(ISBLANK($AC24),0,SUM($AD24*$BC$25))+IF(ISBLANK($AE24),0,SUM($AF24*$BD$25))) | AM24: =IF(IF(ISBLANK($AA24),0,SUM($AB24*$BB$26))+IF(ISBLANK($AC24),0,SUM($AD24*$BC$26))+IF(ISBLANK($AE24),0,SUM($AF24*$BD$26))=0,"",IF(ISBLANK($AA24),0,SUM($AB24*$BB$26))+IF(ISBLANK($AC24),0,SUM($AD24*$BC$26))+IF(ISBLANK($AE24),0,SUM($AF24*$BD$26))) | AN24: =IF(IF(ISBLANK($AA24),0,SUM($AB24*$BB$27))+IF(ISBLANK($AC24),0,SUM($AD24*$BC$27))+IF(ISBLANK($AE24),0,SUM($AF24*$BD$27))=0,"",IF(ISBLANK($AA24),0,SUM($AB24*$BB$27))+IF(ISBLANK($AC24),0,SUM($AD24*$BC$27))+IF(ISBLANK($AE24),0,SUM($AF24*$BD$27))) | AO24: =IF(IF(ISBLANK($AA24),0,SUM($AB24*$BB$28))+IF(ISBLANK($AC24),0,SUM($AD24*$BC$28))+IF(ISBLANK($AE24),0,SUM($AF24*$BD$28))=0,"",IF(ISBLANK($AA24),0,SUM($AB24*$BB$28))+IF(ISBLANK($AC24),0,SUM($AD24*$BC$28))+IF(ISBLANK($AE24),0,SUM($AF24*$BD$28))) | AP24: =IF(SUM(AB24,AD24,AF24)=SUM(AH24:AO24),"","K") | AQ24: =IF(SUM(L24,AH24)=0,"",SUM(L24,AH24)) | AR24: =IF(SUM(N24,AI24)=0,"",SUM(N24,AI24)) | AS24: =IF(SUM(P24,AJ24)=0,"",SUM(P24,AJ24)) | AT24: =IF(SUM(R24,AK24)=0,"",SUM(R24,AK24)) | AU24: =IF(SUM(T24,AL24)=0,"",SUM(T24,AL24)) | AV24: =IF(SUM(V24,AM24)=0,"",SUM(V24,AM24)) | AW24: =IF(SUM(X24,AN24)=0,"",SUM(X24,AN24)) | AX24: =IF(SUM(Z24,AO24)=0,"",SUM(Z24,AO24)) | AY24: =SUM(AQ24:AX24)-SUM(F24) -> 0 | BA24: Haridus- ja Noorteamet | BB24: =BG10 -> 0.080717085
D25: =IF(SUM(K25,M25,O25,Q25,S25,U25,W25,Y25,AA25,AC25,AE25)=0,"",SUM(K25,M25,O25,Q25,S25,U25,W25,Y25,AA25,AC25,AE25)) | F25: =IF(OR(SUM(D25)=0,SUM(E25)=0),"",SUM(D25*E25)) | J25: =IF(SUM(K25,M25,O25,Q25,S25,U25,W25,Y25,AA25,AC25,AE25)-SUM(D25)=0,"","K") | L25: =IF(ISBLANK(K25),"",SUM(K25*$E25)) | N25: =IF(ISBLANK(M25),"",SUM(M25*$E25)) | P25: =IF(ISBLANK(O25),"",SUM(O25*$E25)) | R25: =IF(ISBLANK(Q25),"",SUM(Q25*$E25)) | T25: =IF(ISBLANK(S25),"",SUM(S25*$E25)) | V25: =IF(ISBLANK(U25),"",SUM(U25*$E25)) | X25: =IF(ISBLANK(W25),"",SUM(W25*$E25)) | Z25: =IF(ISBLANK(Y25),"",SUM(Y25*$E25)) | AB25: =IF(ISBLANK(AA25),"",SUM(AA25*$E25)) | AD25: =IF(ISBLANK(AC25),"",SUM(AC25*$E25)) | AF25: =IF(ISBLANK(AE25),"",SUM(AE25*$E25)) | AH25: =IF(IF(ISBLANK($AA25),0,SUM($AB25*$BB$21))+IF(ISBLANK($AC25),0,SUM($AD25*$BC$21))+IF(ISBLANK($AE25),0,SUM($AF25*$BD$21))=0,"",IF(ISBLANK($AA25),0,SUM($AB25*$BB$21))+IF(ISBLANK($AC25),0,SUM($AD25*$BC$21))+IF(ISBLANK($AE25),0,SUM($AF25*$BD$21))) | AI25: =IF(IF(ISBLANK($AA25),0,SUM($AB25*$BB$22))+IF(ISBLANK($AC25),0,SUM($AD25*$BC$22))+IF(ISBLANK($AE25),0,SUM($AF25*$BD$22))=0,"",IF(ISBLANK($AA25),0,SUM($AB25*$BB$22))+IF(ISBLANK($AC25),0,SUM($AD25*$BC$22))+IF(ISBLANK($AE25),0,SUM($AF25*$BD$22))) | AJ25: =IF(IF(ISBLANK($AA25),0,SUM($AB25*$BB$23))+IF(ISBLANK($AC25),0,SUM($AD25*$BC$23))+IF(ISBLANK($AE25),0,SUM($AF25*$BD$23))=0,"",IF(ISBLANK($AA25),0,SUM($AB25*$BB$23))+IF(ISBLANK($AC25),0,SUM($AD25*$BC$23))+IF(ISBLANK($AE25),0,SUM($AF25*$BD$23))) | AK25: =IF(IF(ISBLANK($AA25),0,SUM($AB25*$BB$24))+IF(ISBLANK($AC25),0,SUM($AD25*$BC$24))+IF(ISBLANK($AE25),0,SUM($AF25*$BD$24))=0,"",IF(ISBLANK($AA25),0,SUM($AB25*$BB$24))+IF(ISBLANK($AC25),0,SUM($AD25*$BC$24))+IF(ISBLANK($AE25),0,SUM($AF25*$BD$24))) | AL25: =IF(IF(ISBLANK($AA25),0,SUM($AB25*$BB$25))+IF(ISBLANK($AC25),0,SUM($AD25*$BC$25))+IF(ISBLANK($AE25),0,SUM($AF25*$BD$25))=0,"",IF(ISBLANK($AA25),0,SUM($AB25*$BB$25))+IF(ISBLANK($AC25),0,SUM($AD25*$BC$25))+IF(ISBLANK($AE25),0,SUM($AF25*$BD$25))) | AM25: =IF(IF(ISBLANK($AA25),0,SUM($AB25*$BB$26))+IF(ISBLANK($AC25),0,SUM($AD25*$BC$26))+IF(ISBLANK($AE25),0,SUM($AF25*$BD$26))=0,"",IF(ISBLANK($AA25),0,SUM($AB25*$BB$26))+IF(ISBLANK($AC25),0,SUM($AD25*$BC$26))+IF(ISBLANK($AE25),0,SUM($AF25*$BD$26))) | AN25: =IF(IF(ISBLANK($AA25),0,SUM($AB25*$BB$27))+IF(ISBLANK($AC25),0,SUM($AD25*$BC$27))+IF(ISBLANK($AE25),0,SUM($AF25*$BD$27))=0,"",IF(ISBLANK($AA25),0,SUM($AB25*$BB$27))+IF(ISBLANK($AC25),0,SUM($AD25*$BC$27))+IF(ISBLANK($AE25),0,SUM($AF25*$BD$27))) | AO25: =IF(IF(ISBLANK($AA25),0,SUM($AB25*$BB$28))+IF(ISBLANK($AC25),0,SUM($AD25*$BC$28))+IF(ISBLANK($AE25),0,SUM($AF25*$BD$28))=0,"",IF(ISBLANK($AA25),0,SUM($AB25*$BB$28))+IF(ISBLANK($AC25),0,SUM($AD25*$BC$28))+IF(ISBLANK($AE25),0,SUM($AF25*$BD$28))) | AP25: =IF(SUM(AB25,AD25,AF25)=SUM(AH25:AO25),"","K") | AQ25: =IF(SUM(L25,AH25)=0,"",SUM(L25,AH25)) | AR25: =IF(SUM(N25,AI25)=0,"",SUM(N25,AI25)) | AS25: =IF(SUM(P25,AJ25)=0,"",SUM(P25,AJ25)) | AT25: =IF(SUM(R25,AK25)=0,"",SUM(R25,AK25)) | AU25: =IF(SUM(T25,AL25)=0,"",SUM(T25,AL25)) | AV25: =IF(SUM(V25,AM25)=0,"",SUM(V25,AM25)) | AW25: =IF(SUM(X25,AN25)=0,"",SUM(X25,AN25)) | AX25: =IF(SUM(Z25,AO25)=0,"",SUM(Z25,AO25)) | AY25: =SUM(AQ25:AX25)-SUM(F25) -> 0 | BA25: Tallinna Vangla | BB25: =BG11 -> 0.042015143
D26: =IF(SUM(K26,M26,O26,Q26,S26,U26,W26,Y26,AA26,AC26,AE26)=0,"",SUM(K26,M26,O26,Q26,S26,U26,W26,Y26,AA26,AC26,AE26)) | F26: =IF(OR(SUM(D26)=0,SUM(E26)=0),"",SUM(D26*E26)) | J26: =IF(SUM(K26,M26,O26,Q26,S26,U26,W26,Y26,AA26,AC26,AE26)-SUM(D26)=0,"","K") | L26: =IF(ISBLANK(K26),"",SUM(K26*$E26)) | N26: =IF(ISBLANK(M26),"",SUM(M26*$E26)) | P26: =IF(ISBLANK(O26),"",SUM(O26*$E26)) | R26: =IF(ISBLANK(Q26),"",SUM(Q26*$E26)) | T26: =IF(ISBLANK(S26),"",SUM(S26*$E26)) | V26: =IF(ISBLANK(U26),"",SUM(U26*$E26)) | X26: =IF(ISBLANK(W26),"",SUM(W26*$E26)) | Z26: =IF(ISBLANK(Y26),"",SUM(Y26*$E26)) | AB26: =IF(ISBLANK(AA26),"",SUM(AA26*$E26)) | AD26: =IF(ISBLANK(AC26),"",SUM(AC26*$E26)) | AF26: =IF(ISBLANK(AE26),"",SUM(AE26*$E26)) | AH26: =IF(IF(ISBLANK($AA26),0,SUM($AB26*$BB$21))+IF(ISBLANK($AC26),0,SUM($AD26*$BC$21))+IF(ISBLANK($AE26),0,SUM($AF26*$BD$21))=0,"",IF(ISBLANK($AA26),0,SUM($AB26*$BB$21))+IF(ISBLANK($AC26),0,SUM($AD26*$BC$21))+IF(ISBLANK($AE26),0,SUM($AF26*$BD$21))) | AI26: =IF(IF(ISBLANK($AA26),0,SUM($AB26*$BB$22))+IF(ISBLANK($AC26),0,SUM($AD26*$BC$22))+IF(ISBLANK($AE26),0,SUM($AF26*$BD$22))=0,"",IF(ISBLANK($AA26),0,SUM($AB26*$BB$22))+IF(ISBLANK($AC26),0,SUM($AD26*$BC$22))+IF(ISBLANK($AE26),0,SUM($AF26*$BD$22))) | AJ26: =IF(IF(ISBLANK($AA26),0,SUM($AB26*$BB$23))+IF(ISBLANK($AC26),0,SUM($AD26*$BC$23))+IF(ISBLANK($AE26),0,SUM($AF26*$BD$23))=0,"",IF(ISBLANK($AA26),0,SUM($AB26*$BB$23))+IF(ISBLANK($AC26),0,SUM($AD26*$BC$23))+IF(ISBLANK($AE26),0,SUM($AF26*$BD$23))) | AK26: =IF(IF(ISBLANK($AA26),0,SUM($AB26*$BB$24))+IF(ISBLANK($AC26),0,SUM($AD26*$BC$24))+IF(ISBLANK($AE26),0,SUM($AF26*$BD$24))=0,"",IF(ISBLANK($AA26),0,SUM($AB26*$BB$24))+IF(ISBLANK($AC26),0,SUM($AD26*$BC$24))+IF(ISBLANK($AE26),0,SUM($AF26*$BD$24))) | AL26: =IF(IF(ISBLANK($AA26),0,SUM($AB26*$BB$25))+IF(ISBLANK($AC26),0,SUM($AD26*$BC$25))+IF(ISBLANK($AE26),0,SUM($AF26*$BD$25))=0,"",IF(ISBLANK($AA26),0,SUM($AB26*$BB$25))+IF(ISBLANK($AC26),0,SUM($AD26*$BC$25))+IF(ISBLANK($AE26),0,SUM($AF26*$BD$25))) | AM26: =IF(IF(ISBLANK($AA26),0,SUM($AB26*$BB$26))+IF(ISBLANK($AC26),0,SUM($AD26*$BC$26))+IF(ISBLANK($AE26),0,SUM($AF26*$BD$26))=0,"",IF(ISBLANK($AA26),0,SUM($AB26*$BB$26))+IF(ISBLANK($AC26),0,SUM($AD26*$BC$26))+IF(ISBLANK($AE26),0,SUM($AF26*$BD$26))) | AN26: =IF(IF(ISBLANK($AA26),0,SUM($AB26*$BB$27))+IF(ISBLANK($AC26),0,SUM($AD26*$BC$27))+IF(ISBLANK($AE26),0,SUM($AF26*$BD$27))=0,"",IF(ISBLANK($AA26),0,SUM($AB26*$BB$27))+IF(ISBLANK($AC26),0,SUM($AD26*$BC$27))+IF(ISBLANK($AE26),0,SUM($AF26*$BD$27))) | AO26: =IF(IF(ISBLANK($AA26),0,SUM($AB26*$BB$28))+IF(ISBLANK($AC26),0,SUM($AD26*$BC$28))+IF(ISBLANK($AE26),0,SUM($AF26*$BD$28))=0,"",IF(ISBLANK($AA26),0,SUM($AB26*$BB$28))+IF(ISBLANK($AC26),0,SUM($AD26*$BC$28))+IF(ISBLANK($AE26),0,SUM($AF26*$BD$28))) | AP26: =IF(SUM(AB26,AD26,AF26)=SUM(AH26:AO26),"","K") | AQ26: =IF(SUM(L26,AH26)=0,"",SUM(L26,AH26)) | AR26: =IF(SUM(N26,AI26)=0,"",SUM(N26,AI26)) | AS26: =IF(SUM(P26,AJ26)=0,"",SUM(P26,AJ26)) | AT26: =IF(SUM(R26,AK26)=0,"",SUM(R26,AK26)) | AU26: =IF(SUM(T26,AL26)=0,"",SUM(T26,AL26)) | AV26: =IF(SUM(V26,AM26)=0,"",SUM(V26,AM26)) | AW26: =IF(SUM(X26,AN26)=0,"",SUM(X26,AN26)) | AX26: =IF(SUM(Z26,AO26)=0,"",SUM(Z26,AO26)) | AY26: =SUM(AQ26:AX26)-SUM(F26) -> 0 | BA26: PROKURATUUR | BB26: =BG12 -> 0.065604523
D27: =IF(SUM(K27,M27,O27,Q27,S27,U27,W27,Y27,AA27,AC27,AE27)=0,"",SUM(K27,M27,O27,Q27,S27,U27,W27,Y27,AA27,AC27,AE27)) | F27: =IF(OR(SUM(D27)=0,SUM(E27)=0),"",SUM(D27*E27)) | J27: =IF(SUM(K27,M27,O27,Q27,S27,U27,W27,Y27,AA27,AC27,AE27)-SUM(D27)=0,"","K") | L27: =IF(ISBLANK(K27),"",SUM(K27*$E27)) | N27: =IF(ISBLANK(M27),"",SUM(M27*$E27)) | P27: =IF(ISBLANK(O27),"",SUM(O27*$E27)) | R27: =IF(ISBLANK(Q27),"",SUM(Q27*$E27)) | T27: =IF(ISBLANK(S27),"",SUM(S27*$E27)) | V27: =IF(ISBLANK(U27),"",SUM(U27*$E27)) | X27: =IF(ISBLANK(W27),"",SUM(W27*$E27)) | Z27: =IF(ISBLANK(Y27),"",SUM(Y27*$E27)) | AB27: =IF(ISBLANK(AA27),"",SUM(AA27*$E27)) | AD27: =IF(ISBLANK(AC27),"",SUM(AC27*$E27)) | AF27: =IF(ISBLANK(AE27),"",SUM(AE27*$E27)) | AH27: =IF(IF(ISBLANK($AA27),0,SUM($AB27*$BB$21))+IF(ISBLANK($AC27),0,SUM($AD27*$BC$21))+IF(ISBLANK($AE27),0,SUM($AF27*$BD$21))=0,"",IF(ISBLANK($AA27),0,SUM($AB27*$BB$21))+IF(ISBLANK($AC27),0,SUM($AD27*$BC$21))+IF(ISBLANK($AE27),0,SUM($AF27*$BD$21))) | AI27: =IF(IF(ISBLANK($AA27),0,SUM($AB27*$BB$22))+IF(ISBLANK($AC27),0,SUM($AD27*$BC$22))+IF(ISBLANK($AE27),0,SUM($AF27*$BD$22))=0,"",IF(ISBLANK($AA27),0,SUM($AB27*$BB$22))+IF(ISBLANK($AC27),0,SUM($AD27*$BC$22))+IF(ISBLANK($AE27),0,SUM($AF27*$BD$22))) | AJ27: =IF(IF(ISBLANK($AA27),0,SUM($AB27*$BB$23))+IF(ISBLANK($AC27),0,SUM($AD27*$BC$23))+IF(ISBLANK($AE27),0,SUM($AF27*$BD$23))=0,"",IF(ISBLANK($AA27),0,SUM($AB27*$BB$23))+IF(ISBLANK($AC27),0,SUM($AD27*$BC$23))+IF(ISBLANK($AE27),0,SUM($AF27*$BD$23))) | AK27: =IF(IF(ISBLANK($AA27),0,SUM($AB27*$BB$24))+IF(ISBLANK($AC27),0,SUM($AD27*$BC$24))+IF(ISBLANK($AE27),0,SUM($AF27*$BD$24))=0,"",IF(ISBLANK($AA27),0,SUM($AB27*$BB$24))+IF(ISBLANK($AC27),0,SUM($AD27*$BC$24))+IF(ISBLANK($AE27),0,SUM($AF27*$BD$24))) | AL27: =IF(IF(ISBLANK($AA27),0,SUM($AB27*$BB$25))+IF(ISBLANK($AC27),0,SUM($AD27*$BC$25))+IF(ISBLANK($AE27),0,SUM($AF27*$BD$25))=0,"",IF(ISBLANK($AA27),0,SUM($AB27*$BB$25))+IF(ISBLANK($AC27),0,SUM($AD27*$BC$25))+IF(ISBLANK($AE27),0,SUM($AF27*$BD$25))) | AM27: =IF(IF(ISBLANK($AA27),0,SUM($AB27*$BB$26))+IF(ISBLANK($AC27),0,SUM($AD27*$BC$26))+IF(ISBLANK($AE27),0,SUM($AF27*$BD$26))=0,"",IF(ISBLANK($AA27),0,SUM($AB27*$BB$26))+IF(ISBLANK($AC27),0,SUM($AD27*$BC$26))+IF(ISBLANK($AE27),0,SUM($AF27*$BD$26))) | AN27: =IF(IF(ISBLANK($AA27),0,SUM($AB27*$BB$27))+IF(ISBLANK($AC27),0,SUM($AD27*$BC$27))+IF(ISBLANK($AE27),0,SUM($AF27*$BD$27))=0,"",IF(ISBLANK($AA27),0,SUM($AB27*$BB$27))+IF(ISBLANK($AC27),0,SUM($AD27*$BC$27))+IF(ISBLANK($AE27),0,SUM($AF27*$BD$27))) | AO27: =IF(IF(ISBLANK($AA27),0,SUM($AB27*$BB$28))+IF(ISBLANK($AC27),0,SUM($AD27*$BC$28))+IF(ISBLANK($AE27),0,SUM($AF27*$BD$28))=0,"",IF(ISBLANK($AA27),0,SUM($AB27*$BB$28))+IF(ISBLANK($AC27),0,SUM($AD27*$BC$28))+IF(ISBLANK($AE27),0,SUM($AF27*$BD$28))) | AP27: =IF(SUM(AB27,AD27,AF27)=SUM(AH27:AO27),"","K") | AQ27: =IF(SUM(L27,AH27)=0,"",SUM(L27,AH27)) | AR27: =IF(SUM(N27,AI27)=0,"",SUM(N27,AI27)) | AS27: =IF(SUM(P27,AJ27)=0,"",SUM(P27,AJ27)) | AT27: =IF(SUM(R27,AK27)=0,"",SUM(R27,AK27)) | AU27: =IF(SUM(T27,AL27)=0,"",SUM(T27,AL27)) | AV27: =IF(SUM(V27,AM27)=0,"",SUM(V27,AM27)) | AW27: =IF(SUM(X27,AN27)=0,"",SUM(X27,AN27)) | AX27: =IF(SUM(Z27,AO27)=0,"",SUM(Z27,AO27)) | AY27: =SUM(AQ27:AX27)-SUM(F27) -> 0 | BA27: PÄRNU MAAKOHUS | BB27: =BG13 -> 0.65723622
D28: =IF(SUM(K28,M28,O28,Q28,S28,U28,W28,Y28,AA28,AC28,AE28)=0,"",SUM(K28,M28,O28,Q28,S28,U28,W28,Y28,AA28,AC28,AE28)) | F28: =IF(OR(SUM(D28)=0,SUM(E28)=0),"",SUM(D28*E28)) | J28: =IF(SUM(K28,M28,O28,Q28,S28,U28,W28,Y28,AA28,AC28,AE28)-SUM(D28)=0,"","K") | L28: =IF(ISBLANK(K28),"",SUM(K28*$E28)) | N28: =IF(ISBLANK(M28),"",SUM(M28*$E28)) | P28: =IF(ISBLANK(O28),"",SUM(O28*$E28)) | R28: =IF(ISBLANK(Q28),"",SUM(Q28*$E28)) | T28: =IF(ISBLANK(S28),"",SUM(S28*$E28)) | V28: =IF(ISBLANK(U28),"",SUM(U28*$E28)) | X28: =IF(ISBLANK(W28),"",SUM(W28*$E28)) | Z28: =IF(ISBLANK(Y28),"",SUM(Y28*$E28)) | AB28: =IF(ISBLANK(AA28),"",SUM(AA28*$E28)) | AD28: =IF(ISBLANK(AC28),"",SUM(AC28*$E28)) | AF28: =IF(ISBLANK(AE28),"",SUM(AE28*$E28)) | AH28: =IF(IF(ISBLANK($AA28),0,SUM($AB28*$BB$21))+IF(ISBLANK($AC28),0,SUM($AD28*$BC$21))+IF(ISBLANK($AE28),0,SUM($AF28*$BD$21))=0,"",IF(ISBLANK($AA28),0,SUM($AB28*$BB$21))+IF(ISBLANK($AC28),0,SUM($AD28*$BC$21))+IF(ISBLANK($AE28),0,SUM($AF28*$BD$21))) | AI28: =IF(IF(ISBLANK($AA28),0,SUM($AB28*$BB$22))+IF(ISBLANK($AC28),0,SUM($AD28*$BC$22))+IF(ISBLANK($AE28),0,SUM($AF28*$BD$22))=0,"",IF(ISBLANK($AA28),0,SUM($AB28*$BB$22))+IF(ISBLANK($AC28),0,SUM($AD28*$BC$22))+IF(ISBLANK($AE28),0,SUM($AF28*$BD$22))) | AJ28: =IF(IF(ISBLANK($AA28),0,SUM($AB28*$BB$23))+IF(ISBLANK($AC28),0,SUM($AD28*$BC$23))+IF(ISBLANK($AE28),0,SUM($AF28*$BD$23))=0,"",IF(ISBLANK($AA28),0,SUM($AB28*$BB$23))+IF(ISBLANK($AC28),0,SUM($AD28*$BC$23))+IF(ISBLANK($AE28),0,SUM($AF28*$BD$23))) | AK28: =IF(IF(ISBLANK($AA28),0,SUM($AB28*$BB$24))+IF(ISBLANK($AC28),0,SUM($AD28*$BC$24))+IF(ISBLANK($AE28),0,SUM($AF28*$BD$24))=0,"",IF(ISBLANK($AA28),0,SUM($AB28*$BB$24))+IF(ISBLANK($AC28),0,SUM($AD28*$BC$24))+IF(ISBLANK($AE28),0,SUM($AF28*$BD$24))) | AL28: =IF(IF(ISBLANK($AA28),0,SUM($AB28*$BB$25))+IF(ISBLANK($AC28),0,SUM($AD28*$BC$25))+IF(ISBLANK($AE28),0,SUM($AF28*$BD$25))=0,"",IF(ISBLANK($AA28),0,SUM($AB28*$BB$25))+IF(ISBLANK($AC28),0,SUM($AD28*$BC$25))+IF(ISBLANK($AE28),0,SUM($AF28*$BD$25))) | AM28: =IF(IF(ISBLANK($AA28),0,SUM($AB28*$BB$26))+IF(ISBLANK($AC28),0,SUM($AD28*$BC$26))+IF(ISBLANK($AE28),0,SUM($AF28*$BD$26))=0,"",IF(ISBLANK($AA28),0,SUM($AB28*$BB$26))+IF(ISBLANK($AC28),0,SUM($AD28*$BC$26))+IF(ISBLANK($AE28),0,SUM($AF28*$BD$26))) | AN28: =IF(IF(ISBLANK($AA28),0,SUM($AB28*$BB$27))+IF(ISBLANK($AC28),0,SUM($AD28*$BC$27))+IF(ISBLANK($AE28),0,SUM($AF28*$BD$27))=0,"",IF(ISBLANK($AA28),0,SUM($AB28*$BB$27))+IF(ISBLANK($AC28),0,SUM($AD28*$BC$27))+IF(ISBLANK($AE28),0,SUM($AF28*$BD$27))) | AO28: =IF(IF(ISBLANK($AA28),0,SUM($AB28*$BB$28))+IF(ISBLANK($AC28),0,SUM($AD28*$BC$28))+IF(ISBLANK($AE28),0,SUM($AF28*$BD$28))=0,"",IF(ISBLANK($AA28),0,SUM($AB28*$BB$28))+IF(ISBLANK($AC28),0,SUM($AD28*$BC$28))+IF(ISBLANK($AE28),0,SUM($AF28*$BD$28))) | AP28: =IF(SUM(AB28,AD28,AF28)=SUM(AH28:AO28),"","K") | AQ28: =IF(SUM(L28,AH28)=0,"",SUM(L28,AH28)) | AR28: =IF(SUM(N28,AI28)=0,"",SUM(N28,AI28)) | AS28: =IF(SUM(P28,AJ28)=0,"",SUM(P28,AJ28)) | AT28: =IF(SUM(R28,AK28)=0,"",SUM(R28,AK28)) | AU28: =IF(SUM(T28,AL28)=0,"",SUM(T28,AL28)) | AV28: =IF(SUM(V28,AM28)=0,"",SUM(V28,AM28)) | AW28: =IF(SUM(X28,AN28)=0,"",SUM(X28,AN28)) | AX28: =IF(SUM(Z28,AO28)=0,"",SUM(Z28,AO28)) | AY28: =SUM(AQ28:AX28)-SUM(F28) -> 0 | BA28: Aktiivne vakantsus | BB28: =BG14 -> 0
D29: =IF(SUM(K29,M29,O29,Q29,S29,U29,W29,Y29,AA29,AC29,AE29)=0,"",SUM(K29,M29,O29,Q29,S29,U29,W29,Y29,AA29,AC29,AE29)) | F29: =IF(OR(SUM(D29)=0,SUM(E29)=0),"",SUM(D29*E29)) | J29: =IF(SUM(K29,M29,O29,Q29,S29,U29,W29,Y29,AA29,AC29,AE29)-SUM(D29)=0,"","K") | L29: =IF(ISBLANK(K29),"",SUM(K29*$E29)) | N29: =IF(ISBLANK(M29),"",SUM(M29*$E29)) | P29: =IF(ISBLANK(O29),"",SUM(O29*$E29)) | R29: =IF(ISBLANK(Q29),"",SUM(Q29*$E29)) | T29: =IF(ISBLANK(S29),"",SUM(S29*$E29)) | V29: =IF(ISBLANK(U29),"",SUM(U29*$E29)) | X29: =IF(ISBLANK(W29),"",SUM(W29*$E29)) | Z29: =IF(ISBLANK(Y29),"",SUM(Y29*$E29)) | AB29: =IF(ISBLANK(AA29),"",SUM(AA29*$E29)) | AD29: =IF(ISBLANK(AC29),"",SUM(AC29*$E29)) | AF29: =IF(ISBLANK(AE29),"",SUM(AE29*$E29)) | AH29: =IF(IF(ISBLANK($AA29),0,SUM($AB29*$BB$21))+IF(ISBLANK($AC29),0,SUM($AD29*$BC$21))+IF(ISBLANK($AE29),0,SUM($AF29*$BD$21))=0,"",IF(ISBLANK($AA29),0,SUM($AB29*$BB$21))+IF(ISBLANK($AC29),0,SUM($AD29*$BC$21))+IF(ISBLANK($AE29),0,SUM($AF29*$BD$21))) | AI29: =IF(IF(ISBLANK($AA29),0,SUM($AB29*$BB$22))+IF(ISBLANK($AC29),0,SUM($AD29*$BC$22))+IF(ISBLANK($AE29),0,SUM($AF29*$BD$22))=0,"",IF(ISBLANK($AA29),0,SUM($AB29*$BB$22))+IF(ISBLANK($AC29),0,SUM($AD29*$BC$22))+IF(ISBLANK($AE29),0,SUM($AF29*$BD$22))) | AJ29: =IF(IF(ISBLANK($AA29),0,SUM($AB29*$BB$23))+IF(ISBLANK($AC29),0,SUM($AD29*$BC$23))+IF(ISBLANK($AE29),0,SUM($AF29*$BD$23))=0,"",IF(ISBLANK($AA29),0,SUM($AB29*$BB$23))+IF(ISBLANK($AC29),0,SUM($AD29*$BC$23))+IF(ISBLANK($AE29),0,SUM($AF29*$BD$23))) | AK29: =IF(IF(ISBLANK($AA29),0,SUM($AB29*$BB$24))+IF(ISBLANK($AC29),0,SUM($AD29*$BC$24))+IF(ISBLANK($AE29),0,SUM($AF29*$BD$24))=0,"",IF(ISBLANK($AA29),0,SUM($AB29*$BB$24))+IF(ISBLANK($AC29),0,SUM($AD29*$BC$24))+IF(ISBLANK($AE29),0,SUM($AF29*$BD$24))) | AL29: =IF(IF(ISBLANK($AA29),0,SUM($AB29*$BB$25))+IF(ISBLANK($AC29),0,SUM($AD29*$BC$25))+IF(ISBLANK($AE29),0,SUM($AF29*$BD$25))=0,"",IF(ISBLANK($AA29),0,SUM($AB29*$BB$25))+IF(ISBLANK($AC29),0,SUM($AD29*$BC$25))+IF(ISBLANK($AE29),0,SUM($AF29*$BD$25))) | AM29: =IF(IF(ISBLANK($AA29),0,SUM($AB29*$BB$26))+IF(ISBLANK($AC29),0,SUM($AD29*$BC$26))+IF(ISBLANK($AE29),0,SUM($AF29*$BD$26))=0,"",IF(ISBLANK($AA29),0,SUM($AB29*$BB$26))+IF(ISBLANK($AC29),0,SUM($AD29*$BC$26))+IF(ISBLANK($AE29),0,SUM($AF29*$BD$26))) | AN29: =IF(IF(ISBLANK($AA29),0,SUM($AB29*$BB$27))+IF(ISBLANK($AC29),0,SUM($AD29*$BC$27))+IF(ISBLANK($AE29),0,SUM($AF29*$BD$27))=0,"",IF(ISBLANK($AA29),0,SUM($AB29*$BB$27))+IF(ISBLANK($AC29),0,SUM($AD29*$BC$27))+IF(ISBLANK($AE29),0,SUM($AF29*$BD$27))) | AO29: =IF(IF(ISBLANK($AA29),0,SUM($AB29*$BB$28))+IF(ISBLANK($AC29),0,SUM($AD29*$BC$28))+IF(ISBLANK($AE29),0,SUM($AF29*$BD$28))=0,"",IF(ISBLANK($AA29),0,SUM($AB29*$BB$28))+IF(ISBLANK($AC29),0,SUM($AD29*$BC$28))+IF(ISBLANK($AE29),0,SUM($AF29*$BD$28))) | AP29: =IF(SUM(AB29,AD29,AF29)=SUM(AH29:AO29),"","K") | AQ29: =IF(SUM(L29,AH29)=0,"",SUM(L29,AH29)) | AR29: =IF(SUM(N29,AI29)=0,"",SUM(N29,AI29)) | AS29: =IF(SUM(P29,AJ29)=0,"",SUM(P29,AJ29)) | AT29: =IF(SUM(R29,AK29)=0,"",SUM(R29,AK29)) | AU29: =IF(SUM(T29,AL29)=0,"",SUM(T29,AL29)) | AV29: =IF(SUM(V29,AM29)=0,"",SUM(V29,AM29)) | AW29: =IF(SUM(X29,AN29)=0,"",SUM(X29,AN29)) | AX29: =IF(SUM(Z29,AO29)=0,"",SUM(Z29,AO29)) | AY29: =SUM(AQ29:AX29)-SUM(F29) -> 0
D30: =IF(SUM(K30,M30,O30,Q30,S30,U30,W30,Y30,AA30,AC30,AE30)=0,"",SUM(K30,M30,O30,Q30,S30,U30,W30,Y30,AA30,AC30,AE30)) | F30: =IF(OR(SUM(D30)=0,SUM(E30)=0),"",SUM(D30*E30)) | J30: =IF(SUM(K30,M30,O30,Q30,S30,U30,W30,Y30,AA30,AC30,AE30)-SUM(D30)=0,"","K") | L30: =IF(ISBLANK(K30),"",SUM(K30*$E30)) | N30: =IF(ISBLANK(M30),"",SUM(M30*$E30)) | P30: =IF(ISBLANK(O30),"",SUM(O30*$E30)) | R30: =IF(ISBLANK(Q30),"",SUM(Q30*$E30)) | T30: =IF(ISBLANK(S30),"",SUM(S30*$E30)) | V30: =IF(ISBLANK(U30),"",SUM(U30*$E30)) | X30: =IF(ISBLANK(W30),"",SUM(W30*$E30)) | Z30: =IF(ISBLANK(Y30),"",SUM(Y30*$E30)) | AB30: =IF(ISBLANK(AA30),"",SUM(AA30*$E30)) | AD30: =IF(ISBLANK(AC30),"",SUM(AC30*$E30)) | AF30: =IF(ISBLANK(AE30),"",SUM(AE30*$E30)) | AH30: =IF(IF(ISBLANK($AA30),0,SUM($AB30*$BB$21))+IF(ISBLANK($AC30),0,SUM($AD30*$BC$21))+IF(ISBLANK($AE30),0,SUM($AF30*$BD$21))=0,"",IF(ISBLANK($AA30),0,SUM($AB30*$BB$21))+IF(ISBLANK($AC30),0,SUM($AD30*$BC$21))+IF(ISBLANK($AE30),0,SUM($AF30*$BD$21))) | AI30: =IF(IF(ISBLANK($AA30),0,SUM($AB30*$BB$22))+IF(ISBLANK($AC30),0,SUM($AD30*$BC$22))+IF(ISBLANK($AE30),0,SUM($AF30*$BD$22))=0,"",IF(ISBLANK($AA30),0,SUM($AB30*$BB$22))+IF(ISBLANK($AC30),0,SUM($AD30*$BC$22))+IF(ISBLANK($AE30),0,SUM($AF30*$BD$22))) | AJ30: =IF(IF(ISBLANK($AA30),0,SUM($AB30*$BB$23))+IF(ISBLANK($AC30),0,SUM($AD30*$BC$23))+IF(ISBLANK($AE30),0,SUM($AF30*$BD$23))=0,"",IF(ISBLANK($AA30),0,SUM($AB30*$BB$23))+IF(ISBLANK($AC30),0,SUM($AD30*$BC$23))+IF(ISBLANK($AE30),0,SUM($AF30*$BD$23))) | AK30: =IF(IF(ISBLANK($AA30),0,SUM($AB30*$BB$24))+IF(ISBLANK($AC30),0,SUM($AD30*$BC$24))+IF(ISBLANK($AE30),0,SUM($AF30*$BD$24))=0,"",IF(ISBLANK($AA30),0,SUM($AB30*$BB$24))+IF(ISBLANK($AC30),0,SUM($AD30*$BC$24))+IF(ISBLANK($AE30),0,SUM($AF30*$BD$24))) | AL30: =IF(IF(ISBLANK($AA30),0,SUM($AB30*$BB$25))+IF(ISBLANK($AC30),0,SUM($AD30*$BC$25))+IF(ISBLANK($AE30),0,SUM($AF30*$BD$25))=0,"",IF(ISBLANK($AA30),0,SUM($AB30*$BB$25))+IF(ISBLANK($AC30),0,SUM($AD30*$BC$25))+IF(ISBLANK($AE30),0,SUM($AF30*$BD$25))) | AM30: =IF(IF(ISBLANK($AA30),0,SUM($AB30*$BB$26))+IF(ISBLANK($AC30),0,SUM($AD30*$BC$26))+IF(ISBLANK($AE30),0,SUM($AF30*$BD$26))=0,"",IF(ISBLANK($AA30),0,SUM($AB30*$BB$26))+IF(ISBLANK($AC30),0,SUM($AD30*$BC$26))+IF(ISBLANK($AE30),0,SUM($AF30*$BD$26))) | AN30: =IF(IF(ISBLANK($AA30),0,SUM($AB30*$BB$27))+IF(ISBLANK($AC30),0,SUM($AD30*$BC$27))+IF(ISBLANK($AE30),0,SUM($AF30*$BD$27))=0,"",IF(ISBLANK($AA30),0,SUM($AB30*$BB$27))+IF(ISBLANK($AC30),0,SUM($AD30*$BC$27))+IF(ISBLANK($AE30),0,SUM($AF30*$BD$27))) | AO30: =IF(IF(ISBLANK($AA30),0,SUM($AB30*$BB$28))+IF(ISBLANK($AC30),0,SUM($AD30*$BC$28))+IF(ISBLANK($AE30),0,SUM($AF30*$BD$28))=0,"",IF(ISBLANK($AA30),0,SUM($AB30*$BB$28))+IF(ISBLANK($AC30),0,SUM($AD30*$BC$28))+IF(ISBLANK($AE30),0,SUM($AF30*$BD$28))) | AP30: =IF(SUM(AB30,AD30,AF30)=SUM(AH30:AO30),"","K") | AQ30: =IF(SUM(L30,AH30)=0,"",SUM(L30,AH30)) | AR30: =IF(SUM(N30,AI30)=0,"",SUM(N30,AI30)) | AS30: =IF(SUM(P30,AJ30)=0,"",SUM(P30,AJ30)) | AT30: =IF(SUM(R30,AK30)=0,"",SUM(R30,AK30)) | AU30: =IF(SUM(T30,AL30)=0,"",SUM(T30,AL30)) | AV30: =IF(SUM(V30,AM30)=0,"",SUM(V30,AM30)) | AW30: =IF(SUM(X30,AN30)=0,"",SUM(X30,AN30)) | AX30: =IF(SUM(Z30,AO30)=0,"",SUM(Z30,AO30)) | AY30: =SUM(AQ30:AX30)-SUM(F30) -> 0
D31: =IF(SUM(K31,M31,O31,Q31,S31,U31,W31,Y31,AA31,AC31,AE31)=0,"",SUM(K31,M31,O31,Q31,S31,U31,W31,Y31,AA31,AC31,AE31)) | F31: =IF(OR(SUM(D31)=0,SUM(E31)=0),"",SUM(D31*E31)) | J31: =IF(SUM(K31,M31,O31,Q31,S31,U31,W31,Y31,AA31,AC31,AE31)-SUM(D31)=0,"","K") | L31: =IF(ISBLANK(K31),"",SUM(K31*$E31)) | N31: =IF(ISBLANK(M31),"",SUM(M31*$E31)) | P31: =IF(ISBLANK(O31),"",SUM(O31*$E31)) | R31: =IF(ISBLANK(Q31),"",SUM(Q31*$E31)) | T31: =IF(ISBLANK(S31),"",SUM(S31*$E31)) | V31: =IF(ISBLANK(U31),"",SUM(U31*$E31)) | X31: =IF(ISBLANK(W31),"",SUM(W31*$E31)) | Z31: =IF(ISBLANK(Y31),"",SUM(Y31*$E31)) | AB31: =IF(ISBLANK(AA31),"",SUM(AA31*$E31)) | AD31: =IF(ISBLANK(AC31),"",SUM(AC31*$E31)) | AF31: =IF(ISBLANK(AE31),"",SUM(AE31*$E31)) | AH31: =IF(IF(ISBLANK($AA31),0,SUM($AB31*$BB$21))+IF(ISBLANK($AC31),0,SUM($AD31*$BC$21))+IF(ISBLANK($AE31),0,SUM($AF31*$BD$21))=0,"",IF(ISBLANK($AA31),0,SUM($AB31*$BB$21))+IF(ISBLANK($AC31),0,SUM($AD31*$BC$21))+IF(ISBLANK($AE31),0,SUM($AF31*$BD$21))) | AI31: =IF(IF(ISBLANK($AA31),0,SUM($AB31*$BB$22))+IF(ISBLANK($AC31),0,SUM($AD31*$BC$22))+IF(ISBLANK($AE31),0,SUM($AF31*$BD$22))=0,"",IF(ISBLANK($AA31),0,SUM($AB31*$BB$22))+IF(ISBLANK($AC31),0,SUM($AD31*$BC$22))+IF(ISBLANK($AE31),0,SUM($AF31*$BD$22))) | AJ31: =IF(IF(ISBLANK($AA31),0,SUM($AB31*$BB$23))+IF(ISBLANK($AC31),0,SUM($AD31*$BC$23))+IF(ISBLANK($AE31),0,SUM($AF31*$BD$23))=0,"",IF(ISBLANK($AA31),0,SUM($AB31*$BB$23))+IF(ISBLANK($AC31),0,SUM($AD31*$BC$23))+IF(ISBLANK($AE31),0,SUM($AF31*$BD$23))) | AK31: =IF(IF(ISBLANK($AA31),0,SUM($AB31*$BB$24))+IF(ISBLANK($AC31),0,SUM($AD31*$BC$24))+IF(ISBLANK($AE31),0,SUM($AF31*$BD$24))=0,"",IF(ISBLANK($AA31),0,SUM($AB31*$BB$24))+IF(ISBLANK($AC31),0,SUM($AD31*$BC$24))+IF(ISBLANK($AE31),0,SUM($AF31*$BD$24))) | AL31: =IF(IF(ISBLANK($AA31),0,SUM($AB31*$BB$25))+IF(ISBLANK($AC31),0,SUM($AD31*$BC$25))+IF(ISBLANK($AE31),0,SUM($AF31*$BD$25))=0,"",IF(ISBLANK($AA31),0,SUM($AB31*$BB$25))+IF(ISBLANK($AC31),0,SUM($AD31*$BC$25))+IF(ISBLANK($AE31),0,SUM($AF31*$BD$25))) | AM31: =IF(IF(ISBLANK($AA31),0,SUM($AB31*$BB$26))+IF(ISBLANK($AC31),0,SUM($AD31*$BC$26))+IF(ISBLANK($AE31),0,SUM($AF31*$BD$26))=0,"",IF(ISBLANK($AA31),0,SUM($AB31*$BB$26))+IF(ISBLANK($AC31),0,SUM($AD31*$BC$26))+IF(ISBLANK($AE31),0,SUM($AF31*$BD$26))) | AN31: =IF(IF(ISBLANK($AA31),0,SUM($AB31*$BB$27))+IF(ISBLANK($AC31),0,SUM($AD31*$BC$27))+IF(ISBLANK($AE31),0,SUM($AF31*$BD$27))=0,"",IF(ISBLANK($AA31),0,SUM($AB31*$BB$27))+IF(ISBLANK($AC31),0,SUM($AD31*$BC$27))+IF(ISBLANK($AE31),0,SUM($AF31*$BD$27))) | AO31: =IF(IF(ISBLANK($AA31),0,SUM($AB31*$BB$28))+IF(ISBLANK($AC31),0,SUM($AD31*$BC$28))+IF(ISBLANK($AE31),0,SUM($AF31*$BD$28))=0,"",IF(ISBLANK($AA31),0,SUM($AB31*$BB$28))+IF(ISBLANK($AC31),0,SUM($AD31*$BC$28))+IF(ISBLANK($AE31),0,SUM($AF31*$BD$28))) | AP31: =IF(SUM(AB31,AD31,AF31)=SUM(AH31:AO31),"","K") | AQ31: =IF(SUM(L31,AH31)=0,"",SUM(L31,AH31)) | AR31: =IF(SUM(N31,AI31)=0,"",SUM(N31,AI31)) | AS31: =IF(SUM(P31,AJ31)=0,"",SUM(P31,AJ31)) | AT31: =IF(SUM(R31,AK31)=0,"",SUM(R31,AK31)) | AU31: =IF(SUM(T31,AL31)=0,"",SUM(T31,AL31)) | AV31: =IF(SUM(V31,AM31)=0,"",SUM(V31,AM31)) | AW31: =IF(SUM(X31,AN31)=0,"",SUM(X31,AN31)) | AX31: =IF(SUM(Z31,AO31)=0,"",SUM(Z31,AO31)) | AY31: =SUM(AQ31:AX31)-SUM(F31) -> 0
D32: =IF(SUM(K32,M32,O32,Q32,S32,U32,W32,Y32,AA32,AC32,AE32)=0,"",SUM(K32,M32,O32,Q32,S32,U32,W32,Y32,AA32,AC32,AE32)) | F32: =IF(OR(SUM(D32)=0,SUM(E32)=0),"",SUM(D32*E32)) | J32: =IF(SUM(K32,M32,O32,Q32,S32,U32,W32,Y32,AA32,AC32,AE32)-SUM(D32)=0,"","K") | L32: =IF(ISBLANK(K32),"",SUM(K32*$E32)) | N32: =IF(ISBLANK(M32),"",SUM(M32*$E32)) | P32: =IF(ISBLANK(O32),"",SUM(O32*$E32)) | R32: =IF(ISBLANK(Q32),"",SUM(Q32*$E32)) | T32: =IF(ISBLANK(S32),"",SUM(S32*$E32)) | V32: =IF(ISBLANK(U32),"",SUM(U32*$E32)) | X32: =IF(ISBLANK(W32),"",SUM(W32*$E32)) | Z32: =IF(ISBLANK(Y32),"",SUM(Y32*$E32)) | AB32: =IF(ISBLANK(AA32),"",SUM(AA32*$E32)) | AD32: =IF(ISBLANK(AC32),"",SUM(AC32*$E32)) | AF32: =IF(ISBLANK(AE32),"",SUM(AE32*$E32)) | AH32: =IF(IF(ISBLANK($AA32),0,SUM($AB32*$BB$21))+IF(ISBLANK($AC32),0,SUM($AD32*$BC$21))+IF(ISBLANK($AE32),0,SUM($AF32*$BD$21))=0,"",IF(ISBLANK($AA32),0,SUM($AB32*$BB$21))+IF(ISBLANK($AC32),0,SUM($AD32*$BC$21))+IF(ISBLANK($AE32),0,SUM($AF32*$BD$21))) | AI32: =IF(IF(ISBLANK($AA32),0,SUM($AB32*$BB$22))+IF(ISBLANK($AC32),0,SUM($AD32*$BC$22))+IF(ISBLANK($AE32),0,SUM($AF32*$BD$22))=0,"",IF(ISBLANK($AA32),0,SUM($AB32*$BB$22))+IF(ISBLANK($AC32),0,SUM($AD32*$BC$22))+IF(ISBLANK($AE32),0,SUM($AF32*$BD$22))) | AJ32: =IF(IF(ISBLANK($AA32),0,SUM($AB32*$BB$23))+IF(ISBLANK($AC32),0,SUM($AD32*$BC$23))+IF(ISBLANK($AE32),0,SUM($AF32*$BD$23))=0,"",IF(ISBLANK($AA32),0,SUM($AB32*$BB$23))+IF(ISBLANK($AC32),0,SUM($AD32*$BC$23))+IF(ISBLANK($AE32),0,SUM($AF32*$BD$23))) | AK32: =IF(IF(ISBLANK($AA32),0,SUM($AB32*$BB$24))+IF(ISBLANK($AC32),0,SUM($AD32*$BC$24))+IF(ISBLANK($AE32),0,SUM($AF32*$BD$24))=0,"",IF(ISBLANK($AA32),0,SUM($AB32*$BB$24))+IF(ISBLANK($AC32),0,SUM($AD32*$BC$24))+IF(ISBLANK($AE32),0,SUM($AF32*$BD$24))) | AL32: =IF(IF(ISBLANK($AA32),0,SUM($AB32*$BB$25))+IF(ISBLANK($AC32),0,SUM($AD32*$BC$25))+IF(ISBLANK($AE32),0,SUM($AF32*$BD$25))=0,"",IF(ISBLANK($AA32),0,SUM($AB32*$BB$25))+IF(ISBLANK($AC32),0,SUM($AD32*$BC$25))+IF(ISBLANK($AE32),0,SUM($AF32*$BD$25))) | AM32: =IF(IF(ISBLANK($AA32),0,SUM($AB32*$BB$26))+IF(ISBLANK($AC32),0,SUM($AD32*$BC$26))+IF(ISBLANK($AE32),0,SUM($AF32*$BD$26))=0,"",IF(ISBLANK($AA32),0,SUM($AB32*$BB$26))+IF(ISBLANK($AC32),0,SUM($AD32*$BC$26))+IF(ISBLANK($AE32),0,SUM($AF32*$BD$26))) | AN32: =IF(IF(ISBLANK($AA32),0,SUM($AB32*$BB$27))+IF(ISBLANK($AC32),0,SUM($AD32*$BC$27))+IF(ISBLANK($AE32),0,SUM($AF32*$BD$27))=0,"",IF(ISBLANK($AA32),0,SUM($AB32*$BB$27))+IF(ISBLANK($AC32),0,SUM($AD32*$BC$27))+IF(ISBLANK($AE32),0,SUM($AF32*$BD$27))) | AO32: =IF(IF(ISBLANK($AA32),0,SUM($AB32*$BB$28))+IF(ISBLANK($AC32),0,SUM($AD32*$BC$28))+IF(ISBLANK($AE32),0,SUM($AF32*$BD$28))=0,"",IF(ISBLANK($AA32),0,SUM($AB32*$BB$28))+IF(ISBLANK($AC32),0,SUM($AD32*$BC$28))+IF(ISBLANK($AE32),0,SUM($AF32*$BD$28))) | AP32: =IF(SUM(AB32,AD32,AF32)=SUM(AH32:AO32),"","K") | AQ32: =IF(SUM(L32,AH32)=0,"",SUM(L32,AH32)) | AR32: =IF(SUM(N32,AI32)=0,"",SUM(N32,AI32)) | AS32: =IF(SUM(P32,AJ32)=0,"",SUM(P32,AJ32)) | AT32: =IF(SUM(R32,AK32)=0,"",SUM(R32,AK32)) | AU32: =IF(SUM(T32,AL32)=0,"",SUM(T32,AL32)) | AV32: =IF(SUM(V32,AM32)=0,"",SUM(V32,AM32)) | AW32: =IF(SUM(X32,AN32)=0,"",SUM(X32,AN32)) | AX32: =IF(SUM(Z32,AO32)=0,"",SUM(Z32,AO32)) | AY32: =SUM(AQ32:AX32)-SUM(F32) -> 0
D33: =IF(SUM(K33,M33,O33,Q33,S33,U33,W33,Y33,AA33,AC33,AE33)=0,"",SUM(K33,M33,O33,Q33,S33,U33,W33,Y33,AA33,AC33,AE33)) | F33: =IF(OR(SUM(D33)=0,SUM(E33)=0),"",SUM(D33*E33)) | J33: =IF(SUM(K33,M33,O33,Q33,S33,U33,W33,Y33,AA33,AC33,AE33)-SUM(D33)=0,"","K") | L33: =IF(ISBLANK(K33),"",SUM(K33*$E33)) | N33: =IF(ISBLANK(M33),"",SUM(M33*$E33)) | P33: =IF(ISBLANK(O33),"",SUM(O33*$E33)) | R33: =IF(ISBLANK(Q33),"",SUM(Q33*$E33)) | T33: =IF(ISBLANK(S33),"",SUM(S33*$E33)) | V33: =IF(ISBLANK(U33),"",SUM(U33*$E33)) | X33: =IF(ISBLANK(W33),"",SUM(W33*$E33)) | Z33: =IF(ISBLANK(Y33),"",SUM(Y33*$E33)) | AB33: =IF(ISBLANK(AA33),"",SUM(AA33*$E33)) | AD33: =IF(ISBLANK(AC33),"",SUM(AC33*$E33)) | AF33: =IF(ISBLANK(AE33),"",SUM(AE33*$E33)) | AH33: =IF(IF(ISBLANK($AA33),0,SUM($AB33*$BB$21))+IF(ISBLANK($AC33),0,SUM($AD33*$BC$21))+IF(ISBLANK($AE33),0,SUM($AF33*$BD$21))=0,"",IF(ISBLANK($AA33),0,SUM($AB33*$BB$21))+IF(ISBLANK($AC33),0,SUM($AD33*$BC$21))+IF(ISBLANK($AE33),0,SUM($AF33*$BD$21))) | AI33: =IF(IF(ISBLANK($AA33),0,SUM($AB33*$BB$22))+IF(ISBLANK($AC33),0,SUM($AD33*$BC$22))+IF(ISBLANK($AE33),0,SUM($AF33*$BD$22))=0,"",IF(ISBLANK($AA33),0,SUM($AB33*$BB$22))+IF(ISBLANK($AC33),0,SUM($AD33*$BC$22))+IF(ISBLANK($AE33),0,SUM($AF33*$BD$22))) | AJ33: =IF(IF(ISBLANK($AA33),0,SUM($AB33*$BB$23))+IF(ISBLANK($AC33),0,SUM($AD33*$BC$23))+IF(ISBLANK($AE33),0,SUM($AF33*$BD$23))=0,"",IF(ISBLANK($AA33),0,SUM($AB33*$BB$23))+IF(ISBLANK($AC33),0,SUM($AD33*$BC$23))+IF(ISBLANK($AE33),0,SUM($AF33*$BD$23))) | AK33: =IF(IF(ISBLANK($AA33),0,SUM($AB33*$BB$24))+IF(ISBLANK($AC33),0,SUM($AD33*$BC$24))+IF(ISBLANK($AE33),0,SUM($AF33*$BD$24))=0,"",IF(ISBLANK($AA33),0,SUM($AB33*$BB$24))+IF(ISBLANK($AC33),0,SUM($AD33*$BC$24))+IF(ISBLANK($AE33),0,SUM($AF33*$BD$24))) | AL33: =IF(IF(ISBLANK($AA33),0,SUM($AB33*$BB$25))+IF(ISBLANK($AC33),0,SUM($AD33*$BC$25))+IF(ISBLANK($AE33),0,SUM($AF33*$BD$25))=0,"",IF(ISBLANK($AA33),0,SUM($AB33*$BB$25))+IF(ISBLANK($AC33),0,SUM($AD33*$BC$25))+IF(ISBLANK($AE33),0,SUM($AF33*$BD$25))) | AM33: =IF(IF(ISBLANK($AA33),0,SUM($AB33*$BB$26))+IF(ISBLANK($AC33),0,SUM($AD33*$BC$26))+IF(ISBLANK($AE33),0,SUM($AF33*$BD$26))=0,"",IF(ISBLANK($AA33),0,SUM($AB33*$BB$26))+IF(ISBLANK($AC33),0,SUM($AD33*$BC$26))+IF(ISBLANK($AE33),0,SUM($AF33*$BD$26))) | AN33: =IF(IF(ISBLANK($AA33),0,SUM($AB33*$BB$27))+IF(ISBLANK($AC33),0,SUM($AD33*$BC$27))+IF(ISBLANK($AE33),0,SUM($AF33*$BD$27))=0,"",IF(ISBLANK($AA33),0,SUM($AB33*$BB$27))+IF(ISBLANK($AC33),0,SUM($AD33*$BC$27))+IF(ISBLANK($AE33),0,SUM($AF33*$BD$27))) | AO33: =IF(IF(ISBLANK($AA33),0,SUM($AB33*$BB$28))+IF(ISBLANK($AC33),0,SUM($AD33*$BC$28))+IF(ISBLANK($AE33),0,SUM($AF33*$BD$28))=0,"",IF(ISBLANK($AA33),0,SUM($AB33*$BB$28))+IF(ISBLANK($AC33),0,SUM($AD33*$BC$28))+IF(ISBLANK($AE33),0,SUM($AF33*$BD$28))) | AP33: =IF(SUM(AB33,AD33,AF33)=SUM(AH33:AO33),"","K") | AQ33: =IF(SUM(L33,AH33)=0,"",SUM(L33,AH33)) | AR33: =IF(SUM(N33,AI33)=0,"",SUM(N33,AI33)) | AS33: =IF(SUM(P33,AJ33)=0,"",SUM(P33,AJ33)) | AT33: =IF(SUM(R33,AK33)=0,"",SUM(R33,AK33)) | AU33: =IF(SUM(T33,AL33)=0,"",SUM(T33,AL33)) | AV33: =IF(SUM(V33,AM33)=0,"",SUM(V33,AM33)) | AW33: =IF(SUM(X33,AN33)=0,"",SUM(X33,AN33)) | AX33: =IF(SUM(Z33,AO33)=0,"",SUM(Z33,AO33)) | AY33: =SUM(AQ33:AX33)-SUM(F33) -> 0
D34: =IF(SUM(K34,M34,O34,Q34,S34,U34,W34,Y34,AA34,AC34,AE34)=0,"",SUM(K34,M34,O34,Q34,S34,U34,W34,Y34,AA34,AC34,AE34)) | F34: =IF(OR(SUM(D34)=0,SUM(E34)=0),"",SUM(D34*E34)) | J34: =IF(SUM(K34,M34,O34,Q34,S34,U34,W34,Y34,AA34,AC34,AE34)-SUM(D34)=0,"","K") | L34: =IF(ISBLANK(K34),"",SUM(K34*$E34)) | N34: =IF(ISBLANK(M34),"",SUM(M34*$E34)) | P34: =IF(ISBLANK(O34),"",SUM(O34*$E34)) | R34: =IF(ISBLANK(Q34),"",SUM(Q34*$E34)) | T34: =IF(ISBLANK(S34),"",SUM(S34*$E34)) | V34: =IF(ISBLANK(U34),"",SUM(U34*$E34)) | X34: =IF(ISBLANK(W34),"",SUM(W34*$E34)) | Z34: =IF(ISBLANK(Y34),"",SUM(Y34*$E34)) | AB34: =IF(ISBLANK(AA34),"",SUM(AA34*$E34)) | AD34: =IF(ISBLANK(AC34),"",SUM(AC34*$E34)) | AF34: =IF(ISBLANK(AE34),"",SUM(AE34*$E34)) | AH34: =IF(IF(ISBLANK($AA34),0,SUM($AB34*$BB$21))+IF(ISBLANK($AC34),0,SUM($AD34*$BC$21))+IF(ISBLANK($AE34),0,SUM($AF34*$BD$21))=0,"",IF(ISBLANK($AA34),0,SUM($AB34*$BB$21))+IF(ISBLANK($AC34),0,SUM($AD34*$BC$21))+IF(ISBLANK($AE34),0,SUM($AF34*$BD$21))) | AI34: =IF(IF(ISBLANK($AA34),0,SUM($AB34*$BB$22))+IF(ISBLANK($AC34),0,SUM($AD34*$BC$22))+IF(ISBLANK($AE34),0,SUM($AF34*$BD$22))=0,"",IF(ISBLANK($AA34),0,SUM($AB34*$BB$22))+IF(ISBLANK($AC34),0,SUM($AD34*$BC$22))+IF(ISBLANK($AE34),0,SUM($AF34*$BD$22))) | AJ34: =IF(IF(ISBLANK($AA34),0,SUM($AB34*$BB$23))+IF(ISBLANK($AC34),0,SUM($AD34*$BC$23))+IF(ISBLANK($AE34),0,SUM($AF34*$BD$23))=0,"",IF(ISBLANK($AA34),0,SUM($AB34*$BB$23))+IF(ISBLANK($AC34),0,SUM($AD34*$BC$23))+IF(ISBLANK($AE34),0,SUM($AF34*$BD$23))) | AK34: =IF(IF(ISBLANK($AA34),0,SUM($AB34*$BB$24))+IF(ISBLANK($AC34),0,SUM($AD34*$BC$24))+IF(ISBLANK($AE34),0,SUM($AF34*$BD$24))=0,"",IF(ISBLANK($AA34),0,SUM($AB34*$BB$24))+IF(ISBLANK($AC34),0,SUM($AD34*$BC$24))+IF(ISBLANK($AE34),0,SUM($AF34*$BD$24))) | AL34: =IF(IF(ISBLANK($AA34),0,SUM($AB34*$BB$25))+IF(ISBLANK($AC34),0,SUM($AD34*$BC$25))+IF(ISBLANK($AE34),0,SUM($AF34*$BD$25))=0,"",IF(ISBLANK($AA34),0,SUM($AB34*$BB$25))+IF(ISBLANK($AC34),0,SUM($AD34*$BC$25))+IF(ISBLANK($AE34),0,SUM($AF34*$BD$25))) | AM34: =IF(IF(ISBLANK($AA34),0,SUM($AB34*$BB$26))+IF(ISBLANK($AC34),0,SUM($AD34*$BC$26))+IF(ISBLANK($AE34),0,SUM($AF34*$BD$26))=0,"",IF(ISBLANK($AA34),0,SUM($AB34*$BB$26))+IF(ISBLANK($AC34),0,SUM($AD34*$BC$26))+IF(ISBLANK($AE34),0,SUM($AF34*$BD$26))) | AN34: =IF(IF(ISBLANK($AA34),0,SUM($AB34*$BB$27))+IF(ISBLANK($AC34),0,SUM($AD34*$BC$27))+IF(ISBLANK($AE34),0,SUM($AF34*$BD$27))=0,"",IF(ISBLANK($AA34),0,SUM($AB34*$BB$27))+IF(ISBLANK($AC34),0,SUM($AD34*$BC$27))+IF(ISBLANK($AE34),0,SUM($AF34*$BD$27))) | AO34: =IF(IF(ISBLANK($AA34),0,SUM($AB34*$BB$28))+IF(ISBLANK($AC34),0,SUM($AD34*$BC$28))+IF(ISBLANK($AE34),0,SUM($AF34*$BD$28))=0,"",IF(ISBLANK($AA34),0,SUM($AB34*$BB$28))+IF(ISBLANK($AC34),0,SUM($AD34*$BC$28))+IF(ISBLANK($AE34),0,SUM($AF34*$BD$28))) | AP34: =IF(SUM(AB34,AD34,AF34)=SUM(AH34:AO34),"","K") | AQ34: =IF(SUM(L34,AH34)=0,"",SUM(L34,AH34)) | AR34: =IF(SUM(N34,AI34)=0,"",SUM(N34,AI34)) | AS34: =IF(SUM(P34,AJ34)=0,"",SUM(P34,AJ34)) | AT34: =IF(SUM(R34,AK34)=0,"",SUM(R34,AK34)) | AU34: =IF(SUM(T34,AL34)=0,"",SUM(T34,AL34)) | AV34: =IF(SUM(V34,AM34)=0,"",SUM(V34,AM34)) | AW34: =IF(SUM(X34,AN34)=0,"",SUM(X34,AN34)) | AX34: =IF(SUM(Z34,AO34)=0,"",SUM(Z34,AO34)) | AY34: =SUM(AQ34:AX34)-SUM(F34) -> 0
D35: =IF(SUM(K35,M35,O35,Q35,S35,U35,W35,Y35,AA35,AC35,AE35)=0,"",SUM(K35,M35,O35,Q35,S35,U35,W35,Y35,AA35,AC35,AE35)) | F35: =IF(OR(SUM(D35)=0,SUM(E35)=0),"",SUM(D35*E35)) | J35: =IF(SUM(K35,M35,O35,Q35,S35,U35,W35,Y35,AA35,AC35,AE35)-SUM(D35)=0,"","K") | L35: =IF(ISBLANK(K35),"",SUM(K35*$E35)) | N35: =IF(ISBLANK(M35),"",SUM(M35*$E35)) | P35: =IF(ISBLANK(O35),"",SUM(O35*$E35)) | R35: =IF(ISBLANK(Q35),"",SUM(Q35*$E35)) | T35: =IF(ISBLANK(S35),"",SUM(S35*$E35)) | V35: =IF(ISBLANK(U35),"",SUM(U35*$E35)) | X35: =IF(ISBLANK(W35),"",SUM(W35*$E35)) | Z35: =IF(ISBLANK(Y35),"",SUM(Y35*$E35)) | AB35: =IF(ISBLANK(AA35),"",SUM(AA35*$E35)) | AD35: =IF(ISBLANK(AC35),"",SUM(AC35*$E35)) | AF35: =IF(ISBLANK(AE35),"",SUM(AE35*$E35)) | AH35: =IF(IF(ISBLANK($AA35),0,SUM($AB35*$BB$21))+IF(ISBLANK($AC35),0,SUM($AD35*$BC$21))+IF(ISBLANK($AE35),0,SUM($AF35*$BD$21))=0,"",IF(ISBLANK($AA35),0,SUM($AB35*$BB$21))+IF(ISBLANK($AC35),0,SUM($AD35*$BC$21))+IF(ISBLANK($AE35),0,SUM($AF35*$BD$21))) | AI35: =IF(IF(ISBLANK($AA35),0,SUM($AB35*$BB$22))+IF(ISBLANK($AC35),0,SUM($AD35*$BC$22))+IF(ISBLANK($AE35),0,SUM($AF35*$BD$22))=0,"",IF(ISBLANK($AA35),0,SUM($AB35*$BB$22))+IF(ISBLANK($AC35),0,SUM($AD35*$BC$22))+IF(ISBLANK($AE35),0,SUM($AF35*$BD$22))) | AJ35: =IF(IF(ISBLANK($AA35),0,SUM($AB35*$BB$23))+IF(ISBLANK($AC35),0,SUM($AD35*$BC$23))+IF(ISBLANK($AE35),0,SUM($AF35*$BD$23))=0,"",IF(ISBLANK($AA35),0,SUM($AB35*$BB$23))+IF(ISBLANK($AC35),0,SUM($AD35*$BC$23))+IF(ISBLANK($AE35),0,SUM($AF35*$BD$23))) | AK35: =IF(IF(ISBLANK($AA35),0,SUM($AB35*$BB$24))+IF(ISBLANK($AC35),0,SUM($AD35*$BC$24))+IF(ISBLANK($AE35),0,SUM($AF35*$BD$24))=0,"",IF(ISBLANK($AA35),0,SUM($AB35*$BB$24))+IF(ISBLANK($AC35),0,SUM($AD35*$BC$24))+IF(ISBLANK($AE35),0,SUM($AF35*$BD$24))) | AL35: =IF(IF(ISBLANK($AA35),0,SUM($AB35*$BB$25))+IF(ISBLANK($AC35),0,SUM($AD35*$BC$25))+IF(ISBLANK($AE35),0,SUM($AF35*$BD$25))=0,"",IF(ISBLANK($AA35),0,SUM($AB35*$BB$25))+IF(ISBLANK($AC35),0,SUM($AD35*$BC$25))+IF(ISBLANK($AE35),0,SUM($AF35*$BD$25))) | AM35: =IF(IF(ISBLANK($AA35),0,SUM($AB35*$BB$26))+IF(ISBLANK($AC35),0,SUM($AD35*$BC$26))+IF(ISBLANK($AE35),0,SUM($AF35*$BD$26))=0,"",IF(ISBLANK($AA35),0,SUM($AB35*$BB$26))+IF(ISBLANK($AC35),0,SUM($AD35*$BC$26))+IF(ISBLANK($AE35),0,SUM($AF35*$BD$26))) | AN35: =IF(IF(ISBLANK($AA35),0,SUM($AB35*$BB$27))+IF(ISBLANK($AC35),0,SUM($AD35*$BC$27))+IF(ISBLANK($AE35),0,SUM($AF35*$BD$27))=0,"",IF(ISBLANK($AA35),0,SUM($AB35*$BB$27))+IF(ISBLANK($AC35),0,SUM($AD35*$BC$27))+IF(ISBLANK($AE35),0,SUM($AF35*$BD$27))) | AO35: =IF(IF(ISBLANK($AA35),0,SUM($AB35*$BB$28))+IF(ISBLANK($AC35),0,SUM($AD35*$BC$28))+IF(ISBLANK($AE35),0,SUM($AF35*$BD$28))=0,"",IF(ISBLANK($AA35),0,SUM($AB35*$BB$28))+IF(ISBLANK($AC35),0,SUM($AD35*$BC$28))+IF(ISBLANK($AE35),0,SUM($AF35*$BD$28))) | AP35: =IF(SUM(AB35,AD35,AF35)=SUM(AH35:AO35),"","K") | AQ35: =IF(SUM(L35,AH35)=0,"",SUM(L35,AH35)) | AR35: =IF(SUM(N35,AI35)=0,"",SUM(N35,AI35)) | AS35: =IF(SUM(P35,AJ35)=0,"",SUM(P35,AJ35)) | AT35: =IF(SUM(R35,AK35)=0,"",SUM(R35,AK35)) | AU35: =IF(SUM(T35,AL35)=0,"",SUM(T35,AL35)) | AV35: =IF(SUM(V35,AM35)=0,"",SUM(V35,AM35)) | AW35: =IF(SUM(X35,AN35)=0,"",SUM(X35,AN35)) | AX35: =IF(SUM(Z35,AO35)=0,"",SUM(Z35,AO35)) | AY35: =SUM(AQ35:AX35)-SUM(F35) -> 0
D36: =IF(SUM(K36,M36,O36,Q36,S36,U36,W36,Y36,AA36,AC36,AE36)=0,"",SUM(K36,M36,O36,Q36,S36,U36,W36,Y36,AA36,AC36,AE36)) | F36: =IF(OR(SUM(D36)=0,SUM(E36)=0),"",SUM(D36*E36)) | J36: =IF(SUM(K36,M36,O36,Q36,S36,U36,W36,Y36,AA36,AC36,AE36)-SUM(D36)=0,"","K") | L36: =IF(ISBLANK(K36),"",SUM(K36*$E36)) | N36: =IF(ISBLANK(M36),"",SUM(M36*$E36)) | P36: =IF(ISBLANK(O36),"",SUM(O36*$E36)) | R36: =IF(ISBLANK(Q36),"",SUM(Q36*$E36)) | T36: =IF(ISBLANK(S36),"",SUM(S36*$E36)) | V36: =IF(ISBLANK(U36),"",SUM(U36*$E36)) | X36: =IF(ISBLANK(W36),"",SUM(W36*$E36)) | Z36: =IF(ISBLANK(Y36),"",SUM(Y36*$E36)) | AB36: =IF(ISBLANK(AA36),"",SUM(AA36*$E36)) | AD36: =IF(ISBLANK(AC36),"",SUM(AC36*$E36)) | AF36: =IF(ISBLANK(AE36),"",SUM(AE36*$E36)) | AH36: =IF(IF(ISBLANK($AA36),0,SUM($AB36*$BB$21))+IF(ISBLANK($AC36),0,SUM($AD36*$BC$21))+IF(ISBLANK($AE36),0,SUM($AF36*$BD$21))=0,"",IF(ISBLANK($AA36),0,SUM($AB36*$BB$21))+IF(ISBLANK($AC36),0,SUM($AD36*$BC$21))+IF(ISBLANK($AE36),0,SUM($AF36*$BD$21))) | AI36: =IF(IF(ISBLANK($AA36),0,SUM($AB36*$BB$22))+IF(ISBLANK($AC36),0,SUM($AD36*$BC$22))+IF(ISBLANK($AE36),0,SUM($AF36*$BD$22))=0,"",IF(ISBLANK($AA36),0,SUM($AB36*$BB$22))+IF(ISBLANK($AC36),0,SUM($AD36*$BC$22))+IF(ISBLANK($AE36),0,SUM($AF36*$BD$22))) | AJ36: =IF(IF(ISBLANK($AA36),0,SUM($AB36*$BB$23))+IF(ISBLANK($AC36),0,SUM($AD36*$BC$23))+IF(ISBLANK($AE36),0,SUM($AF36*$BD$23))=0,"",IF(ISBLANK($AA36),0,SUM($AB36*$BB$23))+IF(ISBLANK($AC36),0,SUM($AD36*$BC$23))+IF(ISBLANK($AE36),0,SUM($AF36*$BD$23))) | AK36: =IF(IF(ISBLANK($AA36),0,SUM($AB36*$BB$24))+IF(ISBLANK($AC36),0,SUM($AD36*$BC$24))+IF(ISBLANK($AE36),0,SUM($AF36*$BD$24))=0,"",IF(ISBLANK($AA36),0,SUM($AB36*$BB$24))+IF(ISBLANK($AC36),0,SUM($AD36*$BC$24))+IF(ISBLANK($AE36),0,SUM($AF36*$BD$24))) | AL36: =IF(IF(ISBLANK($AA36),0,SUM($AB36*$BB$25))+IF(ISBLANK($AC36),0,SUM($AD36*$BC$25))+IF(ISBLANK($AE36),0,SUM($AF36*$BD$25))=0,"",IF(ISBLANK($AA36),0,SUM($AB36*$BB$25))+IF(ISBLANK($AC36),0,SUM($AD36*$BC$25))+IF(ISBLANK($AE36),0,SUM($AF36*$BD$25))) | AM36: =IF(IF(ISBLANK($AA36),0,SUM($AB36*$BB$26))+IF(ISBLANK($AC36),0,SUM($AD36*$BC$26))+IF(ISBLANK($AE36),0,SUM($AF36*$BD$26))=0,"",IF(ISBLANK($AA36),0,SUM($AB36*$BB$26))+IF(ISBLANK($AC36),0,SUM($AD36*$BC$26))+IF(ISBLANK($AE36),0,SUM($AF36*$BD$26))) | AN36: =IF(IF(ISBLANK($AA36),0,SUM($AB36*$BB$27))+IF(ISBLANK($AC36),0,SUM($AD36*$BC$27))+IF(ISBLANK($AE36),0,SUM($AF36*$BD$27))=0,"",IF(ISBLANK($AA36),0,SUM($AB36*$BB$27))+IF(ISBLANK($AC36),0,SUM($AD36*$BC$27))+IF(ISBLANK($AE36),0,SUM($AF36*$BD$27))) | AO36: =IF(IF(ISBLANK($AA36),0,SUM($AB36*$BB$28))+IF(ISBLANK($AC36),0,SUM($AD36*$BC$28))+IF(ISBLANK($AE36),0,SUM($AF36*$BD$28))=0,"",IF(ISBLANK($AA36),0,SUM($AB36*$BB$28))+IF(ISBLANK($AC36),0,SUM($AD36*$BC$28))+IF(ISBLANK($AE36),0,SUM($AF36*$BD$28))) | AP36: =IF(SUM(AB36,AD36,AF36)=SUM(AH36:AO36),"","K") | AQ36: =IF(SUM(L36,AH36)=0,"",SUM(L36,AH36)) | AR36: =IF(SUM(N36,AI36)=0,"",SUM(N36,AI36)) | AS36: =IF(SUM(P36,AJ36)=0,"",SUM(P36,AJ36)) | AT36: =IF(SUM(R36,AK36)=0,"",SUM(R36,AK36)) | AU36: =IF(SUM(T36,AL36)=0,"",SUM(T36,AL36)) | AV36: =IF(SUM(V36,AM36)=0,"",SUM(V36,AM36)) | AW36: =IF(SUM(X36,AN36)=0,"",SUM(X36,AN36)) | AX36: =IF(SUM(Z36,AO36)=0,"",SUM(Z36,AO36)) | AY36: =SUM(AQ36:AX36)-SUM(F36) -> 0
D37: =IF(SUM(K37,M37,O37,Q37,S37,U37,W37,Y37,AA37,AC37,AE37)=0,"",SUM(K37,M37,O37,Q37,S37,U37,W37,Y37,AA37,AC37,AE37)) | F37: =IF(OR(SUM(D37)=0,SUM(E37)=0),"",SUM(D37*E37)) | J37: =IF(SUM(K37,M37,O37,Q37,S37,U37,W37,Y37,AA37,AC37,AE37)-SUM(D37)=0,"","K") | L37: =IF(ISBLANK(K37),"",SUM(K37*$E37)) | N37: =IF(ISBLANK(M37),"",SUM(M37*$E37)) | P37: =IF(ISBLANK(O37),"",SUM(O37*$E37)) | R37: =IF(ISBLANK(Q37),"",SUM(Q37*$E37)) | T37: =IF(ISBLANK(S37),"",SUM(S37*$E37)) | V37: =IF(ISBLANK(U37),"",SUM(U37*$E37)) | X37: =IF(ISBLANK(W37),"",SUM(W37*$E37)) | Z37: =IF(ISBLANK(Y37),"",SUM(Y37*$E37)) | AB37: =IF(ISBLANK(AA37),"",SUM(AA37*$E37)) | AD37: =IF(ISBLANK(AC37),"",SUM(AC37*$E37)) | AF37: =IF(ISBLANK(AE37),"",SUM(AE37*$E37)) | AH37: =IF(IF(ISBLANK($AA37),0,SUM($AB37*$BB$21))+IF(ISBLANK($AC37),0,SUM($AD37*$BC$21))+IF(ISBLANK($AE37),0,SUM($AF37*$BD$21))=0,"",IF(ISBLANK($AA37),0,SUM($AB37*$BB$21))+IF(ISBLANK($AC37),0,SUM($AD37*$BC$21))+IF(ISBLANK($AE37),0,SUM($AF37*$BD$21))) | AI37: =IF(IF(ISBLANK($AA37),0,SUM($AB37*$BB$22))+IF(ISBLANK($AC37),0,SUM($AD37*$BC$22))+IF(ISBLANK($AE37),0,SUM($AF37*$BD$22))=0,"",IF(ISBLANK($AA37),0,SUM($AB37*$BB$22))+IF(ISBLANK($AC37),0,SUM($AD37*$BC$22))+IF(ISBLANK($AE37),0,SUM($AF37*$BD$22))) | AJ37: =IF(IF(ISBLANK($AA37),0,SUM($AB37*$BB$23))+IF(ISBLANK($AC37),0,SUM($AD37*$BC$23))+IF(ISBLANK($AE37),0,SUM($AF37*$BD$23))=0,"",IF(ISBLANK($AA37),0,SUM($AB37*$BB$23))+IF(ISBLANK($AC37),0,SUM($AD37*$BC$23))+IF(ISBLANK($AE37),0,SUM($AF37*$BD$23))) | AK37: =IF(IF(ISBLANK($AA37),0,SUM($AB37*$BB$24))+IF(ISBLANK($AC37),0,SUM($AD37*$BC$24))+IF(ISBLANK($AE37),0,SUM($AF37*$BD$24))=0,"",IF(ISBLANK($AA37),0,SUM($AB37*$BB$24))+IF(ISBLANK($AC37),0,SUM($AD37*$BC$24))+IF(ISBLANK($AE37),0,SUM($AF37*$BD$24))) | AL37: =IF(IF(ISBLANK($AA37),0,SUM($AB37*$BB$25))+IF(ISBLANK($AC37),0,SUM($AD37*$BC$25))+IF(ISBLANK($AE37),0,SUM($AF37*$BD$25))=0,"",IF(ISBLANK($AA37),0,SUM($AB37*$BB$25))+IF(ISBLANK($AC37),0,SUM($AD37*$BC$25))+IF(ISBLANK($AE37),0,SUM($AF37*$BD$25))) | AM37: =IF(IF(ISBLANK($AA37),0,SUM($AB37*$BB$26))+IF(ISBLANK($AC37),0,SUM($AD37*$BC$26))+IF(ISBLANK($AE37),0,SUM($AF37*$BD$26))=0,"",IF(ISBLANK($AA37),0,SUM($AB37*$BB$26))+IF(ISBLANK($AC37),0,SUM($AD37*$BC$26))+IF(ISBLANK($AE37),0,SUM($AF37*$BD$26))) | AN37: =IF(IF(ISBLANK($AA37),0,SUM($AB37*$BB$27))+IF(ISBLANK($AC37),0,SUM($AD37*$BC$27))+IF(ISBLANK($AE37),0,SUM($AF37*$BD$27))=0,"",IF(ISBLANK($AA37),0,SUM($AB37*$BB$27))+IF(ISBLANK($AC37),0,SUM($AD37*$BC$27))+IF(ISBLANK($AE37),0,SUM($AF37*$BD$27))) | AO37: =IF(IF(ISBLANK($AA37),0,SUM($AB37*$BB$28))+IF(ISBLANK($AC37),0,SUM($AD37*$BC$28))+IF(ISBLANK($AE37),0,SUM($AF37*$BD$28))=0,"",IF(ISBLANK($AA37),0,SUM($AB37*$BB$28))+IF(ISBLANK($AC37),0,SUM($AD37*$BC$28))+IF(ISBLANK($AE37),0,SUM($AF37*$BD$28))) | AP37: =IF(SUM(AB37,AD37,AF37)=SUM(AH37:AO37),"","K") | AQ37: =IF(SUM(L37,AH37)=0,"",SUM(L37,AH37)) | AR37: =IF(SUM(N37,AI37)=0,"",SUM(N37,AI37)) | AS37: =IF(SUM(P37,AJ37)=0,"",SUM(P37,AJ37)) | AT37: =IF(SUM(R37,AK37)=0,"",SUM(R37,AK37)) | AU37: =IF(SUM(T37,AL37)=0,"",SUM(T37,AL37)) | AV37: =IF(SUM(V37,AM37)=0,"",SUM(V37,AM37)) | AW37: =IF(SUM(X37,AN37)=0,"",SUM(X37,AN37)) | AX37: =IF(SUM(Z37,AO37)=0,"",SUM(Z37,AO37)) | AY37: =SUM(AQ37:AX37)-SUM(F37) -> 0
D38: =IF(SUM(K38,M38,O38,Q38,S38,U38,W38,Y38,AA38,AC38,AE38)=0,"",SUM(K38,M38,O38,Q38,S38,U38,W38,Y38,AA38,AC38,AE38)) | F38: =IF(OR(SUM(D38)=0,SUM(E38)=0),"",SUM(D38*E38)) | J38: =IF(SUM(K38,M38,O38,Q38,S38,U38,W38,Y38,AA38,AC38,AE38)-SUM(D38)=0,"","K") | L38: =IF(ISBLANK(K38),"",SUM(K38*$E38)) | N38: =IF(ISBLANK(M38),"",SUM(M38*$E38)) | P38: =IF(ISBLANK(O38),"",SUM(O38*$E38)) | R38: =IF(ISBLANK(Q38),"",SUM(Q38*$E38)) | T38: =IF(ISBLANK(S38),"",SUM(S38*$E38)) | V38: =IF(ISBLANK(U38),"",SUM(U38*$E38)) | X38: =IF(ISBLANK(W38),"",SUM(W38*$E38)) | Z38: =IF(ISBLANK(Y38),"",SUM(Y38*$E38)) | AB38: =IF(ISBLANK(AA38),"",SUM(AA38*$E38)) | AD38: =IF(ISBLANK(AC38),"",SUM(AC38*$E38)) | AF38: =IF(ISBLANK(AE38),"",SUM(AE38*$E38)) | AH38: =IF(IF(ISBLANK($AA38),0,SUM($AB38*$BB$21))+IF(ISBLANK($AC38),0,SUM($AD38*$BC$21))+IF(ISBLANK($AE38),0,SUM($AF38*$BD$21))=0,"",IF(ISBLANK($AA38),0,SUM($AB38*$BB$21))+IF(ISBLANK($AC38),0,SUM($AD38*$BC$21))+IF(ISBLANK($AE38),0,SUM($AF38*$BD$21))) | AI38: =IF(IF(ISBLANK($AA38),0,SUM($AB38*$BB$22))+IF(ISBLANK($AC38),0,SUM($AD38*$BC$22))+IF(ISBLANK($AE38),0,SUM($AF38*$BD$22))=0,"",IF(ISBLANK($AA38),0,SUM($AB38*$BB$22))+IF(ISBLANK($AC38),0,SUM($AD38*$BC$22))+IF(ISBLANK($AE38),0,SUM($AF38*$BD$22))) | AJ38: =IF(IF(ISBLANK($AA38),0,SUM($AB38*$BB$23))+IF(ISBLANK($AC38),0,SUM($AD38*$BC$23))+IF(ISBLANK($AE38),0,SUM($AF38*$BD$23))=0,"",IF(ISBLANK($AA38),0,SUM($AB38*$BB$23))+IF(ISBLANK($AC38),0,SUM($AD38*$BC$23))+IF(ISBLANK($AE38),0,SUM($AF38*$BD$23))) | AK38: =IF(IF(ISBLANK($AA38),0,SUM($AB38*$BB$24))+IF(ISBLANK($AC38),0,SUM($AD38*$BC$24))+IF(ISBLANK($AE38),0,SUM($AF38*$BD$24))=0,"",IF(ISBLANK($AA38),0,SUM($AB38*$BB$24))+IF(ISBLANK($AC38),0,SUM($AD38*$BC$24))+IF(ISBLANK($AE38),0,SUM($AF38*$BD$24))) | AL38: =IF(IF(ISBLANK($AA38),0,SUM($AB38*$BB$25))+IF(ISBLANK($AC38),0,SUM($AD38*$BC$25))+IF(ISBLANK($AE38),0,SUM($AF38*$BD$25))=0,"",IF(ISBLANK($AA38),0,SUM($AB38*$BB$25))+IF(ISBLANK($AC38),0,SUM($AD38*$BC$25))+IF(ISBLANK($AE38),0,SUM($AF38*$BD$25))) | AM38: =IF(IF(ISBLANK($AA38),0,SUM($AB38*$BB$26))+IF(ISBLANK($AC38),0,SUM($AD38*$BC$26))+IF(ISBLANK($AE38),0,SUM($AF38*$BD$26))=0,"",IF(ISBLANK($AA38),0,SUM($AB38*$BB$26))+IF(ISBLANK($AC38),0,SUM($AD38*$BC$26))+IF(ISBLANK($AE38),0,SUM($AF38*$BD$26))) | AN38: =IF(IF(ISBLANK($AA38),0,SUM($AB38*$BB$27))+IF(ISBLANK($AC38),0,SUM($AD38*$BC$27))+IF(ISBLANK($AE38),0,SUM($AF38*$BD$27))=0,"",IF(ISBLANK($AA38),0,SUM($AB38*$BB$27))+IF(ISBLANK($AC38),0,SUM($AD38*$BC$27))+IF(ISBLANK($AE38),0,SUM($AF38*$BD$27))) | AO38: =IF(IF(ISBLANK($AA38),0,SUM($AB38*$BB$28))+IF(ISBLANK($AC38),0,SUM($AD38*$BC$28))+IF(ISBLANK($AE38),0,SUM($AF38*$BD$28))=0,"",IF(ISBLANK($AA38),0,SUM($AB38*$BB$28))+IF(ISBLANK($AC38),0,SUM($AD38*$BC$28))+IF(ISBLANK($AE38),0,SUM($AF38*$BD$28))) | AP38: =IF(SUM(AB38,AD38,AF38)=SUM(AH38:AO38),"","K") | AQ38: =IF(SUM(L38,AH38)=0,"",SUM(L38,AH38)) | AR38: =IF(SUM(N38,AI38)=0,"",SUM(N38,AI38)) | AS38: =IF(SUM(P38,AJ38)=0,"",SUM(P38,AJ38)) | AT38: =IF(SUM(R38,AK38)=0,"",SUM(R38,AK38)) | AU38: =IF(SUM(T38,AL38)=0,"",SUM(T38,AL38)) | AV38: =IF(SUM(V38,AM38)=0,"",SUM(V38,AM38)) | AW38: =IF(SUM(X38,AN38)=0,"",SUM(X38,AN38)) | AX38: =IF(SUM(Z38,AO38)=0,"",SUM(Z38,AO38)) | AY38: =SUM(AQ38:AX38)-SUM(F38) -> 0
D39: =IF(SUM(K39,M39,O39,Q39,S39,U39,W39,Y39,AA39,AC39,AE39)=0,"",SUM(K39,M39,O39,Q39,S39,U39,W39,Y39,AA39,AC39,AE39)) | F39: =IF(OR(SUM(D39)=0,SUM(E39)=0),"",SUM(D39*E39)) | J39: =IF(SUM(K39,M39,O39,Q39,S39,U39,W39,Y39,AA39,AC39,AE39)-SUM(D39)=0,"","K") | L39: =IF(ISBLANK(K39),"",SUM(K39*$E39)) | N39: =IF(ISBLANK(M39),"",SUM(M39*$E39)) | P39: =IF(ISBLANK(O39),"",SUM(O39*$E39)) | R39: =IF(ISBLANK(Q39),"",SUM(Q39*$E39)) | T39: =IF(ISBLANK(S39),"",SUM(S39*$E39)) | V39: =IF(ISBLANK(U39),"",SUM(U39*$E39)) | X39: =IF(ISBLANK(W39),"",SUM(W39*$E39)) | Z39: =IF(ISBLANK(Y39),"",SUM(Y39*$E39)) | AB39: =IF(ISBLANK(AA39),"",SUM(AA39*$E39)) | AD39: =IF(ISBLANK(AC39),"",SUM(AC39*$E39)) | AF39: =IF(ISBLANK(AE39),"",SUM(AE39*$E39)) | AH39: =IF(IF(ISBLANK($AA39),0,SUM($AB39*$BB$21))+IF(ISBLANK($AC39),0,SUM($AD39*$BC$21))+IF(ISBLANK($AE39),0,SUM($AF39*$BD$21))=0,"",IF(ISBLANK($AA39),0,SUM($AB39*$BB$21))+IF(ISBLANK($AC39),0,SUM($AD39*$BC$21))+IF(ISBLANK($AE39),0,SUM($AF39*$BD$21))) | AI39: =IF(IF(ISBLANK($AA39),0,SUM($AB39*$BB$22))+IF(ISBLANK($AC39),0,SUM($AD39*$BC$22))+IF(ISBLANK($AE39),0,SUM($AF39*$BD$22))=0,"",IF(ISBLANK($AA39),0,SUM($AB39*$BB$22))+IF(ISBLANK($AC39),0,SUM($AD39*$BC$22))+IF(ISBLANK($AE39),0,SUM($AF39*$BD$22))) | AJ39: =IF(IF(ISBLANK($AA39),0,SUM($AB39*$BB$23))+IF(ISBLANK($AC39),0,SUM($AD39*$BC$23))+IF(ISBLANK($AE39),0,SUM($AF39*$BD$23))=0,"",IF(ISBLANK($AA39),0,SUM($AB39*$BB$23))+IF(ISBLANK($AC39),0,SUM($AD39*$BC$23))+IF(ISBLANK($AE39),0,SUM($AF39*$BD$23))) | AK39: =IF(IF(ISBLANK($AA39),0,SUM($AB39*$BB$24))+IF(ISBLANK($AC39),0,SUM($AD39*$BC$24))+IF(ISBLANK($AE39),0,SUM($AF39*$BD$24))=0,"",IF(ISBLANK($AA39),0,SUM($AB39*$BB$24))+IF(ISBLANK($AC39),0,SUM($AD39*$BC$24))+IF(ISBLANK($AE39),0,SUM($AF39*$BD$24))) | AL39: =IF(IF(ISBLANK($AA39),0,SUM($AB39*$BB$25))+IF(ISBLANK($AC39),0,SUM($AD39*$BC$25))+IF(ISBLANK($AE39),0,SUM($AF39*$BD$25))=0,"",IF(ISBLANK($AA39),0,SUM($AB39*$BB$25))+IF(ISBLANK($AC39),0,SUM($AD39*$BC$25))+IF(ISBLANK($AE39),0,SUM($AF39*$BD$25))) | AM39: =IF(IF(ISBLANK($AA39),0,SUM($AB39*$BB$26))+IF(ISBLANK($AC39),0,SUM($AD39*$BC$26))+IF(ISBLANK($AE39),0,SUM($AF39*$BD$26))=0,"",IF(ISBLANK($AA39),0,SUM($AB39*$BB$26))+IF(ISBLANK($AC39),0,SUM($AD39*$BC$26))+IF(ISBLANK($AE39),0,SUM($AF39*$BD$26))) | AN39: =IF(IF(ISBLANK($AA39),0,SUM($AB39*$BB$27))+IF(ISBLANK($AC39),0,SUM($AD39*$BC$27))+IF(ISBLANK($AE39),0,SUM($AF39*$BD$27))=0,"",IF(ISBLANK($AA39),0,SUM($AB39*$BB$27))+IF(ISBLANK($AC39),0,SUM($AD39*$BC$27))+IF(ISBLANK($AE39),0,SUM($AF39*$BD$27))) | AO39: =IF(IF(ISBLANK($AA39),0,SUM($AB39*$BB$28))+IF(ISBLANK($AC39),0,SUM($AD39*$BC$28))+IF(ISBLANK($AE39),0,SUM($AF39*$BD$28))=0,"",IF(ISBLANK($AA39),0,SUM($AB39*$BB$28))+IF(ISBLANK($AC39),0,SUM($AD39*$BC$28))+IF(ISBLANK($AE39),0,SUM($AF39*$BD$28))) | AP39: =IF(SUM(AB39,AD39,AF39)=SUM(AH39:AO39),"","K") | AQ39: =IF(SUM(L39,AH39)=0,"",SUM(L39,AH39)) | AR39: =IF(SUM(N39,AI39)=0,"",SUM(N39,AI39)) | AS39: =IF(SUM(P39,AJ39)=0,"",SUM(P39,AJ39)) | AT39: =IF(SUM(R39,AK39)=0,"",SUM(R39,AK39)) | AU39: =IF(SUM(T39,AL39)=0,"",SUM(T39,AL39)) | AV39: =IF(SUM(V39,AM39)=0,"",SUM(V39,AM39)) | AW39: =IF(SUM(X39,AN39)=0,"",SUM(X39,AN39)) | AX39: =IF(SUM(Z39,AO39)=0,"",SUM(Z39,AO39)) | AY39: =SUM(AQ39:AX39)-SUM(F39) -> 0
D40: =IF(SUM(K40,M40,O40,Q40,S40,U40,W40,Y40,AA40,AC40,AE40)=0,"",SUM(K40,M40,O40,Q40,S40,U40,W40,Y40,AA40,AC40,AE40)) | F40: =IF(OR(SUM(D40)=0,SUM(E40)=0),"",SUM(D40*E40)) | J40: =IF(SUM(K40,M40,O40,Q40,S40,U40,W40,Y40,AA40,AC40,AE40)-SUM(D40)=0,"","K") | L40: =IF(ISBLANK(K40),"",SUM(K40*$E40)) | N40: =IF(ISBLANK(M40),"",SUM(M40*$E40)) | P40: =IF(ISBLANK(O40),"",SUM(O40*$E40)) | R40: =IF(ISBLANK(Q40),"",SUM(Q40*$E40)) | T40: =IF(ISBLANK(S40),"",SUM(S40*$E40)) | V40: =IF(ISBLANK(U40),"",SUM(U40*$E40)) | X40: =IF(ISBLANK(W40),"",SUM(W40*$E40)) | Z40: =IF(ISBLANK(Y40),"",SUM(Y40*$E40)) | AB40: =IF(ISBLANK(AA40),"",SUM(AA40*$E40)) | AD40: =IF(ISBLANK(AC40),"",SUM(AC40*$E40)) | AF40: =IF(ISBLANK(AE40),"",SUM(AE40*$E40)) | AH40: =IF(IF(ISBLANK($AA40),0,SUM($AB40*$BB$21))+IF(ISBLANK($AC40),0,SUM($AD40*$BC$21))+IF(ISBLANK($AE40),0,SUM($AF40*$BD$21))=0,"",IF(ISBLANK($AA40),0,SUM($AB40*$BB$21))+IF(ISBLANK($AC40),0,SUM($AD40*$BC$21))+IF(ISBLANK($AE40),0,SUM($AF40*$BD$21))) | AI40: =IF(IF(ISBLANK($AA40),0,SUM($AB40*$BB$22))+IF(ISBLANK($AC40),0,SUM($AD40*$BC$22))+IF(ISBLANK($AE40),0,SUM($AF40*$BD$22))=0,"",IF(ISBLANK($AA40),0,SUM($AB40*$BB$22))+IF(ISBLANK($AC40),0,SUM($AD40*$BC$22))+IF(ISBLANK($AE40),0,SUM($AF40*$BD$22))) | AJ40: =IF(IF(ISBLANK($AA40),0,SUM($AB40*$BB$23))+IF(ISBLANK($AC40),0,SUM($AD40*$BC$23))+IF(ISBLANK($AE40),0,SUM($AF40*$BD$23))=0,"",IF(ISBLANK($AA40),0,SUM($AB40*$BB$23))+IF(ISBLANK($AC40),0,SUM($AD40*$BC$23))+IF(ISBLANK($AE40),0,SUM($AF40*$BD$23))) | AK40: =IF(IF(ISBLANK($AA40),0,SUM($AB40*$BB$24))+IF(ISBLANK($AC40),0,SUM($AD40*$BC$24))+IF(ISBLANK($AE40),0,SUM($AF40*$BD$24))=0,"",IF(ISBLANK($AA40),0,SUM($AB40*$BB$24))+IF(ISBLANK($AC40),0,SUM($AD40*$BC$24))+IF(ISBLANK($AE40),0,SUM($AF40*$BD$24))) | AL40: =IF(IF(ISBLANK($AA40),0,SUM($AB40*$BB$25))+IF(ISBLANK($AC40),0,SUM($AD40*$BC$25))+IF(ISBLANK($AE40),0,SUM($AF40*$BD$25))=0,"",IF(ISBLANK($AA40),0,SUM($AB40*$BB$25))+IF(ISBLANK($AC40),0,SUM($AD40*$BC$25))+IF(ISBLANK($AE40),0,SUM($AF40*$BD$25))) | AM40: =IF(IF(ISBLANK($AA40),0,SUM($AB40*$BB$26))+IF(ISBLANK($AC40),0,SUM($AD40*$BC$26))+IF(ISBLANK($AE40),0,SUM($AF40*$BD$26))=0,"",IF(ISBLANK($AA40),0,SUM($AB40*$BB$26))+IF(ISBLANK($AC40),0,SUM($AD40*$BC$26))+IF(ISBLANK($AE40),0,SUM($AF40*$BD$26))) | AN40: =IF(IF(ISBLANK($AA40),0,SUM($AB40*$BB$27))+IF(ISBLANK($AC40),0,SUM($AD40*$BC$27))+IF(ISBLANK($AE40),0,SUM($AF40*$BD$27))=0,"",IF(ISBLANK($AA40),0,SUM($AB40*$BB$27))+IF(ISBLANK($AC40),0,SUM($AD40*$BC$27))+IF(ISBLANK($AE40),0,SUM($AF40*$BD$27))) | AO40: =IF(IF(ISBLANK($AA40),0,SUM($AB40*$BB$28))+IF(ISBLANK($AC40),0,SUM($AD40*$BC$28))+IF(ISBLANK($AE40),0,SUM($AF40*$BD$28))=0,"",IF(ISBLANK($AA40),0,SUM($AB40*$BB$28))+IF(ISBLANK($AC40),0,SUM($AD40*$BC$28))+IF(ISBLANK($AE40),0,SUM($AF40*$BD$28))) | AP40: =IF(SUM(AB40,AD40,AF40)=SUM(AH40:AO40),"","K") | AQ40: =IF(SUM(L40,AH40)=0,"",SUM(L40,AH40)) | AR40: =IF(SUM(N40,AI40)=0,"",SUM(N40,AI40)) | AS40: =IF(SUM(P40,AJ40)=0,"",SUM(P40,AJ40)) | AT40: =IF(SUM(R40,AK40)=0,"",SUM(R40,AK40)) | AU40: =IF(SUM(T40,AL40)=0,"",SUM(T40,AL40)) | AV40: =IF(SUM(V40,AM40)=0,"",SUM(V40,AM40)) | AW40: =IF(SUM(X40,AN40)=0,"",SUM(X40,AN40)) | AX40: =IF(SUM(Z40,AO40)=0,"",SUM(Z40,AO40)) | AY40: =SUM(AQ40:AX40)-SUM(F40) -> 0
... D51: =IF(SUM(K51,M51,O51,Q51,S51,U51,W51,Y51,AA51,AC51,AE51)=0,"",SUM(K51,M51,O51,Q51,S51,U51,W51,Y51,AA51,AC51,AE51)) | F51: =IF(OR(SUM(D51)=0,SUM(E51)=0),"",SUM(D51*E51)) | J51: =IF(SUM(K51,M51,O51,Q51,S51,U51,W51,Y51,AA51,AC51,AE51)-SUM(D51)=0,"","K") | L51: =IF(ISBLANK(K51),"",SUM(K51*$E51)) | N51: =IF(ISBLANK(M51),"",SUM(M51*$E51)) | P51: =IF(ISBLANK(O51),"",SUM(O51*$E51)) | R51: =IF(ISBLANK(Q51),"",SUM(Q51*$E51)) | T51: =IF(ISBLANK(S51),"",SUM(S51*$E51)) | V51: =IF(ISBLANK(U51),"",SUM(U51*$E51)) | X51: =IF(ISBLANK(W51),"",SUM(W51*$E51)) | Z51: =IF(ISBLANK(Y51),"",SUM(Y51*$E51)) | AB51: =IF(ISBLANK(AA51),"",SUM(AA51*$E51)) | AD51: =IF(ISBLANK(AC51),"",SUM(AC51*$E51)) | AF51: =IF(ISBLANK(AE51),"",SUM(AE51*$E51)) | AH51: =IF(IF(ISBLANK($AA51),0,SUM($AB51*$BB$21))+IF(ISBLANK($AC51),0,SUM($AD51*$BC$21))+IF(ISBLANK($AE51),0,SUM($AF51*$BD$21))=0,"",IF(ISBLANK($AA51),0,SUM($AB51*$BB$21))+IF(ISBLANK($AC51),0,SUM($AD51*$BC$21))+IF(ISBLANK($AE51),0,SUM($AF51*$BD$21))) | AI51: =IF(IF(ISBLANK($AA51),0,SUM($AB51*$BB$22))+IF(ISBLANK($AC51),0,SUM($AD51*$BC$22))+IF(ISBLANK($AE51),0,SUM($AF51*$BD$22))=0,"",IF(ISBLANK($AA51),0,SUM($AB51*$BB$22))+IF(ISBLANK($AC51),0,SUM($AD51*$BC$22))+IF(ISBLANK($AE51),0,SUM($AF51*$BD$22))) | AJ51: =IF(IF(ISBLANK($AA51),0,SUM($AB51*$BB$23))+IF(ISBLANK($AC51),0,SUM($AD51*$BC$23))+IF(ISBLANK($AE51),0,SUM($AF51*$BD$23))=0,"",IF(ISBLANK($AA51),0,SUM($AB51*$BB$23))+IF(ISBLANK($AC51),0,SUM($AD51*$BC$23))+IF(ISBLANK($AE51),0,SUM($AF51*$BD$23))) | AK51: =IF(IF(ISBLANK($AA51),0,SUM($AB51*$BB$24))+IF(ISBLANK($AC51),0,SUM($AD51*$BC$24))+IF(ISBLANK($AE51),0,SUM($AF51*$BD$24))=0,"",IF(ISBLANK($AA51),0,SUM($AB51*$BB$24))+IF(ISBLANK($AC51),0,SUM($AD51*$BC$24))+IF(ISBLANK($AE51),0,SUM($AF51*$BD$24))) | AL51: =IF(IF(ISBLANK($AA51),0,SUM($AB51*$BB$25))+IF(ISBLANK($AC51),0,SUM($AD51*$BC$25))+IF(ISBLANK($AE51),0,SUM($AF51*$BD$25))=0,"",IF(ISBLANK($AA51),0,SUM($AB51*$BB$25))+IF(ISBLANK($AC51),0,SUM($AD51*$BC$25))+IF(ISBLANK($AE51),0,SUM($AF51*$BD$25))) | AM51: =IF(IF(ISBLANK($AA51),0,SUM($AB51*$BB$26))+IF(ISBLANK($AC51),0,SUM($AD51*$BC$26))+IF(ISBLANK($AE51),0,SUM($AF51*$BD$26))=0,"",IF(ISBLANK($AA51),0,SUM($AB51*$BB$26))+IF(ISBLANK($AC51),0,SUM($AD51*$BC$26))+IF(ISBLANK($AE51),0,SUM($AF51*$BD$26))) | AN51: =IF(IF(ISBLANK($AA51),0,SUM($AB51*$BB$27))+IF(ISBLANK($AC51),0,SUM($AD51*$BC$27))+IF(ISBLANK($AE51),0,SUM($AF51*$BD$27))=0,"",IF(ISBLANK($AA51),0,SUM($AB51*$BB$27))+IF(ISBLANK($AC51),0,SUM($AD51*$BC$27))+IF(ISBLANK($AE51),0,SUM($AF51*$BD$27))) | AO51: =IF(IF(ISBLANK($AA51),0,SUM($AB51*$BB$28))+IF(ISBLANK($AC51),0,SUM($AD51*$BC$28))+IF(ISBLANK($AE51),0,SUM($AF51*$BD$28))=0,"",IF(ISBLANK($AA51),0,SUM($AB51*$BB$28))+IF(ISBLANK($AC51),0,SUM($AD51*$BC$28))+IF(ISBLANK($AE51),0,SUM($AF51*$BD$28))) | AP51: =IF(SUM(AB51,AD51,AF51)=SUM(AH51:AO51),"","K") | AQ51: =IF(SUM(L51,AH51)=0,"",SUM(L51,AH51)) | AR51: =IF(SUM(N51,AI51)=0,"",SUM(N51,AI51)) | AS51: =IF(SUM(P51,AJ51)=0,"",SUM(P51,AJ51)) | AT51: =IF(SUM(R51,AK51)=0,"",SUM(R51,AK51)) | AU51: =IF(SUM(T51,AL51)=0,"",SUM(T51,AL51)) | AV51: =IF(SUM(V51,AM51)=0,"",SUM(V51,AM51)) | AW51: =IF(SUM(X51,AN51)=0,"",SUM(X51,AN51)) | AX51: =IF(SUM(Z51,AO51)=0,"",SUM(Z51,AO51)) | AY51: =SUM(AQ51:AX51)-SUM(F51) -> 0
D52: =IF(SUM(K52,M52,O52,Q52,S52,U52,W52,Y52,AA52,AC52,AE52)=0,"",SUM(K52,M52,O52,Q52,S52,U52,W52,Y52,AA52,AC52,AE52)) | F52: =IF(OR(SUM(D52)=0,SUM(E52)=0),"",SUM(D52*E52)) | J52: =IF(SUM(K52,M52,O52,Q52,S52,U52,W52,Y52,AA52,AC52,AE52)-SUM(D52)=0,"","K") | R52: =IF(ISBLANK(Q52),"",SUM(Q52*$E52)) | T52: =IF(ISBLANK(S52),"",SUM(S52*$E52)) | V52: =IF(ISBLANK(U52),"",SUM(U52*$E52)) | X52: =IF(ISBLANK(W52),"",SUM(W52*$E52)) | Z52: =IF(ISBLANK(Y52),"",SUM(Y52*$E52)) | AB52: =IF(ISBLANK(AA52),"",SUM(AA52*$E52)) | AD52: =IF(ISBLANK(AC52),"",SUM(AC52*$E52)) | AF52: =IF(ISBLANK(AE52),"",SUM(AE52*$E52)) | AH52: =IF(IF(ISBLANK($AA52),0,SUM($AB52*$BB$21))+IF(ISBLANK($AC52),0,SUM($AD52*$BC$21))+IF(ISBLANK($AE52),0,SUM($AF52*$BD$21))=0,"",IF(ISBLANK($AA52),0,SUM($AB52*$BB$21))+IF(ISBLANK($AC52),0,SUM($AD52*$BC$21))+IF(ISBLANK($AE52),0,SUM($AF52*$BD$21))) | AI52: =IF(IF(ISBLANK($AA52),0,SUM($AB52*$BB$22))+IF(ISBLANK($AC52),0,SUM($AD52*$BC$22))+IF(ISBLANK($AE52),0,SUM($AF52*$BD$22))=0,"",IF(ISBLANK($AA52),0,SUM($AB52*$BB$22))+IF(ISBLANK($AC52),0,SUM($AD52*$BC$22))+IF(ISBLANK($AE52),0,SUM($AF52*$BD$22))) | AJ52: =IF(IF(ISBLANK($AA52),0,SUM($AB52*$BB$23))+IF(ISBLANK($AC52),0,SUM($AD52*$BC$23))+IF(ISBLANK($AE52),0,SUM($AF52*$BD$23))=0,"",IF(ISBLANK($AA52),0,SUM($AB52*$BB$23))+IF(ISBLANK($AC52),0,SUM($AD52*$BC$23))+IF(ISBLANK($AE52),0,SUM($AF52*$BD$23))) | AK52: =IF(IF(ISBLANK($AA52),0,SUM($AB52*$BB$24))+IF(ISBLANK($AC52),0,SUM($AD52*$BC$24))+IF(ISBLANK($AE52),0,SUM($AF52*$BD$24))=0,"",IF(ISBLANK($AA52),0,SUM($AB52*$BB$24))+IF(ISBLANK($AC52),0,SUM($AD52*$BC$24))+IF(ISBLANK($AE52),0,SUM($AF52*$BD$24))) | AL52: =IF(IF(ISBLANK($AA52),0,SUM($AB52*$BB$25))+IF(ISBLANK($AC52),0,SUM($AD52*$BC$25))+IF(ISBLANK($AE52),0,SUM($AF52*$BD$25))=0,"",IF(ISBLANK($AA52),0,SUM($AB52*$BB$25))+IF(ISBLANK($AC52),0,SUM($AD52*$BC$25))+IF(ISBLANK($AE52),0,SUM($AF52*$BD$25))) | AM52: =IF(IF(ISBLANK($AA52),0,SUM($AB52*$BB$26))+IF(ISBLANK($AC52),0,SUM($AD52*$BC$26))+IF(ISBLANK($AE52),0,SUM($AF52*$BD$26))=0,"",IF(ISBLANK($AA52),0,SUM($AB52*$BB$26))+IF(ISBLANK($AC52),0,SUM($AD52*$BC$26))+IF(ISBLANK($AE52),0,SUM($AF52*$BD$26))) | AN52: =IF(IF(ISBLANK($AA52),0,SUM($AB52*$BB$27))+IF(ISBLANK($AC52),0,SUM($AD52*$BC$27))+IF(ISBLANK($AE52),0,SUM($AF52*$BD$27))=0,"",IF(ISBLANK($AA52),0,SUM($AB52*$BB$27))+IF(ISBLANK($AC52),0,SUM($AD52*$BC$27))+IF(ISBLANK($AE52),0,SUM($AF52*$BD$27))) | AO52: =IF(IF(ISBLANK($AA52),0,SUM($AB52*$BB$28))+IF(ISBLANK($AC52),0,SUM($AD52*$BC$28))+IF(ISBLANK($AE52),0,SUM($AF52*$BD$28))=0,"",IF(ISBLANK($AA52),0,SUM($AB52*$BB$28))+IF(ISBLANK($AC52),0,SUM($AD52*$BC$28))+IF(ISBLANK($AE52),0,SUM($AF52*$BD$28))) | AP52: =IF(SUM(AB52,AD52,AF52)=SUM(AH52:AO52),"","K") | AQ52: =IF(SUM(L52,AH52)=0,"",SUM(L52,AH52)) | AR52: =IF(SUM(N52,AI52)=0,"",SUM(N52,AI52)) | AS52: =IF(SUM(P52,AJ52)=0,"",SUM(P52,AJ52)) | AT52: =IF(SUM(R52,AK52)=0,"",SUM(R52,AK52)) | AU52: =IF(SUM(T52,AL52)=0,"",SUM(T52,AL52)) | AV52: =IF(SUM(V52,AM52)=0,"",SUM(V52,AM52)) | AW52: =IF(SUM(X52,AN52)=0,"",SUM(X52,AN52)) | AX52: =IF(SUM(Z52,AO52)=0,"",SUM(Z52,AO52)) | AY52: =SUM(AQ52:AX52)-SUM(F52) -> 0
D53: =IF(SUM(K53,M53,O53,Q53,S53,U53,W53,Y53,AA53,AC53,AE53)=0,"",SUM(K53,M53,O53,Q53,S53,U53,W53,Y53,AA53,AC53,AE53)) | F53: =IF(OR(SUM(D53)=0,SUM(E53)=0),"",SUM(D53*E53)) | J53: =IF(SUM(K53,M53,O53,Q53,S53,U53,W53,Y53,AA53,AC53,AE53)-SUM(D53)=0,"","K") | L53: =IF(ISBLANK(K53),"",SUM(K53*$E53)) | N53: =IF(ISBLANK(M53),"",SUM(M53*$E53)) | P53: =IF(ISBLANK(O53),"",SUM(O53*$E53)) | R53: =IF(ISBLANK(Q53),"",SUM(Q53*$E53)) | T53: =IF(ISBLANK(S53),"",SUM(S53*$E53)) | V53: =IF(ISBLANK(U53),"",SUM(U53*$E53)) | X53: =IF(ISBLANK(W53),"",SUM(W53*$E53)) | Z53: =IF(ISBLANK(Y53),"",SUM(Y53*$E53)) | AB53: =IF(ISBLANK(AA53),"",SUM(AA53*$E53)) | AD53: =IF(ISBLANK(AC53),"",SUM(AC53*$E53)) | AF53: =IF(ISBLANK(AE53),"",SUM(AE53*$E53)) | AH53: =IF(IF(ISBLANK($AA53),0,SUM($AB53*$BB$21))+IF(ISBLANK($AC53),0,SUM($AD53*$BC$21))+IF(ISBLANK($AE53),0,SUM($AF53*$BD$21))=0,"",IF(ISBLANK($AA53),0,SUM($AB53*$BB$21))+IF(ISBLANK($AC53),0,SUM($AD53*$BC$21))+IF(ISBLANK($AE53),0,SUM($AF53*$BD$21))) | AI53: =IF(IF(ISBLANK($AA53),0,SUM($AB53*$BB$22))+IF(ISBLANK($AC53),0,SUM($AD53*$BC$22))+IF(ISBLANK($AE53),0,SUM($AF53*$BD$22))=0,"",IF(ISBLANK($AA53),0,SUM($AB53*$BB$22))+IF(ISBLANK($AC53),0,SUM($AD53*$BC$22))+IF(ISBLANK($AE53),0,SUM($AF53*$BD$22))) | AJ53: =IF(IF(ISBLANK($AA53),0,SUM($AB53*$BB$23))+IF(ISBLANK($AC53),0,SUM($AD53*$BC$23))+IF(ISBLANK($AE53),0,SUM($AF53*$BD$23))=0,"",IF(ISBLANK($AA53),0,SUM($AB53*$BB$23))+IF(ISBLANK($AC53),0,SUM($AD53*$BC$23))+IF(ISBLANK($AE53),0,SUM($AF53*$BD$23))) | AK53: =IF(IF(ISBLANK($AA53),0,SUM($AB53*$BB$24))+IF(ISBLANK($AC53),0,SUM($AD53*$BC$24))+IF(ISBLANK($AE53),0,SUM($AF53*$BD$24))=0,"",IF(ISBLANK($AA53),0,SUM($AB53*$BB$24))+IF(ISBLANK($AC53),0,SUM($AD53*$BC$24))+IF(ISBLANK($AE53),0,SUM($AF53*$BD$24))) | AL53: =IF(IF(ISBLANK($AA53),0,SUM($AB53*$BB$25))+IF(ISBLANK($AC53),0,SUM($AD53*$BC$25))+IF(ISBLANK($AE53),0,SUM($AF53*$BD$25))=0,"",IF(ISBLANK($AA53),0,SUM($AB53*$BB$25))+IF(ISBLANK($AC53),0,SUM($AD53*$BC$25))+IF(ISBLANK($AE53),0,SUM($AF53*$BD$25))) | AM53: =IF(IF(ISBLANK($AA53),0,SUM($AB53*$BB$26))+IF(ISBLANK($AC53),0,SUM($AD53*$BC$26))+IF(ISBLANK($AE53),0,SUM($AF53*$BD$26))=0,"",IF(ISBLANK($AA53),0,SUM($AB53*$BB$26))+IF(ISBLANK($AC53),0,SUM($AD53*$BC$26))+IF(ISBLANK($AE53),0,SUM($AF53*$BD$26))) | AN53: =IF(IF(ISBLANK($AA53),0,SUM($AB53*$BB$27))+IF(ISBLANK($AC53),0,SUM($AD53*$BC$27))+IF(ISBLANK($AE53),0,SUM($AF53*$BD$27))=0,"",IF(ISBLANK($AA53),0,SUM($AB53*$BB$27))+IF(ISBLANK($AC53),0,SUM($AD53*$BC$27))+IF(ISBLANK($AE53),0,SUM($AF53*$BD$27))) | AO53: =IF(IF(ISBLANK($AA53),0,SUM($AB53*$BB$28))+IF(ISBLANK($AC53),0,SUM($AD53*$BC$28))+IF(ISBLANK($AE53),0,SUM($AF53*$BD$28))=0,"",IF(ISBLANK($AA53),0,SUM($AB53*$BB$28))+IF(ISBLANK($AC53),0,SUM($AD53*$BC$28))+IF(ISBLANK($AE53),0,SUM($AF53*$BD$28))) | AP53: =IF(SUM(AB53,AD53,AF53)=SUM(AH53:AO53),"","K") | AQ53: =IF(SUM(L53,AH53)=0,"",SUM(L53,AH53)) | AR53: =IF(SUM(N53,AI53)=0,"",SUM(N53,AI53)) | AS53: =IF(SUM(P53,AJ53)=0,"",SUM(P53,AJ53)) | AT53: =IF(SUM(R53,AK53)=0,"",SUM(R53,AK53)) | AU53: =IF(SUM(T53,AL53)=0,"",SUM(T53,AL53)) | AV53: =IF(SUM(V53,AM53)=0,"",SUM(V53,AM53)) | AW53: =IF(SUM(X53,AN53)=0,"",SUM(X53,AN53)) | AX53: =IF(SUM(Z53,AO53)=0,"",SUM(Z53,AO53)) | AY53: =SUM(AQ53:AX53)-SUM(F53) -> 0
D54: =IF(SUM(K54,M54,O54,Q54,S54,U54,W54,Y54,AA54,AC54,AE54)=0,"",SUM(K54,M54,O54,Q54,S54,U54,W54,Y54,AA54,AC54,AE54)) | F54: =IF(OR(SUM(D54)=0,SUM(E54)=0),"",SUM(D54*E54)) | J54: =IF(SUM(K54,M54,O54,Q54,S54,U54,W54,Y54,AA54,AC54,AE54)-SUM(D54)=0,"","K") | L54: =IF(ISBLANK(K54),"",SUM(K54*$E54)) | N54: =IF(ISBLANK(M54),"",SUM(M54*$E54)) | P54: =IF(ISBLANK(O54),"",SUM(O54*$E54)) | R54: =IF(ISBLANK(Q54),"",SUM(Q54*$E54)) | T54: =IF(ISBLANK(S54),"",SUM(S54*$E54)) | V54: =IF(ISBLANK(U54),"",SUM(U54*$E54)) | X54: =IF(ISBLANK(W54),"",SUM(W54*$E54)) | Z54: =IF(ISBLANK(Y54),"",SUM(Y54*$E54)) | AB54: =IF(ISBLANK(AA54),"",SUM(AA54*$E54)) | AD54: =IF(ISBLANK(AC54),"",SUM(AC54*$E54)) | AF54: =IF(ISBLANK(AE54),"",SUM(AE54*$E54)) | AH54: =IF(IF(ISBLANK($AA54),0,SUM($AB54*$BB$21))+IF(ISBLANK($AC54),0,SUM($AD54*$BC$21))+IF(ISBLANK($AE54),0,SUM($AF54*$BD$21))=0,"",IF(ISBLANK($AA54),0,SUM($AB54*$BB$21))+IF(ISBLANK($AC54),0,SUM($AD54*$BC$21))+IF(ISBLANK($AE54),0,SUM($AF54*$BD$21))) | AI54: =IF(IF(ISBLANK($AA54),0,SUM($AB54*$BB$22))+IF(ISBLANK($AC54),0,SUM($AD54*$BC$22))+IF(ISBLANK($AE54),0,SUM($AF54*$BD$22))=0,"",IF(ISBLANK($AA54),0,SUM($AB54*$BB$22))+IF(ISBLANK($AC54),0,SUM($AD54*$BC$22))+IF(ISBLANK($AE54),0,SUM($AF54*$BD$22))) | AJ54: =IF(IF(ISBLANK($AA54),0,SUM($AB54*$BB$23))+IF(ISBLANK($AC54),0,SUM($AD54*$BC$23))+IF(ISBLANK($AE54),0,SUM($AF54*$BD$23))=0,"",IF(ISBLANK($AA54),0,SUM($AB54*$BB$23))+IF(ISBLANK($AC54),0,SUM($AD54*$BC$23))+IF(ISBLANK($AE54),0,SUM($AF54*$BD$23))) | AK54: =IF(IF(ISBLANK($AA54),0,SUM($AB54*$BB$24))+IF(ISBLANK($AC54),0,SUM($AD54*$BC$24))+IF(ISBLANK($AE54),0,SUM($AF54*$BD$24))=0,"",IF(ISBLANK($AA54),0,SUM($AB54*$BB$24))+IF(ISBLANK($AC54),0,SUM($AD54*$BC$24))+IF(ISBLANK($AE54),0,SUM($AF54*$BD$24))) | AL54: =IF(IF(ISBLANK($AA54),0,SUM($AB54*$BB$25))+IF(ISBLANK($AC54),0,SUM($AD54*$BC$25))+IF(ISBLANK($AE54),0,SUM($AF54*$BD$25))=0,"",IF(ISBLANK($AA54),0,SUM($AB54*$BB$25))+IF(ISBLANK($AC54),0,SUM($AD54*$BC$25))+IF(ISBLANK($AE54),0,SUM($AF54*$BD$25))) | AM54: =IF(IF(ISBLANK($AA54),0,SUM($AB54*$BB$26))+IF(ISBLANK($AC54),0,SUM($AD54*$BC$26))+IF(ISBLANK($AE54),0,SUM($AF54*$BD$26))=0,"",IF(ISBLANK($AA54),0,SUM($AB54*$BB$26))+IF(ISBLANK($AC54),0,SUM($AD54*$BC$26))+IF(ISBLANK($AE54),0,SUM($AF54*$BD$26))) | AN54: =IF(IF(ISBLANK($AA54),0,SUM($AB54*$BB$27))+IF(ISBLANK($AC54),0,SUM($AD54*$BC$27))+IF(ISBLANK($AE54),0,SUM($AF54*$BD$27))=0,"",IF(ISBLANK($AA54),0,SUM($AB54*$BB$27))+IF(ISBLANK($AC54),0,SUM($AD54*$BC$27))+IF(ISBLANK($AE54),0,SUM($AF54*$BD$27))) | AO54: =IF(IF(ISBLANK($AA54),0,SUM($AB54*$BB$28))+IF(ISBLANK($AC54),0,SUM($AD54*$BC$28))+IF(ISBLANK($AE54),0,SUM($AF54*$BD$28))=0,"",IF(ISBLANK($AA54),0,SUM($AB54*$BB$28))+IF(ISBLANK($AC54),0,SUM($AD54*$BC$28))+IF(ISBLANK($AE54),0,SUM($AF54*$BD$28))) | AP54: =IF(SUM(AB54,AD54,AF54)=SUM(AH54:AO54),"","K") | AQ54: =IF(SUM(L54,AH54)=0,"",SUM(L54,AH54)) | AR54: =IF(SUM(N54,AI54)=0,"",SUM(N54,AI54)) | AS54: =IF(SUM(P54,AJ54)=0,"",SUM(P54,AJ54)) | AT54: =IF(SUM(R54,AK54)=0,"",SUM(R54,AK54)) | AU54: =IF(SUM(T54,AL54)=0,"",SUM(T54,AL54)) | AV54: =IF(SUM(V54,AM54)=0,"",SUM(V54,AM54)) | AW54: =IF(SUM(X54,AN54)=0,"",SUM(X54,AN54)) | AX54: =IF(SUM(Z54,AO54)=0,"",SUM(Z54,AO54)) | AY54: =SUM(AQ54:AX54)-SUM(F54) -> 0
D55: =IF(SUM(K55,M55,O55,Q55,S55,U55,W55,Y55,AA55,AC55,AE55)=0,"",SUM(K55,M55,O55,Q55,S55,U55,W55,Y55,AA55,AC55,AE55)) | F55: =IF(OR(SUM(D55)=0,SUM(E55)=0),"",SUM(D55*E55)) | J55: =IF(SUM(K55,M55,O55,Q55,S55,U55,W55,Y55,AA55,AC55,AE55)-SUM(D55)=0,"","K") | L55: =IF(ISBLANK(K55),"",SUM(K55*$E55)) | N55: =IF(ISBLANK(M55),"",SUM(M55*$E55)) | P55: =IF(ISBLANK(O55),"",SUM(O55*$E55)) | R55: =IF(ISBLANK(Q55),"",SUM(Q55*$E55)) | T55: =IF(ISBLANK(S55),"",SUM(S55*$E55)) | V55: =IF(ISBLANK(U55),"",SUM(U55*$E55)) | X55: =IF(ISBLANK(W55),"",SUM(W55*$E55)) | Z55: =IF(ISBLANK(Y55),"",SUM(Y55*$E55)) | AB55: =IF(ISBLANK(AA55),"",SUM(AA55*$E55)) | AD55: =IF(ISBLANK(AC55),"",SUM(AC55*$E55)) | AF55: =IF(ISBLANK(AE55),"",SUM(AE55*$E55)) | AH55: =IF(IF(ISBLANK($AA55),0,SUM($AB55*$BB$21))+IF(ISBLANK($AC55),0,SUM($AD55*$BC$21))+IF(ISBLANK($AE55),0,SUM($AF55*$BD$21))=0,"",IF(ISBLANK($AA55),0,SUM($AB55*$BB$21))+IF(ISBLANK($AC55),0,SUM($AD55*$BC$21))+IF(ISBLANK($AE55),0,SUM($AF55*$BD$21))) | AI55: =IF(IF(ISBLANK($AA55),0,SUM($AB55*$BB$22))+IF(ISBLANK($AC55),0,SUM($AD55*$BC$22))+IF(ISBLANK($AE55),0,SUM($AF55*$BD$22))=0,"",IF(ISBLANK($AA55),0,SUM($AB55*$BB$22))+IF(ISBLANK($AC55),0,SUM($AD55*$BC$22))+IF(ISBLANK($AE55),0,SUM($AF55*$BD$22))) | AJ55: =IF(IF(ISBLANK($AA55),0,SUM($AB55*$BB$23))+IF(ISBLANK($AC55),0,SUM($AD55*$BC$23))+IF(ISBLANK($AE55),0,SUM($AF55*$BD$23))=0,"",IF(ISBLANK($AA55),0,SUM($AB55*$BB$23))+IF(ISBLANK($AC55),0,SUM($AD55*$BC$23))+IF(ISBLANK($AE55),0,SUM($AF55*$BD$23))) | AK55: =IF(IF(ISBLANK($AA55),0,SUM($AB55*$BB$24))+IF(ISBLANK($AC55),0,SUM($AD55*$BC$24))+IF(ISBLANK($AE55),0,SUM($AF55*$BD$24))=0,"",IF(ISBLANK($AA55),0,SUM($AB55*$BB$24))+IF(ISBLANK($AC55),0,SUM($AD55*$BC$24))+IF(ISBLANK($AE55),0,SUM($AF55*$BD$24))) | AL55: =IF(IF(ISBLANK($AA55),0,SUM($AB55*$BB$25))+IF(ISBLANK($AC55),0,SUM($AD55*$BC$25))+IF(ISBLANK($AE55),0,SUM($AF55*$BD$25))=0,"",IF(ISBLANK($AA55),0,SUM($AB55*$BB$25))+IF(ISBLANK($AC55),0,SUM($AD55*$BC$25))+IF(ISBLANK($AE55),0,SUM($AF55*$BD$25))) | AM55: =IF(IF(ISBLANK($AA55),0,SUM($AB55*$BB$26))+IF(ISBLANK($AC55),0,SUM($AD55*$BC$26))+IF(ISBLANK($AE55),0,SUM($AF55*$BD$26))=0,"",IF(ISBLANK($AA55),0,SUM($AB55*$BB$26))+IF(ISBLANK($AC55),0,SUM($AD55*$BC$26))+IF(ISBLANK($AE55),0,SUM($AF55*$BD$26))) | AN55: =IF(IF(ISBLANK($AA55),0,SUM($AB55*$BB$27))+IF(ISBLANK($AC55),0,SUM($AD55*$BC$27))+IF(ISBLANK($AE55),0,SUM($AF55*$BD$27))=0,"",IF(ISBLANK($AA55),0,SUM($AB55*$BB$27))+IF(ISBLANK($AC55),0,SUM($AD55*$BC$27))+IF(ISBLANK($AE55),0,SUM($AF55*$BD$27))) | AO55: =IF(IF(ISBLANK($AA55),0,SUM($AB55*$BB$28))+IF(ISBLANK($AC55),0,SUM($AD55*$BC$28))+IF(ISBLANK($AE55),0,SUM($AF55*$BD$28))=0,"",IF(ISBLANK($AA55),0,SUM($AB55*$BB$28))+IF(ISBLANK($AC55),0,SUM($AD55*$BC$28))+IF(ISBLANK($AE55),0,SUM($AF55*$BD$28))) | AP55: =IF(SUM(AB55,AD55,AF55)=SUM(AH55:AO55),"","K") | AQ55: =IF(SUM(L55,AH55)=0,"",SUM(L55,AH55)) | AR55: =IF(SUM(N55,AI55)=0,"",SUM(N55,AI55)) | AS55: =IF(SUM(P55,AJ55)=0,"",SUM(P55,AJ55)) | AT55: =IF(SUM(R55,AK55)=0,"",SUM(R55,AK55)) | AU55: =IF(SUM(T55,AL55)=0,"",SUM(T55,AL55)) | AV55: =IF(SUM(V55,AM55)=0,"",SUM(V55,AM55)) | AW55: =IF(SUM(X55,AN55)=0,"",SUM(X55,AN55)) | AX55: =IF(SUM(Z55,AO55)=0,"",SUM(Z55,AO55)) | AY55: =SUM(AQ55:AX55)-SUM(F55) -> 0
D56: =IF(SUM(K56,M56,O56,Q56,S56,U56,W56,Y56,AA56,AC56,AE56)=0,"",SUM(K56,M56,O56,Q56,S56,U56,W56,Y56,AA56,AC56,AE56)) | F56: =IF(OR(SUM(D56)=0,SUM(E56)=0),"",SUM(D56*E56)) | J56: =IF(SUM(K56,M56,O56,Q56,S56,U56,W56,Y56,AA56,AC56,AE56)-SUM(D56)=0,"","K") | L56: =IF(ISBLANK(K56),"",SUM(K56*$E56)) | N56: =IF(ISBLANK(M56),"",SUM(M56*$E56)) | P56: =IF(ISBLANK(O56),"",SUM(O56*$E56)) | R56: =IF(ISBLANK(Q56),"",SUM(Q56*$E56)) | T56: =IF(ISBLANK(S56),"",SUM(S56*$E56)) | V56: =IF(ISBLANK(U56),"",SUM(U56*$E56)) | X56: =IF(ISBLANK(W56),"",SUM(W56*$E56)) | Z56: =IF(ISBLANK(Y56),"",SUM(Y56*$E56)) | AB56: =IF(ISBLANK(AA56),"",SUM(AA56*$E56)) | AD56: =IF(ISBLANK(AC56),"",SUM(AC56*$E56)) | AF56: =IF(ISBLANK(AE56),"",SUM(AE56*$E56)) | AH56: =IF(IF(ISBLANK($AA56),0,SUM($AB56*$BB$21))+IF(ISBLANK($AC56),0,SUM($AD56*$BC$21))+IF(ISBLANK($AE56),0,SUM($AF56*$BD$21))=0,"",IF(ISBLANK($AA56),0,SUM($AB56*$BB$21))+IF(ISBLANK($AC56),0,SUM($AD56*$BC$21))+IF(ISBLANK($AE56),0,SUM($AF56*$BD$21))) | AI56: =IF(IF(ISBLANK($AA56),0,SUM($AB56*$BB$22))+IF(ISBLANK($AC56),0,SUM($AD56*$BC$22))+IF(ISBLANK($AE56),0,SUM($AF56*$BD$22))=0,"",IF(ISBLANK($AA56),0,SUM($AB56*$BB$22))+IF(ISBLANK($AC56),0,SUM($AD56*$BC$22))+IF(ISBLANK($AE56),0,SUM($AF56*$BD$22))) | AJ56: =IF(IF(ISBLANK($AA56),0,SUM($AB56*$BB$23))+IF(ISBLANK($AC56),0,SUM($AD56*$BC$23))+IF(ISBLANK($AE56),0,SUM($AF56*$BD$23))=0,"",IF(ISBLANK($AA56),0,SUM($AB56*$BB$23))+IF(ISBLANK($AC56),0,SUM($AD56*$BC$23))+IF(ISBLANK($AE56),0,SUM($AF56*$BD$23))) | AK56: =IF(IF(ISBLANK($AA56),0,SUM($AB56*$BB$24))+IF(ISBLANK($AC56),0,SUM($AD56*$BC$24))+IF(ISBLANK($AE56),0,SUM($AF56*$BD$24))=0,"",IF(ISBLANK($AA56),0,SUM($AB56*$BB$24))+IF(ISBLANK($AC56),0,SUM($AD56*$BC$24))+IF(ISBLANK($AE56),0,SUM($AF56*$BD$24))) | AL56: =IF(IF(ISBLANK($AA56),0,SUM($AB56*$BB$25))+IF(ISBLANK($AC56),0,SUM($AD56*$BC$25))+IF(ISBLANK($AE56),0,SUM($AF56*$BD$25))=0,"",IF(ISBLANK($AA56),0,SUM($AB56*$BB$25))+IF(ISBLANK($AC56),0,SUM($AD56*$BC$25))+IF(ISBLANK($AE56),0,SUM($AF56*$BD$25))) | AM56: =IF(IF(ISBLANK($AA56),0,SUM($AB56*$BB$26))+IF(ISBLANK($AC56),0,SUM($AD56*$BC$26))+IF(ISBLANK($AE56),0,SUM($AF56*$BD$26))=0,"",IF(ISBLANK($AA56),0,SUM($AB56*$BB$26))+IF(ISBLANK($AC56),0,SUM($AD56*$BC$26))+IF(ISBLANK($AE56),0,SUM($AF56*$BD$26))) | AN56: =IF(IF(ISBLANK($AA56),0,SUM($AB56*$BB$27))+IF(ISBLANK($AC56),0,SUM($AD56*$BC$27))+IF(ISBLANK($AE56),0,SUM($AF56*$BD$27))=0,"",IF(ISBLANK($AA56),0,SUM($AB56*$BB$27))+IF(ISBLANK($AC56),0,SUM($AD56*$BC$27))+IF(ISBLANK($AE56),0,SUM($AF56*$BD$27))) | AO56: =IF(IF(ISBLANK($AA56),0,SUM($AB56*$BB$28))+IF(ISBLANK($AC56),0,SUM($AD56*$BC$28))+IF(ISBLANK($AE56),0,SUM($AF56*$BD$28))=0,"",IF(ISBLANK($AA56),0,SUM($AB56*$BB$28))+IF(ISBLANK($AC56),0,SUM($AD56*$BC$28))+IF(ISBLANK($AE56),0,SUM($AF56*$BD$28))) | AP56: =IF(SUM(AB56,AD56,AF56)=SUM(AH56:AO56),"","K") | AQ56: =IF(SUM(L56,AH56)=0,"",SUM(L56,AH56)) | AR56: =IF(SUM(N56,AI56)=0,"",SUM(N56,AI56)) | AS56: =IF(SUM(P56,AJ56)=0,"",SUM(P56,AJ56)) | AT56: =IF(SUM(R56,AK56)=0,"",SUM(R56,AK56)) | AU56: =IF(SUM(T56,AL56)=0,"",SUM(T56,AL56)) | AV56: =IF(SUM(V56,AM56)=0,"",SUM(V56,AM56)) | AW56: =IF(SUM(X56,AN56)=0,"",SUM(X56,AN56)) | AX56: =IF(SUM(Z56,AO56)=0,"",SUM(Z56,AO56)) | AY56: =SUM(AQ56:AX56)-SUM(F56) -> 0
D57: =IF(SUM(K57,M57,O57,Q57,S57,U57,W57,Y57,AA57,AC57,AE57)=0,"",SUM(K57,M57,O57,Q57,S57,U57,W57,Y57,AA57,AC57,AE57)) | F57: =IF(OR(SUM(D57)=0,SUM(E57)=0),"",SUM(D57*E57)) | J57: =IF(SUM(K57,M57,O57,Q57,S57,U57,W57,Y57,AA57,AC57,AE57)-SUM(D57)=0,"","K") | L57: =IF(ISBLANK(K57),"",SUM(K57*$E57)) | N57: =IF(ISBLANK(M57),"",SUM(M57*$E57)) | P57: =IF(ISBLANK(O57),"",SUM(O57*$E57)) | R57: =IF(ISBLANK(Q57),"",SUM(Q57*$E57)) | T57: =IF(ISBLANK(S57),"",SUM(S57*$E57)) | V57: =IF(ISBLANK(U57),"",SUM(U57*$E57)) | X57: =IF(ISBLANK(W57),"",SUM(W57*$E57)) | Z57: =IF(ISBLANK(Y57),"",SUM(Y57*$E57)) | AB57: =IF(ISBLANK(AA57),"",SUM(AA57*$E57)) | AD57: =IF(ISBLANK(AC57),"",SUM(AC57*$E57)) | AF57: =IF(ISBLANK(AE57),"",SUM(AE57*$E57)) | AH57: =IF(IF(ISBLANK($AA57),0,SUM($AB57*$BB$21))+IF(ISBLANK($AC57),0,SUM($AD57*$BC$21))+IF(ISBLANK($AE57),0,SUM($AF57*$BD$21))=0,"",IF(ISBLANK($AA57),0,SUM($AB57*$BB$21))+IF(ISBLANK($AC57),0,SUM($AD57*$BC$21))+IF(ISBLANK($AE57),0,SUM($AF57*$BD$21))) | AI57: =IF(IF(ISBLANK($AA57),0,SUM($AB57*$BB$22))+IF(ISBLANK($AC57),0,SUM($AD57*$BC$22))+IF(ISBLANK($AE57),0,SUM($AF57*$BD$22))=0,"",IF(ISBLANK($AA57),0,SUM($AB57*$BB$22))+IF(ISBLANK($AC57),0,SUM($AD57*$BC$22))+IF(ISBLANK($AE57),0,SUM($AF57*$BD$22))) | AJ57: =IF(IF(ISBLANK($AA57),0,SUM($AB57*$BB$23))+IF(ISBLANK($AC57),0,SUM($AD57*$BC$23))+IF(ISBLANK($AE57),0,SUM($AF57*$BD$23))=0,"",IF(ISBLANK($AA57),0,SUM($AB57*$BB$23))+IF(ISBLANK($AC57),0,SUM($AD57*$BC$23))+IF(ISBLANK($AE57),0,SUM($AF57*$BD$23))) | AK57: =IF(IF(ISBLANK($AA57),0,SUM($AB57*$BB$24))+IF(ISBLANK($AC57),0,SUM($AD57*$BC$24))+IF(ISBLANK($AE57),0,SUM($AF57*$BD$24))=0,"",IF(ISBLANK($AA57),0,SUM($AB57*$BB$24))+IF(ISBLANK($AC57),0,SUM($AD57*$BC$24))+IF(ISBLANK($AE57),0,SUM($AF57*$BD$24))) | AL57: =IF(IF(ISBLANK($AA57),0,SUM($AB57*$BB$25))+IF(ISBLANK($AC57),0,SUM($AD57*$BC$25))+IF(ISBLANK($AE57),0,SUM($AF57*$BD$25))=0,"",IF(ISBLANK($AA57),0,SUM($AB57*$BB$25))+IF(ISBLANK($AC57),0,SUM($AD57*$BC$25))+IF(ISBLANK($AE57),0,SUM($AF57*$BD$25))) | AM57: =IF(IF(ISBLANK($AA57),0,SUM($AB57*$BB$26))+IF(ISBLANK($AC57),0,SUM($AD57*$BC$26))+IF(ISBLANK($AE57),0,SUM($AF57*$BD$26))=0,"",IF(ISBLANK($AA57),0,SUM($AB57*$BB$26))+IF(ISBLANK($AC57),0,SUM($AD57*$BC$26))+IF(ISBLANK($AE57),0,SUM($AF57*$BD$26))) | AN57: =IF(IF(ISBLANK($AA57),0,SUM($AB57*$BB$27))+IF(ISBLANK($AC57),0,SUM($AD57*$BC$27))+IF(ISBLANK($AE57),0,SUM($AF57*$BD$27))=0,"",IF(ISBLANK($AA57),0,SUM($AB57*$BB$27))+IF(ISBLANK($AC57),0,SUM($AD57*$BC$27))+IF(ISBLANK($AE57),0,SUM($AF57*$BD$27))) | AO57: =IF(IF(ISBLANK($AA57),0,SUM($AB57*$BB$28))+IF(ISBLANK($AC57),0,SUM($AD57*$BC$28))+IF(ISBLANK($AE57),0,SUM($AF57*$BD$28))=0,"",IF(ISBLANK($AA57),0,SUM($AB57*$BB$28))+IF(ISBLANK($AC57),0,SUM($AD57*$BC$28))+IF(ISBLANK($AE57),0,SUM($AF57*$BD$28))) | AP57: =IF(SUM(AB57,AD57,AF57)=SUM(AH57:AO57),"","K") | AQ57: =IF(SUM(L57,AH57)=0,"",SUM(L57,AH57)) | AR57: =IF(SUM(N57,AI57)=0,"",SUM(N57,AI57)) | AS57: =IF(SUM(P57,AJ57)=0,"",SUM(P57,AJ57)) | AT57: =IF(SUM(R57,AK57)=0,"",SUM(R57,AK57)) | AU57: =IF(SUM(T57,AL57)=0,"",SUM(T57,AL57)) | AV57: =IF(SUM(V57,AM57)=0,"",SUM(V57,AM57)) | AW57: =IF(SUM(X57,AN57)=0,"",SUM(X57,AN57)) | AX57: =IF(SUM(Z57,AO57)=0,"",SUM(Z57,AO57)) | AY57: =SUM(AQ57:AX57)-SUM(F57) -> 0
D58: =IF(SUM(K58,M58,O58,Q58,S58,U58,W58,Y58,AA58,AC58,AE58)=0,"",SUM(K58,M58,O58,Q58,S58,U58,W58,Y58,AA58,AC58,AE58)) | F58: =IF(OR(SUM(D58)=0,SUM(E58)=0),"",SUM(D58*E58)) | J58: =IF(SUM(K58,M58,O58,Q58,S58,U58,W58,Y58,AA58,AC58,AE58)-SUM(D58)=0,"","K") | L58: =IF(ISBLANK(K58),"",SUM(K58*$E58)) | N58: =IF(ISBLANK(M58),"",SUM(M58*$E58)) | P58: =IF(ISBLANK(O58),"",SUM(O58*$E58)) | R58: =IF(ISBLANK(Q58),"",SUM(Q58*$E58)) | T58: =IF(ISBLANK(S58),"",SUM(S58*$E58)) | V58: =IF(ISBLANK(U58),"",SUM(U58*$E58)) | X58: =IF(ISBLANK(W58),"",SUM(W58*$E58)) | Z58: =IF(ISBLANK(Y58),"",SUM(Y58*$E58)) | AB58: =IF(ISBLANK(AA58),"",SUM(AA58*$E58)) | AD58: =IF(ISBLANK(AC58),"",SUM(AC58*$E58)) | AF58: =IF(ISBLANK(AE58),"",SUM(AE58*$E58)) | AH58: =IF(IF(ISBLANK($AA58),0,SUM($AB58*$BB$21))+IF(ISBLANK($AC58),0,SUM($AD58*$BC$21))+IF(ISBLANK($AE58),0,SUM($AF58*$BD$21))=0,"",IF(ISBLANK($AA58),0,SUM($AB58*$BB$21))+IF(ISBLANK($AC58),0,SUM($AD58*$BC$21))+IF(ISBLANK($AE58),0,SUM($AF58*$BD$21))) | AI58: =IF(IF(ISBLANK($AA58),0,SUM($AB58*$BB$22))+IF(ISBLANK($AC58),0,SUM($AD58*$BC$22))+IF(ISBLANK($AE58),0,SUM($AF58*$BD$22))=0,"",IF(ISBLANK($AA58),0,SUM($AB58*$BB$22))+IF(ISBLANK($AC58),0,SUM($AD58*$BC$22))+IF(ISBLANK($AE58),0,SUM($AF58*$BD$22))) | AJ58: =IF(IF(ISBLANK($AA58),0,SUM($AB58*$BB$23))+IF(ISBLANK($AC58),0,SUM($AD58*$BC$23))+IF(ISBLANK($AE58),0,SUM($AF58*$BD$23))=0,"",IF(ISBLANK($AA58),0,SUM($AB58*$BB$23))+IF(ISBLANK($AC58),0,SUM($AD58*$BC$23))+IF(ISBLANK($AE58),0,SUM($AF58*$BD$23))) | AK58: =IF(IF(ISBLANK($AA58),0,SUM($AB58*$BB$24))+IF(ISBLANK($AC58),0,SUM($AD58*$BC$24))+IF(ISBLANK($AE58),0,SUM($AF58*$BD$24))=0,"",IF(ISBLANK($AA58),0,SUM($AB58*$BB$24))+IF(ISBLANK($AC58),0,SUM($AD58*$BC$24))+IF(ISBLANK($AE58),0,SUM($AF58*$BD$24))) | AL58: =IF(IF(ISBLANK($AA58),0,SUM($AB58*$BB$25))+IF(ISBLANK($AC58),0,SUM($AD58*$BC$25))+IF(ISBLANK($AE58),0,SUM($AF58*$BD$25))=0,"",IF(ISBLANK($AA58),0,SUM($AB58*$BB$25))+IF(ISBLANK($AC58),0,SUM($AD58*$BC$25))+IF(ISBLANK($AE58),0,SUM($AF58*$BD$25))) | AM58: =IF(IF(ISBLANK($AA58),0,SUM($AB58*$BB$26))+IF(ISBLANK($AC58),0,SUM($AD58*$BC$26))+IF(ISBLANK($AE58),0,SUM($AF58*$BD$26))=0,"",IF(ISBLANK($AA58),0,SUM($AB58*$BB$26))+IF(ISBLANK($AC58),0,SUM($AD58*$BC$26))+IF(ISBLANK($AE58),0,SUM($AF58*$BD$26))) | AN58: =IF(IF(ISBLANK($AA58),0,SUM($AB58*$BB$27))+IF(ISBLANK($AC58),0,SUM($AD58*$BC$27))+IF(ISBLANK($AE58),0,SUM($AF58*$BD$27))=0,"",IF(ISBLANK($AA58),0,SUM($AB58*$BB$27))+IF(ISBLANK($AC58),0,SUM($AD58*$BC$27))+IF(ISBLANK($AE58),0,SUM($AF58*$BD$27))) | AO58: =IF(IF(ISBLANK($AA58),0,SUM($AB58*$BB$28))+IF(ISBLANK($AC58),0,SUM($AD58*$BC$28))+IF(ISBLANK($AE58),0,SUM($AF58*$BD$28))=0,"",IF(ISBLANK($AA58),0,SUM($AB58*$BB$28))+IF(ISBLANK($AC58),0,SUM($AD58*$BC$28))+IF(ISBLANK($AE58),0,SUM($AF58*$BD$28))) | AP58: =IF(SUM(AB58,AD58,AF58)=SUM(AH58:AO58),"","K") | AQ58: =IF(SUM(L58,AH58)=0,"",SUM(L58,AH58)) | AR58: =IF(SUM(N58,AI58)=0,"",SUM(N58,AI58)) | AS58: =IF(SUM(P58,AJ58)=0,"",SUM(P58,AJ58)) | AT58: =IF(SUM(R58,AK58)=0,"",SUM(R58,AK58)) | AU58: =IF(SUM(T58,AL58)=0,"",SUM(T58,AL58)) | AV58: =IF(SUM(V58,AM58)=0,"",SUM(V58,AM58)) | AW58: =IF(SUM(X58,AN58)=0,"",SUM(X58,AN58)) | AX58: =IF(SUM(Z58,AO58)=0,"",SUM(Z58,AO58)) | AY58: =SUM(AQ58:AX58)-SUM(F58) -> 0
D59: =IF(SUM(K59,M59,O59,Q59,S59,U59,W59,Y59,AA59,AC59,AE59)=0,"",SUM(K59,M59,O59,Q59,S59,U59,W59,Y59,AA59,AC59,AE59)) | F59: =IF(OR(SUM(D59)=0,SUM(E59)=0),"",SUM(D59*E59)) | J59: =IF(SUM(K59,M59,O59,Q59,S59,U59,W59,Y59,AA59,AC59,AE59)-SUM(D59)=0,"","K") | L59: =IF(ISBLANK(K59),"",SUM(K59*$E59)) | N59: =IF(ISBLANK(M59),"",SUM(M59*$E59)) | P59: =IF(ISBLANK(O59),"",SUM(O59*$E59)) | R59: =IF(ISBLANK(Q59),"",SUM(Q59*$E59)) | T59: =IF(ISBLANK(S59),"",SUM(S59*$E59)) | V59: =IF(ISBLANK(U59),"",SUM(U59*$E59)) | X59: =IF(ISBLANK(W59),"",SUM(W59*$E59)) | Z59: =IF(ISBLANK(Y59),"",SUM(Y59*$E59)) | AB59: =IF(ISBLANK(AA59),"",SUM(AA59*$E59)) | AD59: =IF(ISBLANK(AC59),"",SUM(AC59*$E59)) | AF59: =IF(ISBLANK(AE59),"",SUM(AE59*$E59)) | AH59: =IF(IF(ISBLANK($AA59),0,SUM($AB59*$BB$21))+IF(ISBLANK($AC59),0,SUM($AD59*$BC$21))+IF(ISBLANK($AE59),0,SUM($AF59*$BD$21))=0,"",IF(ISBLANK($AA59),0,SUM($AB59*$BB$21))+IF(ISBLANK($AC59),0,SUM($AD59*$BC$21))+IF(ISBLANK($AE59),0,SUM($AF59*$BD$21))) | AI59: =IF(IF(ISBLANK($AA59),0,SUM($AB59*$BB$22))+IF(ISBLANK($AC59),0,SUM($AD59*$BC$22))+IF(ISBLANK($AE59),0,SUM($AF59*$BD$22))=0,"",IF(ISBLANK($AA59),0,SUM($AB59*$BB$22))+IF(ISBLANK($AC59),0,SUM($AD59*$BC$22))+IF(ISBLANK($AE59),0,SUM($AF59*$BD$22))) | AJ59: =IF(IF(ISBLANK($AA59),0,SUM($AB59*$BB$23))+IF(ISBLANK($AC59),0,SUM($AD59*$BC$23))+IF(ISBLANK($AE59),0,SUM($AF59*$BD$23))=0,"",IF(ISBLANK($AA59),0,SUM($AB59*$BB$23))+IF(ISBLANK($AC59),0,SUM($AD59*$BC$23))+IF(ISBLANK($AE59),0,SUM($AF59*$BD$23))) | AK59: =IF(IF(ISBLANK($AA59),0,SUM($AB59*$BB$24))+IF(ISBLANK($AC59),0,SUM($AD59*$BC$24))+IF(ISBLANK($AE59),0,SUM($AF59*$BD$24))=0,"",IF(ISBLANK($AA59),0,SUM($AB59*$BB$24))+IF(ISBLANK($AC59),0,SUM($AD59*$BC$24))+IF(ISBLANK($AE59),0,SUM($AF59*$BD$24))) | AL59: =IF(IF(ISBLANK($AA59),0,SUM($AB59*$BB$25))+IF(ISBLANK($AC59),0,SUM($AD59*$BC$25))+IF(ISBLANK($AE59),0,SUM($AF59*$BD$25))=0,"",IF(ISBLANK($AA59),0,SUM($AB59*$BB$25))+IF(ISBLANK($AC59),0,SUM($AD59*$BC$25))+IF(ISBLANK($AE59),0,SUM($AF59*$BD$25))) | AM59: =IF(IF(ISBLANK($AA59),0,SUM($AB59*$BB$26))+IF(ISBLANK($AC59),0,SUM($AD59*$BC$26))+IF(ISBLANK($AE59),0,SUM($AF59*$BD$26))=0,"",IF(ISBLANK($AA59),0,SUM($AB59*$BB$26))+IF(ISBLANK($AC59),0,SUM($AD59*$BC$26))+IF(ISBLANK($AE59),0,SUM($AF59*$BD$26))) | AN59: =IF(IF(ISBLANK($AA59),0,SUM($AB59*$BB$27))+IF(ISBLANK($AC59),0,SUM($AD59*$BC$27))+IF(ISBLANK($AE59),0,SUM($AF59*$BD$27))=0,"",IF(ISBLANK($AA59),0,SUM($AB59*$BB$27))+IF(ISBLANK($AC59),0,SUM($AD59*$BC$27))+IF(ISBLANK($AE59),0,SUM($AF59*$BD$27))) | AO59: =IF(IF(ISBLANK($AA59),0,SUM($AB59*$BB$28))+IF(ISBLANK($AC59),0,SUM($AD59*$BC$28))+IF(ISBLANK($AE59),0,SUM($AF59*$BD$28))=0,"",IF(ISBLANK($AA59),0,SUM($AB59*$BB$28))+IF(ISBLANK($AC59),0,SUM($AD59*$BC$28))+IF(ISBLANK($AE59),0,SUM($AF59*$BD$28))) | AP59: =IF(SUM(AB59,AD59,AF59)=SUM(AH59:AO59),"","K") | AQ59: =IF(SUM(L59,AH59)=0,"",SUM(L59,AH59)) | AR59: =IF(SUM(N59,AI59)=0,"",SUM(N59,AI59)) | AS59: =IF(SUM(P59,AJ59)=0,"",SUM(P59,AJ59)) | AT59: =IF(SUM(R59,AK59)=0,"",SUM(R59,AK59)) | AU59: =IF(SUM(T59,AL59)=0,"",SUM(T59,AL59)) | AV59: =IF(SUM(V59,AM59)=0,"",SUM(V59,AM59)) | AW59: =IF(SUM(X59,AN59)=0,"",SUM(X59,AN59)) | AX59: =IF(SUM(Z59,AO59)=0,"",SUM(Z59,AO59)) | AY59: =SUM(AQ59:AX59)-SUM(F59) -> 0
D60: =IF(SUM(K60,M60,O60,Q60,S60,U60,W60,Y60,AA60,AC60,AE60)=0,"",SUM(K60,M60,O60,Q60,S60,U60,W60,Y60,AA60,AC60,AE60)) | F60: =IF(OR(SUM(D60)=0,SUM(E60)=0),"",SUM(D60*E60)) | J60: =IF(SUM(K60,M60,O60,Q60,S60,U60,W60,Y60,AA60,AC60,AE60)-SUM(D60)=0,"","K") | L60: =IF(ISBLANK(K60),"",SUM(K60*$E60)) | N60: =IF(ISBLANK(M60),"",SUM(M60*$E60)) | P60: =IF(ISBLANK(O60),"",SUM(O60*$E60)) | R60: =IF(ISBLANK(Q60),"",SUM(Q60*$E60)) | T60: =IF(ISBLANK(S60),"",SUM(S60*$E60)) | V60: =IF(ISBLANK(U60),"",SUM(U60*$E60)) | X60: =IF(ISBLANK(W60),"",SUM(W60*$E60)) | Z60: =IF(ISBLANK(Y60),"",SUM(Y60*$E60)) | AB60: =IF(ISBLANK(AA60),"",SUM(AA60*$E60)) | AD60: =IF(ISBLANK(AC60),"",SUM(AC60*$E60)) | AF60: =IF(ISBLANK(AE60),"",SUM(AE60*$E60)) | AH60: =IF(IF(ISBLANK($AA60),0,SUM($AB60*$BB$21))+IF(ISBLANK($AC60),0,SUM($AD60*$BC$21))+IF(ISBLANK($AE60),0,SUM($AF60*$BD$21))=0,"",IF(ISBLANK($AA60),0,SUM($AB60*$BB$21))+IF(ISBLANK($AC60),0,SUM($AD60*$BC$21))+IF(ISBLANK($AE60),0,SUM($AF60*$BD$21))) | AI60: =IF(IF(ISBLANK($AA60),0,SUM($AB60*$BB$22))+IF(ISBLANK($AC60),0,SUM($AD60*$BC$22))+IF(ISBLANK($AE60),0,SUM($AF60*$BD$22))=0,"",IF(ISBLANK($AA60),0,SUM($AB60*$BB$22))+IF(ISBLANK($AC60),0,SUM($AD60*$BC$22))+IF(ISBLANK($AE60),0,SUM($AF60*$BD$22))) | AJ60: =IF(IF(ISBLANK($AA60),0,SUM($AB60*$BB$23))+IF(ISBLANK($AC60),0,SUM($AD60*$BC$23))+IF(ISBLANK($AE60),0,SUM($AF60*$BD$23))=0,"",IF(ISBLANK($AA60),0,SUM($AB60*$BB$23))+IF(ISBLANK($AC60),0,SUM($AD60*$BC$23))+IF(ISBLANK($AE60),0,SUM($AF60*$BD$23))) | AK60: =IF(IF(ISBLANK($AA60),0,SUM($AB60*$BB$24))+IF(ISBLANK($AC60),0,SUM($AD60*$BC$24))+IF(ISBLANK($AE60),0,SUM($AF60*$BD$24))=0,"",IF(ISBLANK($AA60),0,SUM($AB60*$BB$24))+IF(ISBLANK($AC60),0,SUM($AD60*$BC$24))+IF(ISBLANK($AE60),0,SUM($AF60*$BD$24))) | AL60: =IF(IF(ISBLANK($AA60),0,SUM($AB60*$BB$25))+IF(ISBLANK($AC60),0,SUM($AD60*$BC$25))+IF(ISBLANK($AE60),0,SUM($AF60*$BD$25))=0,"",IF(ISBLANK($AA60),0,SUM($AB60*$BB$25))+IF(ISBLANK($AC60),0,SUM($AD60*$BC$25))+IF(ISBLANK($AE60),0,SUM($AF60*$BD$25))) | AM60: =IF(IF(ISBLANK($AA60),0,SUM($AB60*$BB$26))+IF(ISBLANK($AC60),0,SUM($AD60*$BC$26))+IF(ISBLANK($AE60),0,SUM($AF60*$BD$26))=0,"",IF(ISBLANK($AA60),0,SUM($AB60*$BB$26))+IF(ISBLANK($AC60),0,SUM($AD60*$BC$26))+IF(ISBLANK($AE60),0,SUM($AF60*$BD$26))) | AN60: =IF(IF(ISBLANK($AA60),0,SUM($AB60*$BB$27))+IF(ISBLANK($AC60),0,SUM($AD60*$BC$27))+IF(ISBLANK($AE60),0,SUM($AF60*$BD$27))=0,"",IF(ISBLANK($AA60),0,SUM($AB60*$BB$27))+IF(ISBLANK($AC60),0,SUM($AD60*$BC$27))+IF(ISBLANK($AE60),0,SUM($AF60*$BD$27))) | AO60: =IF(IF(ISBLANK($AA60),0,SUM($AB60*$BB$28))+IF(ISBLANK($AC60),0,SUM($AD60*$BC$28))+IF(ISBLANK($AE60),0,SUM($AF60*$BD$28))=0,"",IF(ISBLANK($AA60),0,SUM($AB60*$BB$28))+IF(ISBLANK($AC60),0,SUM($AD60*$BC$28))+IF(ISBLANK($AE60),0,SUM($AF60*$BD$28))) | AP60: =IF(SUM(AB60,AD60,AF60)=SUM(AH60:AO60),"","K") | AQ60: =IF(SUM(L60,AH60)=0,"",SUM(L60,AH60)) | AR60: =IF(SUM(N60,AI60)=0,"",SUM(N60,AI60)) | AS60: =IF(SUM(P60,AJ60)=0,"",SUM(P60,AJ60)) | AT60: =IF(SUM(R60,AK60)=0,"",SUM(R60,AK60)) | AU60: =IF(SUM(T60,AL60)=0,"",SUM(T60,AL60)) | AV60: =IF(SUM(V60,AM60)=0,"",SUM(V60,AM60)) | AW60: =IF(SUM(X60,AN60)=0,"",SUM(X60,AN60)) | AX60: =IF(SUM(Z60,AO60)=0,"",SUM(Z60,AO60)) | AY60: =SUM(AQ60:AX60)-SUM(F60) -> 0
D61: =IF(SUM(K61,M61,O61,Q61,S61,U61,W61,Y61,AA61,AC61,AE61)=0,"",SUM(K61,M61,O61,Q61,S61,U61,W61,Y61,AA61,AC61,AE61)) | F61: =IF(OR(SUM(D61)=0,SUM(E61)=0),"",SUM(D61*E61)) | J61: =IF(SUM(K61,M61,O61,Q61,S61,U61,W61,Y61,AA61,AC61,AE61)-SUM(D61)=0,"","K") | L61: =IF(ISBLANK(K61),"",SUM(K61*$E61)) | N61: =IF(ISBLANK(M61),"",SUM(M61*$E61)) | P61: =IF(ISBLANK(O61),"",SUM(O61*$E61)) | R61: =IF(ISBLANK(Q61),"",SUM(Q61*$E61)) | T61: =IF(ISBLANK(S61),"",SUM(S61*$E61)) | V61: =IF(ISBLANK(U61),"",SUM(U61*$E61)) | X61: =IF(ISBLANK(W61),"",SUM(W61*$E61)) | Z61: =IF(ISBLANK(Y61),"",SUM(Y61*$E61)) | AB61: =IF(ISBLANK(AA61),"",SUM(AA61*$E61)) | AD61: =IF(ISBLANK(AC61),"",SUM(AC61*$E61)) | AF61: =IF(ISBLANK(AE61),"",SUM(AE61*$E61)) | AH61: =IF(IF(ISBLANK($AA61),0,SUM($AB61*$BB$21))+IF(ISBLANK($AC61),0,SUM($AD61*$BC$21))+IF(ISBLANK($AE61),0,SUM($AF61*$BD$21))=0,"",IF(ISBLANK($AA61),0,SUM($AB61*$BB$21))+IF(ISBLANK($AC61),0,SUM($AD61*$BC$21))+IF(ISBLANK($AE61),0,SUM($AF61*$BD$21))) | AI61: =IF(IF(ISBLANK($AA61),0,SUM($AB61*$BB$22))+IF(ISBLANK($AC61),0,SUM($AD61*$BC$22))+IF(ISBLANK($AE61),0,SUM($AF61*$BD$22))=0,"",IF(ISBLANK($AA61),0,SUM($AB61*$BB$22))+IF(ISBLANK($AC61),0,SUM($AD61*$BC$22))+IF(ISBLANK($AE61),0,SUM($AF61*$BD$22))) | AJ61: =IF(IF(ISBLANK($AA61),0,SUM($AB61*$BB$23))+IF(ISBLANK($AC61),0,SUM($AD61*$BC$23))+IF(ISBLANK($AE61),0,SUM($AF61*$BD$23))=0,"",IF(ISBLANK($AA61),0,SUM($AB61*$BB$23))+IF(ISBLANK($AC61),0,SUM($AD61*$BC$23))+IF(ISBLANK($AE61),0,SUM($AF61*$BD$23))) | AK61: =IF(IF(ISBLANK($AA61),0,SUM($AB61*$BB$24))+IF(ISBLANK($AC61),0,SUM($AD61*$BC$24))+IF(ISBLANK($AE61),0,SUM($AF61*$BD$24))=0,"",IF(ISBLANK($AA61),0,SUM($AB61*$BB$24))+IF(ISBLANK($AC61),0,SUM($AD61*$BC$24))+IF(ISBLANK($AE61),0,SUM($AF61*$BD$24))) | AL61: =IF(IF(ISBLANK($AA61),0,SUM($AB61*$BB$25))+IF(ISBLANK($AC61),0,SUM($AD61*$BC$25))+IF(ISBLANK($AE61),0,SUM($AF61*$BD$25))=0,"",IF(ISBLANK($AA61),0,SUM($AB61*$BB$25))+IF(ISBLANK($AC61),0,SUM($AD61*$BC$25))+IF(ISBLANK($AE61),0,SUM($AF61*$BD$25))) | AM61: =IF(IF(ISBLANK($AA61),0,SUM($AB61*$BB$26))+IF(ISBLANK($AC61),0,SUM($AD61*$BC$26))+IF(ISBLANK($AE61),0,SUM($AF61*$BD$26))=0,"",IF(ISBLANK($AA61),0,SUM($AB61*$BB$26))+IF(ISBLANK($AC61),0,SUM($AD61*$BC$26))+IF(ISBLANK($AE61),0,SUM($AF61*$BD$26))) | AN61: =IF(IF(ISBLANK($AA61),0,SUM($AB61*$BB$27))+IF(ISBLANK($AC61),0,SUM($AD61*$BC$27))+IF(ISBLANK($AE61),0,SUM($AF61*$BD$27))=0,"",IF(ISBLANK($AA61),0,SUM($AB61*$BB$27))+IF(ISBLANK($AC61),0,SUM($AD61*$BC$27))+IF(ISBLANK($AE61),0,SUM($AF61*$BD$27))) | AO61: =IF(IF(ISBLANK($AA61),0,SUM($AB61*$BB$28))+IF(ISBLANK($AC61),0,SUM($AD61*$BC$28))+IF(ISBLANK($AE61),0,SUM($AF61*$BD$28))=0,"",IF(ISBLANK($AA61),0,SUM($AB61*$BB$28))+IF(ISBLANK($AC61),0,SUM($AD61*$BC$28))+IF(ISBLANK($AE61),0,SUM($AF61*$BD$28))) | AP61: =IF(SUM(AB61,AD61,AF61)=SUM(AH61:AO61),"","K") | AQ61: =IF(SUM(L61,AH61)=0,"",SUM(L61,AH61)) | AR61: =IF(SUM(N61,AI61)=0,"",SUM(N61,AI61)) | AS61: =IF(SUM(P61,AJ61)=0,"",SUM(P61,AJ61)) | AT61: =IF(SUM(R61,AK61)=0,"",SUM(R61,AK61)) | AU61: =IF(SUM(T61,AL61)=0,"",SUM(T61,AL61)) | AV61: =IF(SUM(V61,AM61)=0,"",SUM(V61,AM61)) | AW61: =IF(SUM(X61,AN61)=0,"",SUM(X61,AN61)) | AX61: =IF(SUM(Z61,AO61)=0,"",SUM(Z61,AO61)) | AY61: =SUM(AQ61:AX61)-SUM(F61) -> 0
D62: =IF(SUM(K62,M62,O62,Q62,S62,U62,W62,Y62,AA62,AC62,AE62)=0,"",SUM(K62,M62,O62,Q62,S62,U62,W62,Y62,AA62,AC62,AE62)) | F62: =IF(OR(SUM(D62)=0,SUM(E62)=0),"",SUM(D62*E62)) | J62: =IF(SUM(K62,M62,O62,Q62,S62,U62,W62,Y62,AA62,AC62,AE62)-SUM(D62)=0,"","K") | L62: =IF(ISBLANK(K62),"",SUM(K62*$E62)) | N62: =IF(ISBLANK(M62),"",SUM(M62*$E62)) | P62: =IF(ISBLANK(O62),"",SUM(O62*$E62)) | R62: =IF(ISBLANK(Q62),"",SUM(Q62*$E62)) | T62: =IF(ISBLANK(S62),"",SUM(S62*$E62)) | V62: =IF(ISBLANK(U62),"",SUM(U62*$E62)) | X62: =IF(ISBLANK(W62),"",SUM(W62*$E62)) | Z62: =IF(ISBLANK(Y62),"",SUM(Y62*$E62)) | AB62: =IF(ISBLANK(AA62),"",SUM(AA62*$E62)) | AD62: =IF(ISBLANK(AC62),"",SUM(AC62*$E62)) | AF62: =IF(ISBLANK(AE62),"",SUM(AE62*$E62)) | AH62: =IF(IF(ISBLANK($AA62),0,SUM($AB62*$BB$21))+IF(ISBLANK($AC62),0,SUM($AD62*$BC$21))+IF(ISBLANK($AE62),0,SUM($AF62*$BD$21))=0,"",IF(ISBLANK($AA62),0,SUM($AB62*$BB$21))+IF(ISBLANK($AC62),0,SUM($AD62*$BC$21))+IF(ISBLANK($AE62),0,SUM($AF62*$BD$21))) | AI62: =IF(IF(ISBLANK($AA62),0,SUM($AB62*$BB$22))+IF(ISBLANK($AC62),0,SUM($AD62*$BC$22))+IF(ISBLANK($AE62),0,SUM($AF62*$BD$22))=0,"",IF(ISBLANK($AA62),0,SUM($AB62*$BB$22))+IF(ISBLANK($AC62),0,SUM($AD62*$BC$22))+IF(ISBLANK($AE62),0,SUM($AF62*$BD$22))) | AJ62: =IF(IF(ISBLANK($AA62),0,SUM($AB62*$BB$23))+IF(ISBLANK($AC62),0,SUM($AD62*$BC$23))+IF(ISBLANK($AE62),0,SUM($AF62*$BD$23))=0,"",IF(ISBLANK($AA62),0,SUM($AB62*$BB$23))+IF(ISBLANK($AC62),0,SUM($AD62*$BC$23))+IF(ISBLANK($AE62),0,SUM($AF62*$BD$23))) | AK62: =IF(IF(ISBLANK($AA62),0,SUM($AB62*$BB$24))+IF(ISBLANK($AC62),0,SUM($AD62*$BC$24))+IF(ISBLANK($AE62),0,SUM($AF62*$BD$24))=0,"",IF(ISBLANK($AA62),0,SUM($AB62*$BB$24))+IF(ISBLANK($AC62),0,SUM($AD62*$BC$24))+IF(ISBLANK($AE62),0,SUM($AF62*$BD$24))) | AL62: =IF(IF(ISBLANK($AA62),0,SUM($AB62*$BB$25))+IF(ISBLANK($AC62),0,SUM($AD62*$BC$25))+IF(ISBLANK($AE62),0,SUM($AF62*$BD$25))=0,"",IF(ISBLANK($AA62),0,SUM($AB62*$BB$25))+IF(ISBLANK($AC62),0,SUM($AD62*$BC$25))+IF(ISBLANK($AE62),0,SUM($AF62*$BD$25))) | AM62: =IF(IF(ISBLANK($AA62),0,SUM($AB62*$BB$26))+IF(ISBLANK($AC62),0,SUM($AD62*$BC$26))+IF(ISBLANK($AE62),0,SUM($AF62*$BD$26))=0,"",IF(ISBLANK($AA62),0,SUM($AB62*$BB$26))+IF(ISBLANK($AC62),0,SUM($AD62*$BC$26))+IF(ISBLANK($AE62),0,SUM($AF62*$BD$26))) | AN62: =IF(IF(ISBLANK($AA62),0,SUM($AB62*$BB$27))+IF(ISBLANK($AC62),0,SUM($AD62*$BC$27))+IF(ISBLANK($AE62),0,SUM($AF62*$BD$27))=0,"",IF(ISBLANK($AA62),0,SUM($AB62*$BB$27))+IF(ISBLANK($AC62),0,SUM($AD62*$BC$27))+IF(ISBLANK($AE62),0,SUM($AF62*$BD$27))) | AO62: =IF(IF(ISBLANK($AA62),0,SUM($AB62*$BB$28))+IF(ISBLANK($AC62),0,SUM($AD62*$BC$28))+IF(ISBLANK($AE62),0,SUM($AF62*$BD$28))=0,"",IF(ISBLANK($AA62),0,SUM($AB62*$BB$28))+IF(ISBLANK($AC62),0,SUM($AD62*$BC$28))+IF(ISBLANK($AE62),0,SUM($AF62*$BD$28))) | AP62: =IF(SUM(AB62,AD62,AF62)=SUM(AH62:AO62),"","K") | AQ62: =IF(SUM(L62,AH62)=0,"",SUM(L62,AH62)) | AR62: =IF(SUM(N62,AI62)=0,"",SUM(N62,AI62)) | AS62: =IF(SUM(P62,AJ62)=0,"",SUM(P62,AJ62)) | AT62: =IF(SUM(R62,AK62)=0,"",SUM(R62,AK62)) | AU62: =IF(SUM(T62,AL62)=0,"",SUM(T62,AL62)) | AV62: =IF(SUM(V62,AM62)=0,"",SUM(V62,AM62)) | AW62: =IF(SUM(X62,AN62)=0,"",SUM(X62,AN62)) | AX62: =IF(SUM(Z62,AO62)=0,"",SUM(Z62,AO62)) | AY62: =SUM(AQ62:AX62)-SUM(F62) -> 0
D63: =IF(SUM(K63,M63,O63,Q63,S63,U63,W63,Y63,AA63,AC63,AE63)=0,"",SUM(K63,M63,O63,Q63,S63,U63,W63,Y63,AA63,AC63,AE63)) | F63: =IF(OR(SUM(D63)=0,SUM(E63)=0),"",SUM(D63*E63)) | J63: =IF(SUM(K63,M63,O63,Q63,S63,U63,W63,Y63,AA63,AC63,AE63)-SUM(D63)=0,"","K") | L63: =IF(ISBLANK(K63),"",SUM(K63*$E63)) | N63: =IF(ISBLANK(M63),"",SUM(M63*$E63)) | P63: =IF(ISBLANK(O63),"",SUM(O63*$E63)) | R63: =IF(ISBLANK(Q63),"",SUM(Q63*$E63)) | T63: =IF(ISBLANK(S63),"",SUM(S63*$E63)) | V63: =IF(ISBLANK(U63),"",SUM(U63*$E63)) | X63: =IF(ISBLANK(W63),"",SUM(W63*$E63)) | Z63: =IF(ISBLANK(Y63),"",SUM(Y63*$E63)) | AB63: =IF(ISBLANK(AA63),"",SUM(AA63*$E63)) | AD63: =IF(ISBLANK(AC63),"",SUM(AC63*$E63)) | AF63: =IF(ISBLANK(AE63),"",SUM(AE63*$E63)) | AH63: =IF(IF(ISBLANK($AA63),0,SUM($AB63*$BB$21))+IF(ISBLANK($AC63),0,SUM($AD63*$BC$21))+IF(ISBLANK($AE63),0,SUM($AF63*$BD$21))=0,"",IF(ISBLANK($AA63),0,SUM($AB63*$BB$21))+IF(ISBLANK($AC63),0,SUM($AD63*$BC$21))+IF(ISBLANK($AE63),0,SUM($AF63*$BD$21))) | AI63: =IF(IF(ISBLANK($AA63),0,SUM($AB63*$BB$22))+IF(ISBLANK($AC63),0,SUM($AD63*$BC$22))+IF(ISBLANK($AE63),0,SUM($AF63*$BD$22))=0,"",IF(ISBLANK($AA63),0,SUM($AB63*$BB$22))+IF(ISBLANK($AC63),0,SUM($AD63*$BC$22))+IF(ISBLANK($AE63),0,SUM($AF63*$BD$22))) | AJ63: =IF(IF(ISBLANK($AA63),0,SUM($AB63*$BB$23))+IF(ISBLANK($AC63),0,SUM($AD63*$BC$23))+IF(ISBLANK($AE63),0,SUM($AF63*$BD$23))=0,"",IF(ISBLANK($AA63),0,SUM($AB63*$BB$23))+IF(ISBLANK($AC63),0,SUM($AD63*$BC$23))+IF(ISBLANK($AE63),0,SUM($AF63*$BD$23))) | AK63: =IF(IF(ISBLANK($AA63),0,SUM($AB63*$BB$24))+IF(ISBLANK($AC63),0,SUM($AD63*$BC$24))+IF(ISBLANK($AE63),0,SUM($AF63*$BD$24))=0,"",IF(ISBLANK($AA63),0,SUM($AB63*$BB$24))+IF(ISBLANK($AC63),0,SUM($AD63*$BC$24))+IF(ISBLANK($AE63),0,SUM($AF63*$BD$24))) | AL63: =IF(IF(ISBLANK($AA63),0,SUM($AB63*$BB$25))+IF(ISBLANK($AC63),0,SUM($AD63*$BC$25))+IF(ISBLANK($AE63),0,SUM($AF63*$BD$25))=0,"",IF(ISBLANK($AA63),0,SUM($AB63*$BB$25))+IF(ISBLANK($AC63),0,SUM($AD63*$BC$25))+IF(ISBLANK($AE63),0,SUM($AF63*$BD$25))) | AM63: =IF(IF(ISBLANK($AA63),0,SUM($AB63*$BB$26))+IF(ISBLANK($AC63),0,SUM($AD63*$BC$26))+IF(ISBLANK($AE63),0,SUM($AF63*$BD$26))=0,"",IF(ISBLANK($AA63),0,SUM($AB63*$BB$26))+IF(ISBLANK($AC63),0,SUM($AD63*$BC$26))+IF(ISBLANK($AE63),0,SUM($AF63*$BD$26))) | AN63: =IF(IF(ISBLANK($AA63),0,SUM($AB63*$BB$27))+IF(ISBLANK($AC63),0,SUM($AD63*$BC$27))+IF(ISBLANK($AE63),0,SUM($AF63*$BD$27))=0,"",IF(ISBLANK($AA63),0,SUM($AB63*$BB$27))+IF(ISBLANK($AC63),0,SUM($AD63*$BC$27))+IF(ISBLANK($AE63),0,SUM($AF63*$BD$27))) | AO63: =IF(IF(ISBLANK($AA63),0,SUM($AB63*$BB$28))+IF(ISBLANK($AC63),0,SUM($AD63*$BC$28))+IF(ISBLANK($AE63),0,SUM($AF63*$BD$28))=0,"",IF(ISBLANK($AA63),0,SUM($AB63*$BB$28))+IF(ISBLANK($AC63),0,SUM($AD63*$BC$28))+IF(ISBLANK($AE63),0,SUM($AF63*$BD$28))) | AP63: =IF(SUM(AB63,AD63,AF63)=SUM(AH63:AO63),"","K") | AQ63: =IF(SUM(L63,AH63)=0,"",SUM(L63,AH63)) | AR63: =IF(SUM(N63,AI63)=0,"",SUM(N63,AI63)) | AS63: =IF(SUM(P63,AJ63)=0,"",SUM(P63,AJ63)) | AT63: =IF(SUM(R63,AK63)=0,"",SUM(R63,AK63)) | AU63: =IF(SUM(T63,AL63)=0,"",SUM(T63,AL63)) | AV63: =IF(SUM(V63,AM63)=0,"",SUM(V63,AM63)) | AW63: =IF(SUM(X63,AN63)=0,"",SUM(X63,AN63)) | AX63: =IF(SUM(Z63,AO63)=0,"",SUM(Z63,AO63)) | AY63: =SUM(AQ63:AX63)-SUM(F63) -> 0
D64: =IF(SUM(K64,M64,O64,Q64,S64,U64,W64,Y64,AA64,AC64,AE64)=0,"",SUM(K64,M64,O64,Q64,S64,U64,W64,Y64,AA64,AC64,AE64)) | F64: =IF(OR(SUM(D64)=0,SUM(E64)=0),"",SUM(D64*E64)) | J64: =IF(SUM(K64,M64,O64,Q64,S64,U64,W64,Y64,AA64,AC64,AE64)-SUM(D64)=0,"","K") | L64: =IF(ISBLANK(K64),"",SUM(K64*$E64)) | N64: =IF(ISBLANK(M64),"",SUM(M64*$E64)) | P64: =IF(ISBLANK(O64),"",SUM(O64*$E64)) | R64: =IF(ISBLANK(Q64),"",SUM(Q64*$E64)) | T64: =IF(ISBLANK(S64),"",SUM(S64*$E64)) | V64: =IF(ISBLANK(U64),"",SUM(U64*$E64)) | X64: =IF(ISBLANK(W64),"",SUM(W64*$E64)) | Z64: =IF(ISBLANK(Y64),"",SUM(Y64*$E64)) | AB64: =IF(ISBLANK(AA64),"",SUM(AA64*$E64)) | AD64: =IF(ISBLANK(AC64),"",SUM(AC64*$E64)) | AF64: =IF(ISBLANK(AE64),"",SUM(AE64*$E64)) | AH64: =IF(IF(ISBLANK($AA64),0,SUM($AB64*$BB$21))+IF(ISBLANK($AC64),0,SUM($AD64*$BC$21))+IF(ISBLANK($AE64),0,SUM($AF64*$BD$21))=0,"",IF(ISBLANK($AA64),0,SUM($AB64*$BB$21))+IF(ISBLANK($AC64),0,SUM($AD64*$BC$21))+IF(ISBLANK($AE64),0,SUM($AF64*$BD$21))) | AI64: =IF(IF(ISBLANK($AA64),0,SUM($AB64*$BB$22))+IF(ISBLANK($AC64),0,SUM($AD64*$BC$22))+IF(ISBLANK($AE64),0,SUM($AF64*$BD$22))=0,"",IF(ISBLANK($AA64),0,SUM($AB64*$BB$22))+IF(ISBLANK($AC64),0,SUM($AD64*$BC$22))+IF(ISBLANK($AE64),0,SUM($AF64*$BD$22))) | AJ64: =IF(IF(ISBLANK($AA64),0,SUM($AB64*$BB$23))+IF(ISBLANK($AC64),0,SUM($AD64*$BC$23))+IF(ISBLANK($AE64),0,SUM($AF64*$BD$23))=0,"",IF(ISBLANK($AA64),0,SUM($AB64*$BB$23))+IF(ISBLANK($AC64),0,SUM($AD64*$BC$23))+IF(ISBLANK($AE64),0,SUM($AF64*$BD$23))) | AK64: =IF(IF(ISBLANK($AA64),0,SUM($AB64*$BB$24))+IF(ISBLANK($AC64),0,SUM($AD64*$BC$24))+IF(ISBLANK($AE64),0,SUM($AF64*$BD$24))=0,"",IF(ISBLANK($AA64),0,SUM($AB64*$BB$24))+IF(ISBLANK($AC64),0,SUM($AD64*$BC$24))+IF(ISBLANK($AE64),0,SUM($AF64*$BD$24))) | AL64: =IF(IF(ISBLANK($AA64),0,SUM($AB64*$BB$25))+IF(ISBLANK($AC64),0,SUM($AD64*$BC$25))+IF(ISBLANK($AE64),0,SUM($AF64*$BD$25))=0,"",IF(ISBLANK($AA64),0,SUM($AB64*$BB$25))+IF(ISBLANK($AC64),0,SUM($AD64*$BC$25))+IF(ISBLANK($AE64),0,SUM($AF64*$BD$25))) | AM64: =IF(IF(ISBLANK($AA64),0,SUM($AB64*$BB$26))+IF(ISBLANK($AC64),0,SUM($AD64*$BC$26))+IF(ISBLANK($AE64),0,SUM($AF64*$BD$26))=0,"",IF(ISBLANK($AA64),0,SUM($AB64*$BB$26))+IF(ISBLANK($AC64),0,SUM($AD64*$BC$26))+IF(ISBLANK($AE64),0,SUM($AF64*$BD$26))) | AN64: =IF(IF(ISBLANK($AA64),0,SUM($AB64*$BB$27))+IF(ISBLANK($AC64),0,SUM($AD64*$BC$27))+IF(ISBLANK($AE64),0,SUM($AF64*$BD$27))=0,"",IF(ISBLANK($AA64),0,SUM($AB64*$BB$27))+IF(ISBLANK($AC64),0,SUM($AD64*$BC$27))+IF(ISBLANK($AE64),0,SUM($AF64*$BD$27))) | AO64: =IF(IF(ISBLANK($AA64),0,SUM($AB64*$BB$28))+IF(ISBLANK($AC64),0,SUM($AD64*$BC$28))+IF(ISBLANK($AE64),0,SUM($AF64*$BD$28))=0,"",IF(ISBLANK($AA64),0,SUM($AB64*$BB$28))+IF(ISBLANK($AC64),0,SUM($AD64*$BC$28))+IF(ISBLANK($AE64),0,SUM($AF64*$BD$28))) | AP64: =IF(SUM(AB64,AD64,AF64)=SUM(AH64:AO64),"","K") | AQ64: =IF(SUM(L64,AH64)=0,"",SUM(L64,AH64)) | AR64: =IF(SUM(N64,AI64)=0,"",SUM(N64,AI64)) | AS64: =IF(SUM(P64,AJ64)=0,"",SUM(P64,AJ64)) | AT64: =IF(SUM(R64,AK64)=0,"",SUM(R64,AK64)) | AU64: =IF(SUM(T64,AL64)=0,"",SUM(T64,AL64)) | AV64: =IF(SUM(V64,AM64)=0,"",SUM(V64,AM64)) | AW64: =IF(SUM(X64,AN64)=0,"",SUM(X64,AN64)) | AX64: =IF(SUM(Z64,AO64)=0,"",SUM(Z64,AO64)) | AY64: =SUM(AQ64:AX64)-SUM(F64) -> 0
